BEGIN:VCALENDAR
VERSION:2.0
PRODID:-//Miedema Auctioneering &amp; Appraisals, Inc. - ECPv6.0.5//NONSGML v1.0//EN
CALSCALE:GREGORIAN
METHOD:PUBLISH
X-ORIGINAL-URL:https://www.miedemaauctioneering.com
X-WR-CALDESC:Events for Miedema Auctioneering &amp; Appraisals, Inc.
REFRESH-INTERVAL;VALUE=DURATION:PT1H
X-Robots-Tag:noindex
X-PUBLISHED-TTL:PT1H
BEGIN:VTIMEZONE
TZID:America/Detroit
BEGIN:DAYLIGHT
TZOFFSETFROM:-0500
TZOFFSETTO:-0400
TZNAME:EDT
DTSTART:20180311T070000
END:DAYLIGHT
BEGIN:STANDARD
TZOFFSETFROM:-0400
TZOFFSETTO:-0500
TZNAME:EST
DTSTART:20181104T060000
END:STANDARD
END:VTIMEZONE
BEGIN:VEVENT
DTSTART;TZID=America/Detroit:20181205T100000
DTEND;TZID=America/Detroit:20181205T233000
DTSTAMP:20260419T211223
CREATED:20181011T190908Z
LAST-MODIFIED:20190115T204328Z
UID:10000440-1544004000-1544052600@www.miedemaauctioneering.com
SUMMARY:WPI\, LLC (plastic injection molding shop) Liquidation of Grand Haven Facility 12/5/18
DESCRIPTION:Description:\nWPI\, LLC (Plastic Injection Molding Shop) is moving operations and completely liquidating the machinery and equipment at the Spring Lake Michigan location. All assets will be auctioned to the highest bidder. Miedema Auctioneering in conjunction with Aaron Equipment Company will be conducting a live auction with internet bidding on Wednesday December 5\, 2018 at 10:00am***Items are available for pre-auction purchase. Inspection via appointment only For questions regarding this please call Chuck Ranney 616-560-0839 or Brennen Lubbers 616-265-6842.*** \nAuction highlights: (38) Complete Injection Molding Machines Including -(2) Engel 1500-Ton Injection Molding Machines\, 935-Ton Cincinnati Milacron Injection Molding Machine\, Engel 1400-Ton Injection Molding Machine\, 2012 Cincinnati Milacron E175 Injection Molding Machine\, JSW 310-Ton Injection Molding Machine\, (4) Toshiba 500-Ton Injection Molding Machines\, and more; Charmilles Roboform 40 Electrode EDM\, Chevalier Vertical Milling Machine; a full tool room; large inventory of plastic totes\, Heavy Duty Fork Lift Trucks\, Semi Truck\, Semi -Trailers and large lots of Auxiliary Components for the Injection Molding Presses. Don’t miss this opportunity to bid on and purchase these very clean and well maintained molding machines.\nPreview will be available the day before the auction from 9am – 4pm\, and auction day. For additional and/or early preview\, please call Chuck Ranney 616-560-0839 or Brennen Lubbers 616-265-6842 or Anthony Tufano 630-740-5705. \nITEMS ARE AVAILABLE FOR PRESALE PRIOR TO AUCTION \nAuction Directions: M-104 TO 150th Street go south towards the end of the street \n\n\nENTER AUCTIONRegister to Bid Online\nAuction Catalog\nAuction Brochure\nTerms & Conditions \nRiggers & Haulers:\nEriksons Riggers & Haulers \n\n\nAuction Photos: \n\n			\n				\n			\n			\n				\n			\n			\n				\n			\n			\n				\n			\n			\n				\n			\n			\n				\n			\n			\n				\n			\n			\n				\n			\n			\n				\n			\n			\n				\n			\n			\n				\n			\n			\n				\n			\n			\n				\n			\n			\n				\n			\n			\n				\n			\n			\n				\n			\n			\n				\n			\n			\n				\n			\n			\n				\n			\n			\n				\n			\n			\n				\n			\n			\n				\n			\n			\n				\n			\n			\n				\n			\n			\n				\n			\n			\n				\n			\n			\n				\n			\n			\n				\n			\n			\n				\n			\n			\n				\n			\n			\n				\n			\n			\n				\n			\n			\n				\n			\n			\n				\n			\n			\n				\n			\n			\n				\n			\n			\n				\n			\n			\n				\n			\n			\n				\n			\n			\n				\n			\n			\n				\n			\n			\n				\n			\n			\n				\n			\n			\n				\n			\n			\n				\n			\n			\n				\n			\n			\n				\n			\n			\n				\n			\n			\n				\n			\n			\n				\n			\n			\n				\n			\n			\n				\n			\n			\n				\n			\n			\n				\n			\n			\n				\n			\n			\n				\n			\n			\n				\n			\n			\n				\n			\n			\n				\n			\n			\n				\n			\n			\n				\n			\n			\n				\n			\n			\n				\n			\n			\n				\n			\n			\n				\n			\n			\n				\n			\n			\n				\n			\n			\n				\n			\n			\n				\n			\n			\n				\n			\n			\n				\n			\n			\n				\n			\n			\n				\n			\n			\n				\n			\n			\n				\n			\n			\n				\n			\n			\n				\n			\n			\n				\n			\n			\n				\n			\n			\n				\n			\n			\n				\n			\n			\n				\n			\n			\n				\n			\n			\n				\n			\n			\n				\n			\n			\n				\n			\n			\n				\n			\n			\n				\n			\n			\n				\n			\n			\n				\n			\n			\n				\n			\n			\n				\n			\n			\n				\n			\n			\n				\n			\n			\n				\n			\n			\n				\n			\n			\n				\n			\n			\n				\n			\n			\n				\n			\n			\n				\n			\n			\n				\n			\n			\n				\n			\n			\n				\n			\n			\n				\n			\n			\n				\n			\n			\n				\n			\n			\n				\n			\n			\n				\n			\n			\n				\n			\n			\n				\n			\n			\n				\n			\n			\n				\n			\n			\n				\n			\n			\n				\n			\n			\n				\n			\n			\n				\n			\n			\n				\n			\n			\n				\n			\n			\n				\n			\n			\n				\n			\n			\n				\n			\n			\n				\n			\n			\n				\n			\n			\n				\n			\n		\n\n  \nTERMS & CONDITIONS\nInspection: \n\nPreview will be December 4 from 9am – 4pm\, and auction day. For additional and/or early preview\, please call Chuck Ranney 616-560-0839 or Brennen Lubbers 616-265-6842\n\nRemoval Times/Failure To Remove: \n\nAuction day\nThursday December 6 through Thursday December 13th from 9-5\nEverything must be removed by Friday December 21 by 5 pm\n\nLoading: \n\nWe will have a small forklift for light duty loading until Tuesday December 11 at 4pm\nLoading Dock available\n\nRiggers & Haulers: \n\nEriksons Riggers & Haulers\n\nSales Tax: \n\nAll items will be charged 6% Michigan State Sales Tax. Titled vehicles will be charged Michigan State Sales Tax\, unless you provide our office with a copy of a valid dealer’s license (NO EXCEPTIONS). For exemption from sales tax on agricultural items\, buyers will need to sign an agricultural exemption statement.\n\nBuyers of Titled Vehicles: \n\nState regulations require that we broker all vehicles sold\, therefore you must sign your paperwork in the auction office. A $125 title broker fee will be charged for paperwork. In addition\, a $15 State of Michigan title application fee will be collected for the state of Michigan (Dealers are exempt from the title application fee ONLY). Miedema Auctioneering will then process your title. If you wish to plate your vehicle there will be an additional fee. Proof of insurance will need to be provided for removal.\n\nTerms: \n\nAll items sell “AS IS\, WHERE IS” with no warranty. There shall be no guarantees or warranties\, expressed or implied\, statutory or otherwise as to the merchantability or fitness for any particular purpose of any goods offered in this sale.\n\nBuyer’s Premium: \n\nOnsite buyers: 18% with a 3% discount on Buyer’s Premium when invoice is paid with cash or check onsite\nBidSpotter buyers: 22% with a 3% discount on Buyer’s Premium when invoice is paid with cash\, check or wire transfer\n\nPayment: \n\nAuction day by cash\, cashier’s check\, Visa\, Mastercard\, & personal check (Personal checks will be accepted at the auction company’s discretion.)\nOut-of-state checks MUST have a bank letter of credit GUARANTEEING payment to MIEDEMA AUCTIONEERING INC. for this auction and the amount of funds being guaranteed. See guarantee form HERE\n\nAll written material is subject to change. Announcements made day of sale take precedence over printed material.
URL:https://www.miedemaauctioneering.com/auction-calendar/wpi-llc-plastic-injection-molding-shop-complete-liquidation/
LOCATION:WPI\, LLC\, 16702 150th Ave.\, Spring Lake\, MI\, 49456\, United States
CATEGORIES:Live and Online Webcast Auction
ATTACH;FMTTYPE=image/jpeg:https://miedemaauctioneering.s3.amazonaws.com/wp-content/uploads/2018/10/18153341/IMG_14531.jpg
ORGANIZER;CN="Brennen%20Lubbers":MAILTO:brennen@1800lastbid.com
GEO:43.0718185;-86.1588019
X-APPLE-STRUCTURED-LOCATION;VALUE=URI;X-ADDRESS=WPI LLC 16702 150th Ave. Spring Lake MI 49456 United States;X-APPLE-RADIUS=500;X-TITLE=16702 150th Ave.:geo:-86.1588019,43.0718185
END:VEVENT
END:VCALENDAR