BEGIN:VCALENDAR
VERSION:2.0
PRODID:-//Miedema Auctioneering &amp; Appraisals, Inc. - ECPv6.0.5//NONSGML v1.0//EN
CALSCALE:GREGORIAN
METHOD:PUBLISH
X-WR-CALNAME:Miedema Auctioneering &amp; Appraisals, Inc.
X-ORIGINAL-URL:https://www.miedemaauctioneering.com
X-WR-CALDESC:Events for Miedema Auctioneering &amp; Appraisals, Inc.
REFRESH-INTERVAL;VALUE=DURATION:PT1H
X-Robots-Tag:noindex
X-PUBLISHED-TTL:PT1H
BEGIN:VTIMEZONE
TZID:America/Detroit
BEGIN:DAYLIGHT
TZOFFSETFROM:-0500
TZOFFSETTO:-0400
TZNAME:EDT
DTSTART:20170312T070000
END:DAYLIGHT
BEGIN:STANDARD
TZOFFSETFROM:-0400
TZOFFSETTO:-0500
TZNAME:EST
DTSTART:20171105T060000
END:STANDARD
END:VTIMEZONE
BEGIN:VEVENT
DTSTART;TZID=America/Detroit:20170411T080000
DTEND;TZID=America/Detroit:20170411T140000
DTSTAMP:20260420T123050
CREATED:20170309T165749Z
LAST-MODIFIED:20200122T181937Z
UID:10000191-1491897600-1491919200@www.miedemaauctioneering.com
SUMMARY:35 Acres\, Stoney Corners Rd. Mc Bain Michigan ONLINE ONLY AUCTION
DESCRIPTION:Township: Richland Township\nCounty: Missaukee County\nPP#: 013-023-015-00 \nSEV: $56\,600 (2016)\nTaxable Value: $15\,333 (2016)\nType: Lots/Land\nSchool District: McBain Rural Agricultural School\nAcres: 35 \nLocal Municipal Link: http://www.missaukee.org/local_government/richland_township/index.html\nOpen for Viewing: Vacant Land\, walk any time.\nGeneral Description: MCBAIN\, MI ~ 35 Acres Vacant Farm Land ~ Online Real Estate Auction featuring 35 +/- acres of farm ground in a great location approximately 1 mile west of McBain. Situated on the NW corner of the Stoney Corners Rd. and Green Rd. intersection\, this good-producing land is in the heart of a prime agricultural community. The gently rolling terrain is currently sectioned into alternating tracts of corn and hay. The property is currently enrolled in PA-116. Approximately 33 acres are tillable. \n\nTax Map\nBroker Participation Form\nTerms\n\n\n\nENTER ONLINE AUCTION\n\nAuction Photos: \n\n			\n				\n			\n			\n				\n			\n			\n				\n			\n			\n				\n			\n			\n				\n			\n			\n				\n			\n			\n				\n			\n			\n				\n			\n			\n				\n			\n			\n				\n			\n			\n				\n			\n		\n\n 
URL:https://www.miedemaauctioneering.com/auction-calendar/35-acres-stoney-corners-rd-mc-bain-michigan-online-only-auction/
LOCATION:Vacant Land\, Stoney Corners Rd.\, Mc Bain\, MI\, 49657\, United States
CATEGORIES:Online Only Auction
ATTACH;FMTTYPE=image/jpeg:https://miedemaauctioneering.s3.amazonaws.com/wp-content/uploads/2017/03/09102225/1.jpg
ORGANIZER;CN="Dan%20Shaarda%20-%20Auction%20Manager":MAILTO:dshaarda@1800lastbid.com
GEO:44.1939199;-85.2796316
X-APPLE-STRUCTURED-LOCATION;VALUE=URI;X-ADDRESS=Vacant Land Stoney Corners Rd. Mc Bain MI 49657 United States;X-APPLE-RADIUS=500;X-TITLE=Stoney Corners Rd.:geo:-85.2796316,44.1939199
END:VEVENT
END:VCALENDAR