BEGIN:VCALENDAR
VERSION:2.0
PRODID:-//Miedema Auctioneering &amp; Appraisals, Inc. - ECPv6.0.5//NONSGML v1.0//EN
CALSCALE:GREGORIAN
METHOD:PUBLISH
X-WR-CALNAME:Miedema Auctioneering &amp; Appraisals, Inc.
X-ORIGINAL-URL:https://www.miedemaauctioneering.com
X-WR-CALDESC:Events for Miedema Auctioneering &amp; Appraisals, Inc.
REFRESH-INTERVAL;VALUE=DURATION:PT1H
X-Robots-Tag:noindex
X-PUBLISHED-TTL:PT1H
BEGIN:VTIMEZONE
TZID:America/Detroit
BEGIN:DAYLIGHT
TZOFFSETFROM:-0500
TZOFFSETTO:-0400
TZNAME:EDT
DTSTART:20180311T070000
END:DAYLIGHT
BEGIN:STANDARD
TZOFFSETFROM:-0400
TZOFFSETTO:-0500
TZNAME:EST
DTSTART:20181104T060000
END:STANDARD
END:VTIMEZONE
BEGIN:VEVENT
DTSTART;TZID=America/Detroit:20181009T080000
DTEND;TZID=America/Detroit:20181009T233000
DTSTAMP:20260420T010553
CREATED:20180815T144800Z
LAST-MODIFIED:20181002T200615Z
UID:10000431-1539072000-1539127800@www.miedemaauctioneering.com
SUMMARY:Sumners Blueberry Farms - Orbitbid.com Online Auction
DESCRIPTION: \nDescription:\nSumners Blueberry Farms have closed their business to pursue other opportunities. They have hired Orbitbid.com to sell their equipment with a one day Online Auction on Tuesday October 9th starting at 8:00am. \nHighlights include: John Deere 5103 w/Loader only 398 hours\, John Deere 5500 Tractor\, BEI Blueberry Harvester\, Jatco Sprayer\, Rototiller\, Brush Hog\, Shop Tools and more. \n\n\nENTER AUCTION\nRegister to Bid Online\nAuction Photos:
URL:https://www.miedemaauctioneering.com/auction-calendar/sumners-blueberry-farms-orbitbid-com-online-auction/
LOCATION:Sumners Blueberry Farms\, 675 55th Street\, Pullman\, MI\, 49450\, United States
CATEGORIES:Online Only Auction
ATTACH;FMTTYPE=image/jpeg:https://miedemaauctioneering.s3.amazonaws.com/wp-content/uploads/2018/08/12120259/19.jpg
ORGANIZER;CN="Chuck%20Ranney%20-%20Auction%20Manager":MAILTO:chuck@1800lastbid.com
GEO:42.4681284;-86.0796857
X-APPLE-STRUCTURED-LOCATION;VALUE=URI;X-ADDRESS=Sumners Blueberry Farms 675 55th Street Pullman MI 49450 United States;X-APPLE-RADIUS=500;X-TITLE=675 55th Street:geo:-86.0796857,42.4681284
END:VEVENT
END:VCALENDAR