BEGIN:VCALENDAR
VERSION:2.0
PRODID:-//Miedema Auctioneering &amp; Appraisals, Inc. - ECPv6.0.5//NONSGML v1.0//EN
CALSCALE:GREGORIAN
METHOD:PUBLISH
X-ORIGINAL-URL:https://www.miedemaauctioneering.com
X-WR-CALDESC:Events for Miedema Auctioneering &amp; Appraisals, Inc.
REFRESH-INTERVAL;VALUE=DURATION:PT1H
X-Robots-Tag:noindex
X-PUBLISHED-TTL:PT1H
BEGIN:VTIMEZONE
TZID:America/Detroit
BEGIN:DAYLIGHT
TZOFFSETFROM:-0500
TZOFFSETTO:-0400
TZNAME:EDT
DTSTART:20190310T070000
END:DAYLIGHT
BEGIN:STANDARD
TZOFFSETFROM:-0400
TZOFFSETTO:-0500
TZNAME:EST
DTSTART:20191103T060000
END:STANDARD
END:VTIMEZONE
BEGIN:VEVENT
DTSTART;TZID=America/Detroit:20190611T090000
DTEND;TZID=America/Detroit:20190611T233000
DTSTAMP:20260419T173659
CREATED:20190419T190605Z
LAST-MODIFIED:20191113T200034Z
UID:10000244-1560243600-1560295800@www.miedemaauctioneering.com
SUMMARY:Spiech Farms
DESCRIPTION: \nDescription:\nBy order of secured creditor and US Bankruptcy Court\, Miedema Auctioneering will be conducting a live auction with internet bidding on Tuesday\, June 11\, 2019 at 9:00. Highlights include complete packing lines\, packing Equipment\, Tractors\, Forklifts\, support Equipment\, Field Equipment plus much more. Don’t miss this great opportunity. \n**Note Early Start Time** \n\nENTER AUCTION \nMOBILE DEVICES ENTER AUCTION \nRegister to Bid Online\nAuction Brochure\nAuction Catalog\nRiggers & Haulers\nTerms & Conditions \nAuction Photos:\n\n			\n				\n			\n			\n				\n			\n			\n				\n			\n			\n				\n			\n			\n				\n			\n			\n				\n			\n			\n				\n			\n			\n				\n			\n			\n				\n			\n			\n				\n			\n			\n				\n			\n			\n				\n			\n			\n				\n			\n			\n				\n			\n			\n				\n			\n			\n				\n			\n			\n				\n			\n			\n				\n			\n			\n				\n			\n			\n				\n			\n			\n				\n			\n			\n				\n			\n			\n				\n			\n			\n				\n			\n			\n				\n			\n			\n				\n			\n			\n				\n			\n			\n				\n			\n			\n				\n			\n			\n				\n			\n		\n \nTERMS & CONDITIONS\nInspection: \n\nMonday\, June 10\, 2019 from 9-4\n\nRemoval Times/Failure To Remove: \n\nAuction day till 5:00pm\nWednesday thru Friday from 9-4\n\nLoading: \n\nForklift available\n\nSales Tax: \n\nAll items will be charged 6% Michigan State Sales Tax. Titled vehicles will be charged Michigan State Sales Tax\, unless you provide our office with a copy of a valid dealer’s license (NO EXCEPTIONS). For exemption from sales tax on agricultural items\, buyers will need to sign an agricultural exemption statement. \n\nBuyers of Titled Vehicles: \n\nState regulations require that we broker all vehicles sold\, therefore you must sign your paperwork in the auction office. A $125 title broker fee will be charged for paperwork. In addition\, a $15 State of Michigan title application fee will be collected for the state of Michigan (Dealers are exempt from the title application fee ONLY). Miedema Auctioneering will then process your title. If you wish to plate your vehicle there will be an additional fee. Proof of insurance will need to be provided for removal.\n\nTerms: \n\nAll items sell “AS IS\, WHERE IS” with no warranty. There shall be no guarantees or warranties\, expressed or implied\, statutory or otherwise as to the merchantability or fitness for any particular purpose of any goods offered in this sale.\n\nBuyer’s Premium: \n\nOnsite buyers: 3% discount on Buyer’s Premium if paid by cash or check.\nProxibid buyers: 6% with a 3% discount on Buyer’s Premium when invoice is paid with cash\, check or wire transfer\n\nPayment: \n\nAuction day by cash\, cashier’s check\, Visa\, Mastercard\, & personal check (Personal checks will be accepted at the auction company’s discretion.)\n3% Buyer’s Premium is added to the high bid. This 3% is waived if paid by cash or check.\nOut-of-state checks MUST have a bank letter of credit GUARANTEEING payment to MIEDEMA AUCTIONEERING INC. for this auction and the amount of funds being guaranteed. See guarantee form HERE\n\nAll written material is subject to change. Announcements made day of sale take precedence over printed material.
URL:https://www.miedemaauctioneering.com/auction-calendar/spiech-farms/
LOCATION:Spiech Farms\, 61675 M40 HWY\, Paw Paw\, MI\, 48471\, United States
CATEGORIES:Live and Online Webcast Auction
ATTACH;FMTTYPE=image/jpeg:https://miedemaauctioneering.s3.amazonaws.com/wp-content/uploads/2019/05/21193205/IMG_2644.jpg.jpg
ORGANIZER;CN="Chuck%20Ranney%20-%20Auction%20Manager":MAILTO:chuck@1800lastbid.com
GEO:42.1954546;-85.8639567
X-APPLE-STRUCTURED-LOCATION;VALUE=URI;X-ADDRESS=Spiech Farms 61675 M40 HWY Paw Paw MI 48471 United States;X-APPLE-RADIUS=500;X-TITLE=61675 M40 HWY:geo:-85.8639567,42.1954546
END:VEVENT
END:VCALENDAR