BEGIN:VCALENDAR
VERSION:2.0
PRODID:-//Miedema Auctioneering &amp; Appraisals, Inc. - ECPv6.0.5//NONSGML v1.0//EN
CALSCALE:GREGORIAN
METHOD:PUBLISH
X-ORIGINAL-URL:https://www.miedemaauctioneering.com
X-WR-CALDESC:Events for Miedema Auctioneering &amp; Appraisals, Inc.
REFRESH-INTERVAL;VALUE=DURATION:PT1H
X-Robots-Tag:noindex
X-PUBLISHED-TTL:PT1H
BEGIN:VTIMEZONE
TZID:America/Detroit
BEGIN:DAYLIGHT
TZOFFSETFROM:-0500
TZOFFSETTO:-0400
TZNAME:EDT
DTSTART:20200308T070000
END:DAYLIGHT
BEGIN:STANDARD
TZOFFSETFROM:-0400
TZOFFSETTO:-0500
TZNAME:EST
DTSTART:20201101T060000
END:STANDARD
END:VTIMEZONE
BEGIN:VEVENT
DTSTART;TZID=America/Detroit:20200812T080000
DTEND;TZID=America/Detroit:20200812T233000
DTSTAMP:20260419T180418
CREATED:20200626T154220Z
LAST-MODIFIED:20201021T115741Z
UID:10000547-1597219200-1597275000@www.miedemaauctioneering.com
SUMMARY:Muskegon County Specialty Municipality Auction 8/12/20 (ONLINE AUCTION: Rangerbid.com)
DESCRIPTION:Description:\nMICHIGAN: Muskegon County has contracted with Rangerbid.com and will be selling two municipal owned JD 9410R 4WD tractors via online auction and Rangerbid.com’s “Proven Success in the Global Marketplace”. This is a one-day online auction is scheduled for Tuesday\, August 12\, 2020 beginning at 8 a.m. and lots will begin closing at 8 p.m. that same day. Open to the Public. Refer to item details for inspection & removal information. Based on location\, inspection & removal require an appointment.ENTER AUCTION\nRegister to Bid Online
URL:https://www.miedemaauctioneering.com/auction-calendar/rangerbid-com-specialty-municipality-auction/
LOCATION:Specialty Municipality Auction\, MI\, United States
CATEGORIES:Online Only Auction
ATTACH;FMTTYPE=image/jpeg:https://miedemaauctioneering.s3.amazonaws.com/wp-content/uploads/2020/06/07082557/9d60e8c8ab54f1ed03124f3abb6d26a3.jpg
ORGANIZER;CN="Joel%20Kooienga%20-%20Rangerbid.com":MAILTO:Jkooienga@1800lastbid.com
GEO:44.3148443;-85.6023643
END:VEVENT
END:VCALENDAR