BEGIN:VCALENDAR
VERSION:2.0
PRODID:-//Miedema Auctioneering &amp; Appraisals, Inc. - ECPv6.0.5//NONSGML v1.0//EN
CALSCALE:GREGORIAN
METHOD:PUBLISH
X-ORIGINAL-URL:https://www.miedemaauctioneering.com
X-WR-CALDESC:Events for Miedema Auctioneering &amp; Appraisals, Inc.
REFRESH-INTERVAL;VALUE=DURATION:PT1H
X-Robots-Tag:noindex
X-PUBLISHED-TTL:PT1H
BEGIN:VTIMEZONE
TZID:America/Detroit
BEGIN:DAYLIGHT
TZOFFSETFROM:-0500
TZOFFSETTO:-0400
TZNAME:EDT
DTSTART:20160313T070000
END:DAYLIGHT
BEGIN:STANDARD
TZOFFSETFROM:-0400
TZOFFSETTO:-0500
TZNAME:EST
DTSTART:20161106T060000
END:STANDARD
END:VTIMEZONE
BEGIN:VEVENT
DTSTART;TZID=America/Detroit:20160123T110000
DTEND;TZID=America/Detroit:20160123T110000
DTSTAMP:20260420T004913
CREATED:20151211T170217Z
LAST-MODIFIED:20200207T212018Z
UID:10000001-1453546800-1453546800@www.miedemaauctioneering.com
SUMMARY:Glen & Tom Salmon Farm Equipment Auction
DESCRIPTION:View Auction Results \n  \n\nThe Salmons have decided to discontinue farming. Glen and Tom have been farming as a father and son team for many years\, and now will be selling their equipment together at this auction. Highlights include: JD 8770\, 8440\, 4630\, 4230 and 4020 Tractors\, JD1750 Planter and 750 Drill\, JD 9500 Combine\, Plus tillage\, Grain\, and other farm equipment.\n\nInspection Times \n\nFriday\, January 22\, 2016 9:00 to 4:00pm\n\nRemoval Times/Failure To Remove \n\nDay of auction till 5:00 (Saturday\, January 23\, 2016)\, or by appointment\n\nBuyer’s Premium \n\nOnsite Buyers: Buyer’s Premium of 3% will be added to purchases; with a 3% discount for paying with cash\, personal or company check\, or wire transfer**\nProxibid Buyers: Buyer’s Premium of 6% will be added to purchases; with a 3% discount for paying with cash\, personal or company check\, or wire transfer**\n\nTypes of Payment \n\nCash (3% discount when paying with cash)\, Good Check\, Cashier’s Check\, Credit Card\n\nRefund Policy \n\nNO REFUNDS\, RETURNS\, OR EXCHANGES. All items sold “AS IS WHERE IS” with all faults.\n\nForklift and Loading Dock \n\nLight duty loading forklift available on auction day (Saturday\, January 23\, 2016)\n\n 
URL:https://www.miedemaauctioneering.com/auction-calendar/glen-tom-salmon-farm-equipment-auction/
LOCATION:Salmon Farm\, 1484 19th St.\, Otsego\, MI\, 49078\, United States
CATEGORIES:Live Auction
ATTACH;FMTTYPE=image/jpeg:https://miedemaauctioneering.s3.amazonaws.com/wp-content/uploads/2016/01/11052125/Salmon-2.jpg
ORGANIZER;CN="Chuck%20Ranney%20-%20Auction%20Manager":MAILTO:chuck@1800lastbid.com
GEO:42.5286887;-85.7307629
X-APPLE-STRUCTURED-LOCATION;VALUE=URI;X-ADDRESS=Salmon Farm 1484 19th St. Otsego MI 49078 United States;X-APPLE-RADIUS=500;X-TITLE=1484 19th St.:geo:-85.7307629,42.5286887
END:VEVENT
END:VCALENDAR