BEGIN:VCALENDAR
VERSION:2.0
PRODID:-//Miedema Auctioneering &amp; Appraisals, Inc. - ECPv6.0.5//NONSGML v1.0//EN
CALSCALE:GREGORIAN
METHOD:PUBLISH
X-ORIGINAL-URL:https://www.miedemaauctioneering.com
X-WR-CALDESC:Events for Miedema Auctioneering &amp; Appraisals, Inc.
REFRESH-INTERVAL;VALUE=DURATION:PT1H
X-Robots-Tag:noindex
X-PUBLISHED-TTL:PT1H
BEGIN:VTIMEZONE
TZID:America/Detroit
BEGIN:DAYLIGHT
TZOFFSETFROM:-0500
TZOFFSETTO:-0400
TZNAME:EDT
DTSTART:20190310T070000
END:DAYLIGHT
BEGIN:STANDARD
TZOFFSETFROM:-0400
TZOFFSETTO:-0500
TZNAME:EST
DTSTART:20191103T060000
END:STANDARD
END:VTIMEZONE
BEGIN:VEVENT
DTSTART;TZID=America/Detroit:20190917T080000
DTEND;TZID=America/Detroit:20190917T233000
DTSTAMP:20260420T025224
CREATED:20190910T141228Z
LAST-MODIFIED:20191009T183806Z
UID:10000459-1568707200-1568763000@www.miedemaauctioneering.com
SUMMARY:Phenicie Family Auction - Equipment\, Antiques and Household Goods (an Orbitbid.com auction)
DESCRIPTION:Having retired\, Lee and Denise Phenicie have decided to sell equipment\, tools\, antiques and household goods with Orbitbid via online auction. Highlights include: John Deere 280 Skidsteer with 326 Hours\, John Deere 110 TLB Tractor Loader Backhoe with 76 Hours\, many attachments including forks\, buckets\, hydraulic hammer\, post hole auger and implements including back blades\, John Deere Disc\, and more!\nThe auction will also include a large assortment of tools and household items.\n\nENTER AUCTION\nRegister to Bid Online
URL:https://www.miedemaauctioneering.com/auction-calendar/phenicie-family-auction-equipment-antiques-and-household-goods-an-orbitbid-com-auction/
LOCATION:Phenicie Family Auction\, 12102 Raelyn Drive\, Perry\, MI\, 48872\, United States
CATEGORIES:Online Only Auction
ATTACH;FMTTYPE=image/png:https://miedemaauctioneering.s3.amazonaws.com/wp-content/uploads/2019/09/12112940/Phenicie-Family-Auction.png
ORGANIZER;CN="Jeremy%20Miedema%20-%20Auction%20Manager":MAILTO:jeremy@1800lastbid.com
GEO:42.818644;-84.2654248
X-APPLE-STRUCTURED-LOCATION;VALUE=URI;X-ADDRESS=Phenicie Family Auction 12102 Raelyn Drive Perry MI 48872 United States;X-APPLE-RADIUS=500;X-TITLE=12102 Raelyn Drive:geo:-84.2654248,42.818644
END:VEVENT
END:VCALENDAR