BEGIN:VCALENDAR
VERSION:2.0
PRODID:-//Miedema Auctioneering &amp; Appraisals, Inc. - ECPv6.0.5//NONSGML v1.0//EN
CALSCALE:GREGORIAN
METHOD:PUBLISH
X-ORIGINAL-URL:https://www.miedemaauctioneering.com
X-WR-CALDESC:Events for Miedema Auctioneering &amp; Appraisals, Inc.
REFRESH-INTERVAL;VALUE=DURATION:PT1H
X-Robots-Tag:noindex
X-PUBLISHED-TTL:PT1H
BEGIN:VTIMEZONE
TZID:America/Detroit
BEGIN:DAYLIGHT
TZOFFSETFROM:-0500
TZOFFSETTO:-0400
TZNAME:EDT
DTSTART:20190310T070000
END:DAYLIGHT
BEGIN:STANDARD
TZOFFSETFROM:-0400
TZOFFSETTO:-0500
TZNAME:EST
DTSTART:20191103T060000
END:STANDARD
END:VTIMEZONE
BEGIN:VEVENT
DTSTART;TZID=America/Detroit:20191015T080000
DTEND;TZID=America/Detroit:20191015T233000
DTSTAMP:20260420T043910
CREATED:20190701T131428Z
LAST-MODIFIED:20191021T142958Z
UID:10000250-1571126400-1571182200@www.miedemaauctioneering.com
SUMMARY:Paul R. Grill Farm Equipment Liquidation Auction **ORBITBID.COM ONLINE AUCTION**
DESCRIPTION:Description:\nAfter successfully farming for over 46 years\, Mr Paul Grill has decided to retire and will be selling his full line up of farm equipment plus a parcel of real estate with farm buildings and grain bins at an online bidding auction with Orbitbid.com. Auction highlights include: JD 9770 Combine\, 4wd\, duals\, appx 1150 separator hours\, with Drago 8-30″ chopping corn head\, JD tractors including 8970 4WD\, 8640 4WD\,8630 4WD\, 4640\, 4630\, 4230\, Trucks trailers: Freightliner semi with 38′ hopper bottom\, Volvo semi with 42′ hopper bottom\, Kinze 2600 16 row planter\, Case 580C backhoe\, plus much more! \n\n\nENTER AUCTION\nRegister to Bid Online 
URL:https://www.miedemaauctioneering.com/auction-calendar/paul-r-grill-farm-equipment-liquidation-auction-online-auction/
LOCATION:Paul R. Grill Farm\, 3663 Lovejoy Rd\, Byron\, MI\, 48418\, United States
CATEGORIES:Online Only Auction
ATTACH;FMTTYPE=image/jpeg:https://miedemaauctioneering.s3.amazonaws.com/wp-content/uploads/2019/07/14102140/a.jpg
ORGANIZER;CN="Dave%20VanEe%20-%20Operations%20Manager":MAILTO:dvanee@orbitbid.com
GEO:42.7783212;-84.085732
X-APPLE-STRUCTURED-LOCATION;VALUE=URI;X-ADDRESS=Paul R. Grill Farm 3663 Lovejoy Rd Byron MI 48418 United States;X-APPLE-RADIUS=500;X-TITLE=3663 Lovejoy Rd:geo:-84.085732,42.7783212
END:VEVENT
END:VCALENDAR