BEGIN:VCALENDAR
VERSION:2.0
PRODID:-//Miedema Auctioneering &amp; Appraisals, Inc. - ECPv6.0.5//NONSGML v1.0//EN
CALSCALE:GREGORIAN
METHOD:PUBLISH
X-ORIGINAL-URL:https://www.miedemaauctioneering.com
X-WR-CALDESC:Events for Miedema Auctioneering &amp; Appraisals, Inc.
REFRESH-INTERVAL;VALUE=DURATION:PT1H
X-Robots-Tag:noindex
X-PUBLISHED-TTL:PT1H
BEGIN:VTIMEZONE
TZID:America/Detroit
BEGIN:DAYLIGHT
TZOFFSETFROM:-0500
TZOFFSETTO:-0400
TZNAME:EDT
DTSTART:20190310T070000
END:DAYLIGHT
BEGIN:STANDARD
TZOFFSETFROM:-0400
TZOFFSETTO:-0500
TZNAME:EST
DTSTART:20191103T060000
END:STANDARD
END:VTIMEZONE
BEGIN:VEVENT
DTSTART;TZID=America/Detroit:20190924T080000
DTEND;TZID=America/Detroit:20190924T170000
DTSTAMP:20260420T080914
CREATED:20190910T134413Z
LAST-MODIFIED:20191021T143202Z
UID:10000456-1569312000-1569344400@www.miedemaauctioneering.com
SUMMARY:Olsen Bros. Transportation - Complete Liquidation 9/24/19 (an Orbitbid.com auction)
DESCRIPTION:By order of secured creditor\, all assets and equipment of Olsen Bros. Transportation\, including late-model semi trucks and tailers\, will be liquidated via online auction with Orbitbid.com. All assets are selling to the highest bidder with NO MINIMUMS AND NO RESERVES.\nAuction highlights: 2016 & 2017 Freightliner Cascadia Semi-Trucks\, 2018 Fontaine 55MX-T Double Drop Step Deck Trailer\, 2015 Fontaine Revolution Aluminum Flatbed Trailers\, 2017 Manac Aluminum Flatbed Trailers\, 2016 Dodge Ram 3500HD Laramie Pickup Truck\, 2014 Reitnouer Aluminum Flatbed Trailers\, 2015 Transcraft Aluminum Step Deck Trailer\, 2011 Heartland Cyclone 3612 Toy Hauler RV Trailer\, 2013 Great Dane Aluminum Flatbed Trailers\, 2012 Great Dane Reefer Trailers\, 2014 Polaris Razor 4 UTV\, 2013 Freightliner Cascadia Semi-Truck\, 2012 Kenworth T660 Semi-Truck\, ProTech Aluminum and much more.\nThis Featured Online Auction will take place on Tuesday\, September 24\, starting at 8:00am\, and will start closing at 6:00pm the same day (Mountain Time). Preview will be available the day before the auction from 2pm – 5pm and auction day from 8am – 5pm.\n\nENTER AUCTION\nRegister to Bid Online
URL:https://www.miedemaauctioneering.com/auction-calendar/olsen-bros-transportation-complete-liquidation-9-24-19-an-orbitbid-com-auction/
LOCATION:Olsen Bros. Transportation\, 2520 Pennsylvania Ave.\, Ogden\, UT\, 84401\, United States
CATEGORIES:Online Only Auction
ATTACH;FMTTYPE=image/jpeg:https://miedemaauctioneering.s3.amazonaws.com/wp-content/uploads/2019/09/12112451/olsen-bros.jpg
ORGANIZER;CN="Orbitbid.com%20Corporate%20Office":MAILTO:info@orbitbid.com
GEO:41.220694;-112.002813
X-APPLE-STRUCTURED-LOCATION;VALUE=URI;X-ADDRESS=Olsen Bros. Transportation 2520 Pennsylvania Ave. Ogden UT 84401 United States;X-APPLE-RADIUS=500;X-TITLE=2520 Pennsylvania Ave.:geo:-112.002813,41.220694
END:VEVENT
END:VCALENDAR