BEGIN:VCALENDAR
VERSION:2.0
PRODID:-//Miedema Auctioneering &amp; Appraisals, Inc. - ECPv6.0.5//NONSGML v1.0//EN
CALSCALE:GREGORIAN
METHOD:PUBLISH
X-WR-CALNAME:Miedema Auctioneering &amp; Appraisals, Inc.
X-ORIGINAL-URL:https://www.miedemaauctioneering.com
X-WR-CALDESC:Events for Miedema Auctioneering &amp; Appraisals, Inc.
REFRESH-INTERVAL;VALUE=DURATION:PT1H
X-Robots-Tag:noindex
X-PUBLISHED-TTL:PT1H
BEGIN:VTIMEZONE
TZID:America/Detroit
BEGIN:DAYLIGHT
TZOFFSETFROM:-0500
TZOFFSETTO:-0400
TZNAME:EDT
DTSTART:20250309T070000
END:DAYLIGHT
BEGIN:STANDARD
TZOFFSETFROM:-0400
TZOFFSETTO:-0500
TZNAME:EST
DTSTART:20251102T060000
END:STANDARD
END:VTIMEZONE
BEGIN:VEVENT
DTSTART;TZID=America/Detroit:20250821T190000
DTEND;TZID=America/Detroit:20250821T210000
DTSTAMP:20260421T113939
CREATED:20250718T155858Z
LAST-MODIFIED:20250814T142946Z
UID:10009140-1755802800-1755810000@www.miedemaauctioneering.com
SUMMARY:Oceana County Fair 4h Auction\, Hart\, MI
DESCRIPTION:Oceana County 4h Auction in Hart Michigan. Sale order will be Goats\, Lambs\, Steers\, Hogs. The live auction will start at 7PM
URL:https://www.miedemaauctioneering.com/auction-calendar/oceana-county-fair-4h-auction-hart-mi/
LOCATION:Oceana County Fair\, 1025 S State Street\, Hart\, MI\, 49420\, United States
CATEGORIES:Live Auction
ATTACH;FMTTYPE=image/jpeg:https://miedemaauctioneering.s3.amazonaws.com/wp-content/uploads/2025/07/14102941/4h.jpg
ORGANIZER;CN="Chuck%20Ranney%20-%20Auction%20Manager":MAILTO:chuck@1800lastbid.com
GEO:43.6904665;-86.3643954
X-APPLE-STRUCTURED-LOCATION;VALUE=URI;X-ADDRESS=Oceana County Fair 1025 S State Street Hart MI 49420 United States;X-APPLE-RADIUS=500;X-TITLE=1025 S State Street:geo:-86.3643954,43.6904665
END:VEVENT
END:VCALENDAR