BEGIN:VCALENDAR
VERSION:2.0
PRODID:-//Miedema Auctioneering &amp; Appraisals, Inc. - ECPv6.0.5//NONSGML v1.0//EN
CALSCALE:GREGORIAN
METHOD:PUBLISH
X-WR-CALNAME:Miedema Auctioneering &amp; Appraisals, Inc.
X-ORIGINAL-URL:https://www.miedemaauctioneering.com
X-WR-CALDESC:Events for Miedema Auctioneering &amp; Appraisals, Inc.
REFRESH-INTERVAL;VALUE=DURATION:PT1H
X-Robots-Tag:noindex
X-PUBLISHED-TTL:PT1H
BEGIN:VTIMEZONE
TZID:America/Detroit
BEGIN:DAYLIGHT
TZOFFSETFROM:-0500
TZOFFSETTO:-0400
TZNAME:EDT
DTSTART:20200308T070000
END:DAYLIGHT
BEGIN:STANDARD
TZOFFSETFROM:-0400
TZOFFSETTO:-0500
TZNAME:EST
DTSTART:20201101T060000
END:STANDARD
END:VTIMEZONE
BEGIN:VEVENT
DTSTART;TZID=America/Detroit:20200815T100000
DTEND;TZID=America/Detroit:20200815T233000
DTSTAMP:20260419T194104
CREATED:20200701T191805Z
LAST-MODIFIED:20201021T115404Z
UID:10000549-1597485600-1597534200@www.miedemaauctioneering.com
SUMMARY:Nicholas Estate:TOOLS\, EQUIPMENT\,PERSONAL ASSETS *LIVE* Auction 8/15/20 @10 AM
DESCRIPTION:Description:\nIn efforts to downsize and enjoy retirement Mr. Nicholas has hired Miedema Auctioneering to sell his Real Estate and select assets in a one-day Live auction. The real estate consists of approximately 3.25 acres with house\, barns\, and quonset hut. The equipment highlights consists of a John Deere 4600 4×4 tractor with loader\, Ford 1320 Tractor\, John Deere 955 Tractor\, Allis Chalmers D14 Tractor\, John Deere Gator\, Honda Three Wheelers\, 1998 Corvette Convertible\, 2006 Harley Davidson Ultra Classic\, Quest Pontoon Boat with Trailer\, Equipment trailer\, Dump Trailer\, Utility Trailer\, Multiple Attachments\, Full Woodworking shop with many tools including numerous DeWalt tools. This is a rare opportunity to acquire a well-manicured property with a beautiful setting along with numerous well cared for assets.\nNOTE:  Real Estate will be sold via LIVE auction on the same day at NOON.  \nCOVID-19 Requirements\nENTER AUCTION\nRegister to Bid Online\nAuction Catalog\nAuction Brochure\nTerms & Conditions \n\n				\n			\n\n				\n			\n\n				\n			\n\n				\n			\n\n				\n			\n\n				\n			\n\n				\n			\n\n				\n			\n\n				\n			\n\n				\n			\n\n				\n			\n\n				\n			\n\n				\n			\n\n				\n			\n\n				\n			\n\n				\n			\n\n				\n			\n\n				\n			\n\n				\n			\n\n				\n			\n\n				\n			\n\n				\n			\n\n				\n			\n\n				\n			\n\n				\n			\n\n				\n			\n\n				\n			\n\n				\n			\n\n				\n			\n\n				\n			\n\n				\n			\n\n				\n			\n\n				\n			\n\n				\n			\n\n				\n			\n\n				\n			\n\n				\n			\n\n				\n			\n\n				\n			\n\n				\n			\n\n				\n			\n\n				\n			\n\n				\n			\n\n				\n			\n\n				\n			\n\n				\n			\n\n				\n			\n\n				\n			\n\n				\n			\n\n				\n			\n\n				\n			\n\n				\n			\n\n				\n			\n\n				\n			\n\n				\n			\n\n				\n			\n\n				\n			\n\n				\n			\n\n				\n			\n\n				\n			\n\n				\n			\n\n				\n			\n\n				\n			\n\n				\n			\n\n				\n			\n\n				\n			\n\n				\n			\n\n				\n			\n\n				\n			\n\n				\n			\n\n				\n			\n\n				\n			\n\n				\n			\n\n				\n			\n\n				\n			\n\n				\n			\n\n				\n			\n\n				\n			\n\n				\n			\n\n				\n			\n\n				\n			\n\n				\n			\n\n				\n			\n\n				\n			\n\n				\n			\n\n				\n			\n\n				\n			\n\n				\n			\n\n				\n			\nTERMS & CONDITIONS\nInspection: \n\nFriday\, August 14\, 2020 from 10:00 AM-3:00 PM.\n\nRemoval Times/Failure To Remove: \n\nAuction Day until 4:00 PM and Monday\, August 17 by appointment.(call Jordan Miedema – 616-460-8936 to schedule)\n\nLoading: \n\nTractor Available on Satuday until 4:00 PM\nNo Loading Dock available\n\nSales Tax: \n\nTitled vehicles will be charged Michigan State Sales Tax\, unless you provide our office with a copy of a valid dealer’s license (NO EXCEPTIONS).\n\nBuyers of Titled Vehicles: \n\nState regulations require that we broker all vehicles sold\, therefore you must sign your paperwork in the auction office.\nA $125 title broker fee will be charged for paperwork. In addition\, a $15 State of Michigan title application fee will be collected for the state of Michigan (Dealers are exempt from the title application fee ONLY).\nMiedema Auctioneering will then process your title. If you wish to plate your vehicle there will be an additional fee. Proof of insurance will need to be provided for removal.\nContact our Title Coordinator (Charlyn) at 616-261-4972 with questions or to finalize title processing after purchase.\n\nTerms: \n\nAll items sell “AS IS\, WHERE IS” with no warranty. There shall be no guarantees or warranties\, expressed or implied\, statutory or otherwise as to the merchantability or fitness for any particular purpose of any goods offered in this sale.\n\nBuyer’s Premium: \n\nOnsite buyers: 13% with a 3% discount on Buyer’s Premium if paid by cash or check.\nProxibid buyers: 16% with a 3% discount on Buyer’s Premium when invoice is paid with cash\, check or wire transfer\n\nPayment: \n\nAuction day by cash\, cashier’s check\, Visa\, Mastercard\, & personal check (Personal checks will be accepted at the auction company’s discretion.)\nOnsite Buyers: a 13% Buyer’s Premium is added to the high bid. A 3% discount on Buyer’s Premium is offered if paid by cash or check.\nProxibid Buyers: a 16% Buyer’s Premium is added to the high bid.  A 3% discount on Buyer’s Premium is offered if paid by cash or check.\nOut-of-state checks MUST have a bank letter of credit GUARANTEEING payment to MIEDEMA AUCTIONEERING INC. for this auction and the amount of funds being guaranteed. See guarantee form HERE\n\nCOVID-19 Special Requirements: \nDue to COVID-19 the following are in effect for this auction – In accordance with State of Michigan Executive Order \n1. If you are feeling sick\, please stay home and bid online from your computer\, tablet or phone! \n2. Social Distancing will be required at the auction site. Participants are asked to maintain 6’ distance from others not of the same household. \n3. Masks are available free of charge for those that desire them as well as hand sanitizer. Please use often. \n4. When in line for bidder’s numbers or to pay for purchases\, please maintain 6’ distance. There will be markers showing 6’ distance. \nThank you for your understanding\,Miedema Auctioneering\, Inc \nAll written material is subject to change. Announcements made day of sale take precedence over printed material.
URL:https://www.miedemaauctioneering.com/auction-calendar/nicholas-estate-tools-and-equipment/
LOCATION:Nicholas Estate\, 6015 108th St. SE\, Caledonia\, MI\, 49316\, United States
CATEGORIES:Live and Online Webcast Auction
ATTACH;FMTTYPE=image/jpeg:https://miedemaauctioneering.s3.amazonaws.com/wp-content/uploads/2020/07/02093711/IMG_4843-scaled.jpg
ORGANIZER;CN="Jordan%20Miedema%20%E2%80%93%20Auction%20Manager":MAILTO:jordan@1800lastbid.com
GEO:42.769436;-85.515831
X-APPLE-STRUCTURED-LOCATION;VALUE=URI;X-ADDRESS=Nicholas Estate 6015 108th St. SE Caledonia MI 49316 United States;X-APPLE-RADIUS=500;X-TITLE=6015 108th St. SE:geo:-85.515831,42.769436
END:VEVENT
BEGIN:VEVENT
DTSTART;TZID=America/Detroit:20200815T120000
DTEND;TZID=America/Detroit:20200815T233000
DTSTAMP:20260419T194104
CREATED:20200701T182550Z
LAST-MODIFIED:20200818T162620Z
UID:10000548-1597492800-1597534200@www.miedemaauctioneering.com
SUMMARY:Nicholas Estate: REAL ESTATE *LIVE* Auction  8/15/2020 @ Noon
DESCRIPTION:Description:\n±2\,350 SF Home and 2 barns on 3.25 acres in Caledonia! LIVE AUCTION featuring a ±2\,350 SF home\, 2 barns\, a shed\, and quonset hut on 3.25 acres. This home offers a beautiful yard and privacy in a quiet country setting. The ±2\,350 SF home was built in 1976 by the current owner\, has 3 bedrooms and 2 1/2 baths. The main floor has a family room\, living room\, kitchen area\, front entry way\, laundry and half bathroom\, and 3 bedrooms and full bathroom. The finished basement has a large room that was used as a home gym\, a kitchenette\, full bathroom\, storage\, fireplace and living room area. The home has a two stall attached garage with cement floors. The cement floor and driveway were redone in 2019. The home has a large 52’x40′ (48′ in the center) insulated and heated barn. This barn has 3 OH doors\, one is 16′ an the others are approximately 8′. The middle of the barn has 22′ ceilings with plenty or room to park your boat\, motorhome\, camper\, and other toys. One of the bays of this barn was used as a wood working shop and the other for storage. There is another 24’x36′ utility barn (with the leanto) with 3 overhead doors and cement floors. This has a small shop area and larger shop area. There is also a 30’x60′ quonset hut towards the back of the property used for storage and a shed in the backyard. This is a great opportunity to buy a beautiful home with plenty of storage for your toys in a nice country setting! Don’t miss out! \n\nA 4% Buyer’s Premium is in effect for the real estate.\nDeposit of $15\,000.00 is due from the winning bidder at the close of the auction.\n\nNOTE: Tools\, Equipment & Personal Assets will sell on the same day starting at 10:00 AM.\nGoogle Map Link\nCOVID-19 Requirements\nOpen House Times\nTerms & Conditions\nBroker Participation Form\nBidder’s Packet\nEquipment & Asset List\nProperty Information Sheet \n\n\n\n\n\n\n\n\n\n\n\n\n\n\n\n\n\n\n\n\n\n\n\n\n\n\n\n\n\n\n\n\n\n\n\n\n\n\n\n\n\n\n\n\n\n\n\n\n\n\n\n\n\n\n\n\nTERMS & CONDITIONS\nOpen House Times:  APPONTMENT REQUIRED TO VIEW PROPERTY DURING THE FOLLOWING TIMES. \nContact Jordan Miedema to schedule your appointment: Phone: 616-560-8936 or Email:jordan@1800lastbid.com. \n\nMonday\, July 20 from 4-6 pm\nSaturday\, August 8 from 9-11 am\nMonday\, August 10 from 5-7pm\n\nBuyer’s Premium: \n\nOnsite buyers: 4% is in effect for the real estate\n\nSales Tax: \n\nSeller is not required to collect Sales Tax on this auction.\n\nDeposit: \n\nA $15\,000.00 deposit is required from the winning bidder immediately following completion of auction.\n\nCOVID-19 Special Requirements: \nDue to COVID-19 the following are in effect for this auction – In accordance with State of Michigan Executive Order \n1. If you are feeling sick\, please stay home and contact us for options to bid remotely! \n2. Social Distancing will be required at the auction site. Participants are asked to maintain 6’ distance from others not of the same household. \n3. Masks are required inside any structure and will be available free of charge\, or you may bring your own.  Hand sanitizer will be readily available for use. Please use often. \n4. When in line for bidder’s numbers or to pay for purchases\, please maintain 6’ distance. There will be markers showing 6’ distance. \nThank you for your understanding\,\nMiedema Auctioneering\, Inc \nAll written material is subject to change. Announcements made day of sale take precedence over printed material.
URL:https://www.miedemaauctioneering.com/auction-calendar/nicholas-estate-real-estate/
LOCATION:Nicholas Estate\, 6015 108th St. SE\, Caledonia\, MI\, 49316\, United States
CATEGORIES:Live Real Estate Auction
ATTACH;FMTTYPE=image/jpeg:https://miedemaauctioneering.s3.amazonaws.com/wp-content/uploads/2020/07/02105610/DJI_098108Lores.jpg
ORGANIZER;CN="Jordan%20Miedema%20%E2%80%93%20Auction%20Manager":MAILTO:jordan@1800lastbid.com
GEO:42.769436;-85.515831
X-APPLE-STRUCTURED-LOCATION;VALUE=URI;X-ADDRESS=Nicholas Estate 6015 108th St. SE Caledonia MI 49316 United States;X-APPLE-RADIUS=500;X-TITLE=6015 108th St. SE:geo:-85.515831,42.769436
END:VEVENT
END:VCALENDAR