BEGIN:VCALENDAR
VERSION:2.0
PRODID:-//Miedema Auctioneering &amp; Appraisals, Inc. - ECPv6.0.5//NONSGML v1.0//EN
CALSCALE:GREGORIAN
METHOD:PUBLISH
X-WR-CALNAME:Miedema Auctioneering &amp; Appraisals, Inc.
X-ORIGINAL-URL:https://www.miedemaauctioneering.com
X-WR-CALDESC:Events for Miedema Auctioneering &amp; Appraisals, Inc.
REFRESH-INTERVAL;VALUE=DURATION:PT1H
X-Robots-Tag:noindex
X-PUBLISHED-TTL:PT1H
BEGIN:VTIMEZONE
TZID:America/Detroit
BEGIN:DAYLIGHT
TZOFFSETFROM:-0500
TZOFFSETTO:-0400
TZNAME:EDT
DTSTART:20200308T070000
END:DAYLIGHT
BEGIN:STANDARD
TZOFFSETFROM:-0400
TZOFFSETTO:-0500
TZNAME:EST
DTSTART:20201101T060000
END:STANDARD
END:VTIMEZONE
BEGIN:VEVENT
DTSTART;TZID=America/Detroit:20200421T080000
DTEND;TZID=America/Detroit:20200421T080000
DTSTAMP:20260420T043503
CREATED:20191129T212430Z
LAST-MODIFIED:20200324T190216Z
UID:10000268-1587456000-1587456000@www.miedemaauctioneering.com
SUMMARY:Equipment Rental and Sales Company – For Sale - Complete OPERATING Turn-Key Offering
DESCRIPTION:Name:Equipment Rental and Sales Company – For Sale – Complete OPERATING Turn-Key Offering \nDate: Accepting Offers through April 21\, 2020 \nAddress: Confidential – Located in Central/Mid Michigan \nDescription:This Complete Operating Equipment Rental Company is available for immediate purchase. Miedema Asset Management Group is excited to announce the sale of this fully functioning and operating business\, being offered as a complete turnkey operation. The Asset Sale consists of the Book of Business\, Real Estate\, Operating Equipment\, Inventory and Rental Equipment Inventory of the enterprise through a sealed bid process. The business has experienced healthy growth over the past 3 years. The business has also diversified itself as a dealer of certain products. They are located in central Michigan\, and have established a niche in the rental industry serving both regional contractors and the general “do it yourself” clients. Offers will be accepted through March 31\, 2020. \nFor questions or for more information\, please call Brennen Lubbers at 616-265-4682 or email at brennen@1800lastbid.com \n<< CLICK HERE TO VIEW AUCTION >>
URL:https://www.miedemaauctioneering.com/auction-calendar/23440/
LOCATION:Michigan\, MI\, United States
CATEGORIES:Sealed Bid Auction
ATTACH;FMTTYPE=image/jpeg:https://miedemaauctioneering.s3.amazonaws.com/wp-content/uploads/2019/11/29161447/featured-equipment-rentals.jpg
ORGANIZER;CN="Brennen%20Lubbers":MAILTO:brennen@1800lastbid.com
GEO:44.3148443;-85.6023643
END:VEVENT
END:VCALENDAR