BEGIN:VCALENDAR
VERSION:2.0
PRODID:-//Miedema Auctioneering &amp; Appraisals, Inc. - ECPv6.0.5//NONSGML v1.0//EN
CALSCALE:GREGORIAN
METHOD:PUBLISH
X-WR-CALNAME:Miedema Auctioneering &amp; Appraisals, Inc.
X-ORIGINAL-URL:https://www.miedemaauctioneering.com
X-WR-CALDESC:Events for Miedema Auctioneering &amp; Appraisals, Inc.
REFRESH-INTERVAL;VALUE=DURATION:PT1H
X-Robots-Tag:noindex
X-PUBLISHED-TTL:PT1H
BEGIN:VTIMEZONE
TZID:America/Detroit
BEGIN:DAYLIGHT
TZOFFSETFROM:-0500
TZOFFSETTO:-0400
TZNAME:EDT
DTSTART:20200308T070000
END:DAYLIGHT
BEGIN:STANDARD
TZOFFSETFROM:-0400
TZOFFSETTO:-0500
TZNAME:EST
DTSTART:20201101T060000
END:STANDARD
END:VTIMEZONE
BEGIN:VEVENT
DTSTART;TZID=America/Detroit:20200110T080000
DTEND;TZID=America/Detroit:20200110T170000
DTSTAMP:20260419T225334
CREATED:20190916T183931Z
LAST-MODIFIED:20200210T210833Z
UID:10000461-1578643200-1578675600@www.miedemaauctioneering.com
SUMMARY:Machine Shop - Complete OPERATING Turn-Key Offering
DESCRIPTION:Name:  Machine Shop – Complete OPERATING Turn-Key Offering \nDate: Accepting Sealed Bid Offers through January 10\, 2020 \nAddress: Confidential \nDescription: This complete operating Machine Shop is available for immediate purchase via sealed bid. Miedema Asset Management Group is excited to announce the sale of this fully functioning and operating business\, being offered as a complete turnkey operation. The Asset Sale consists of the Real Estate\, Operating Equipment and Inventory through a sealed bid process. The business is a well-established manufacturer of Dies and Custom Tooling Components. The quality of the assets included in this opportunity far exceeds the industry standard. The business is located in Southwest Michigan which provides quick access to Chicago\, Detroit\, Upper West Michigan and Indiana. Sealed bids will be accepted through January 10\, 2020. For questions or for more information\, please call Brennen Lubbers at 616-265-4682 or email at brennen@1800lastbid.com \n<< VIEW AUCTION >>
URL:https://www.miedemaauctioneering.com/auction-calendar/machine-shop-complete-operating-turn-key-offering/
LOCATION:Machine Shop\, MI\, United States
CATEGORIES:Sealed Bid Auction
ATTACH;FMTTYPE=image/jpeg:https://miedemaauctioneering.s3.amazonaws.com/wp-content/uploads/2019/09/16144045/Machineshop.jpg
ORGANIZER;CN="Brennen%20Lubbers":MAILTO:brennen@1800lastbid.com
GEO:44.3148443;-85.6023643
END:VEVENT
END:VCALENDAR