BEGIN:VCALENDAR
VERSION:2.0
PRODID:-//Miedema Auctioneering &amp; Appraisals, Inc. - ECPv6.0.5//NONSGML v1.0//EN
CALSCALE:GREGORIAN
METHOD:PUBLISH
X-ORIGINAL-URL:https://www.miedemaauctioneering.com
X-WR-CALDESC:Events for Miedema Auctioneering &amp; Appraisals, Inc.
REFRESH-INTERVAL;VALUE=DURATION:PT1H
X-Robots-Tag:noindex
X-PUBLISHED-TTL:PT1H
BEGIN:VTIMEZONE
TZID:America/Detroit
BEGIN:DAYLIGHT
TZOFFSETFROM:-0500
TZOFFSETTO:-0400
TZNAME:EDT
DTSTART:20180311T070000
END:DAYLIGHT
BEGIN:STANDARD
TZOFFSETFROM:-0400
TZOFFSETTO:-0500
TZNAME:EST
DTSTART:20181104T060000
END:STANDARD
END:VTIMEZONE
BEGIN:VEVENT
DTSTART;TZID=America/Detroit:20180919T080000
DTEND;TZID=America/Detroit:20180919T140000
DTSTAMP:20260419T233601
CREATED:20180807T180218Z
LAST-MODIFIED:20200207T205216Z
UID:10000428-1537344000-1537365600@www.miedemaauctioneering.com
SUMMARY:Evergreen Golf Course and Equipment**Online Aucton on LASTBIDrealestate.com**
DESCRIPTION:Description:\n**Note: this is an online auction offered by LASTBIDrealestate.com.\nBeautiful Evergreen Golf Course in Grand Haven\, MI being sold separately or together with the equipment for the course. Online Real Estate Auction featuring a rare opportunity to purchase a turnkey executive golf course in excellent condition. A popular attraction for fun and affordable golf\, this privately owned 18 hole golf course is located just minutes from the M-231 bypass. Winner of Grand Haven Tribune’s 2017 & 2018 People’s Choice awards\, this course abuts state land with trails and Grand River access. Owners are ready to enjoy retirement and are offering the 74 acre course to the highest bidder. The property includes a maintenace barn with room for 36 golf carts\, a clubhouse with office\, restrooms\, food counter\, and more. Liquor license is included in the sale of the property. Excellent opportunity to either continue golfing operations and purchase together with the equipment\, or to purchase just the land to develop for other uses. This property is being offered in combination with or separately from the golf course equipment\, listed as the second parcel in this auction. Please see posted Equipment List for detailed information. Financials are available with a signed non-disclosure agreement.
URL:https://www.miedemaauctioneering.com/auction-calendar/evergreen-golf-course-and-equipmentonline-aucton-on-lastbidrealestate-com/
LOCATION:LASTBIDrealestate:  Evergreen Golf Course & Equipment in Grand Haven\, MI 9/19/18\, 10125 Osborn St.\, Grand Haven\, MI\, 49417\, United States
CATEGORIES:Online Only Auction
ATTACH;FMTTYPE=image/jpeg:https://miedemaauctioneering.s3.amazonaws.com/wp-content/uploads/2018/08/07140310/New-Image.jpg
GEO:43.0083255;-86.0382031
X-APPLE-STRUCTURED-LOCATION;VALUE=URI;X-ADDRESS=LASTBIDrealestate:  Evergreen Golf Course & Equipment in Grand Haven MI 9/19/18 10125 Osborn St. Grand Haven MI 49417 United States;X-APPLE-RADIUS=500;X-TITLE=10125 Osborn St.:geo:-86.0382031,43.0083255
END:VEVENT
END:VCALENDAR