BEGIN:VCALENDAR
VERSION:2.0
PRODID:-//Miedema Auctioneering &amp; Appraisals, Inc. - ECPv6.0.5//NONSGML v1.0//EN
CALSCALE:GREGORIAN
METHOD:PUBLISH
X-WR-CALNAME:Miedema Auctioneering &amp; Appraisals, Inc.
X-ORIGINAL-URL:https://www.miedemaauctioneering.com
X-WR-CALDESC:Events for Miedema Auctioneering &amp; Appraisals, Inc.
REFRESH-INTERVAL;VALUE=DURATION:PT1H
X-Robots-Tag:noindex
X-PUBLISHED-TTL:PT1H
BEGIN:VTIMEZONE
TZID:America/Detroit
BEGIN:DAYLIGHT
TZOFFSETFROM:-0500
TZOFFSETTO:-0400
TZNAME:EDT
DTSTART:20180311T070000
END:DAYLIGHT
BEGIN:STANDARD
TZOFFSETFROM:-0400
TZOFFSETTO:-0500
TZNAME:EST
DTSTART:20181104T060000
END:STANDARD
END:VTIMEZONE
BEGIN:VEVENT
DTSTART;TZID=America/Detroit:20181011T100000
DTEND;TZID=America/Detroit:20181011T233000
DTSTAMP:20260420T134603
CREATED:20180904T204242Z
LAST-MODIFIED:20200210T204945Z
UID:10000432-1539252000-1539300600@www.miedemaauctioneering.com
SUMMARY:Lakeside Blueberry Farms Live Auction
DESCRIPTION:Description:\nHaving sold his blueberry farm real estate\, Mr. Jim Riccioni\, of Lakeside Blueberry Farms will be selling all of his farm equipment at live public auction. Outstanding opportunity to buy equipment directly off the farm! \nHighlights include: \n\n(5) John Deere tractors\n(2) BEI blueberry harvesters\nSprayers\nBrush cutters\nAnd Much More!\n\n\n\nENTER AUCTION \nRegister to Bid Online\nAuction Catalog\nAuction Brochure\nRiggers & Haulers\nTerms & Conditions \n\n\nAuction Photos: \n\n			\n				\n			\n			\n				\n			\n			\n				\n			\n			\n				\n			\n			\n				\n			\n			\n				\n			\n			\n				\n			\n			\n				\n			\n			\n				\n			\n			\n				\n			\n			\n				\n			\n			\n				\n			\n			\n				\n			\n			\n				\n			\n			\n				\n			\n			\n				\n			\n			\n				\n			\n			\n				\n			\n			\n				\n			\n			\n				\n			\n			\n				\n			\n			\n				\n			\n			\n				\n			\n			\n				\n			\n			\n				\n			\n			\n				\n			\n			\n				\n			\n			\n				\n			\n			\n				\n			\n			\n				\n			\n			\n				\n			\n			\n				\n			\n			\n				\n			\n			\n				\n			\n			\n				\n			\n			\n				\n			\n			\n				\n			\n		\n\nTERMS & CONDITIONS\nINSPECTION: \n\nWednesday\, October 10 from 9am-4pm & Auction Day beginning at 9AM.\n\nREMOVAL OF EQUIPMENT: \n\nAuction day until 6PM\nFriday\, October 13 from 9AM-4PM.\n\nSales Tax: \n\nSeller is not required to collect Sales Tax on this auction.\n\nTITLED VEHICLES: \n\nState Regulations require that we broker all vehicles sold\, therefore you must sign your paperwork in the auction office. A $125 broker fee will be charged for paperwork. In addition\, a $15 title application fee will be collected for the State of Michigan (Dealers are exempt from the title application fee ONLY). Miedema Auctioneering will then process your titles. If you wish to plate your vehicle there will be an additional fee. Proof of insurance will need to be provided for removal.\n\nTerms: \n\nAll items sell “AS IS\, WHERE IS” with no warranty. There shall be no guarantees or warranties\, expressed or implied\, statutory or otherwise as to the merchantability or fitness for any particular purpose of any goods offered in this sale.\n\nPayment: \n\nAuction day by cash\, cashier’s check\, Visa\, Mastercard\, & personal check (Personal checks will be accepted at the auction company’s discretion.)\n3% Buyer’s Premium is added to the high bid. This 3% is waived if paid by cash or check.\nOut-of-state checks MUST have a bank letter of credit GUARANTEEING payment to MIEDEMA AUCTIONEERING INC. for this auction and the amount of funds being guaranteed. See guarantee form HERE\n\nAll written material is subject to change. Announcements made day of sale take precedence over printed material.
URL:https://www.miedemaauctioneering.com/auction-calendar/lakeside-blueberry-farms/
LOCATION:Lakeside Blueberry Farms\, 67287 40th\, Bangor\, MI\, 49013\, United States
CATEGORIES:Live and Online Webcast Auction
ATTACH;FMTTYPE=image/jpeg:https://miedemaauctioneering.s3.amazonaws.com/wp-content/uploads/2018/09/04163434/IMG_8593-Copy.jpg
ORGANIZER;CN="Sid%20Miedema%20-%20Auction%20Manager":MAILTO:sid@1800lastbid.com
GEO:42.2717925;-86.198893
X-APPLE-STRUCTURED-LOCATION;VALUE=URI;X-ADDRESS=Lakeside Blueberry Farms 67287 40th Bangor MI 49013 United States;X-APPLE-RADIUS=500;X-TITLE=67287 40th:geo:-86.198893,42.2717925
END:VEVENT
END:VCALENDAR