BEGIN:VCALENDAR
VERSION:2.0
PRODID:-//Miedema Auctioneering &amp; Appraisals, Inc. - ECPv6.0.5//NONSGML v1.0//EN
CALSCALE:GREGORIAN
METHOD:PUBLISH
X-WR-CALNAME:Miedema Auctioneering &amp; Appraisals, Inc.
X-ORIGINAL-URL:https://www.miedemaauctioneering.com
X-WR-CALDESC:Events for Miedema Auctioneering &amp; Appraisals, Inc.
REFRESH-INTERVAL;VALUE=DURATION:PT1H
X-Robots-Tag:noindex
X-PUBLISHED-TTL:PT1H
BEGIN:VTIMEZONE
TZID:America/Detroit
BEGIN:DAYLIGHT
TZOFFSETFROM:-0500
TZOFFSETTO:-0400
TZNAME:EDT
DTSTART:20160313T070000
END:DAYLIGHT
BEGIN:STANDARD
TZOFFSETFROM:-0400
TZOFFSETTO:-0500
TZNAME:EST
DTSTART:20161106T060000
END:STANDARD
END:VTIMEZONE
BEGIN:VEVENT
DTSTART;TZID=America/Detroit:20160924T100000
DTEND;TZID=America/Detroit:20160924T170000
DTSTAMP:20260420T125255
CREATED:20160809T132431Z
LAST-MODIFIED:20200210T204737Z
UID:10000034-1474711200-1474736400@www.miedemaauctioneering.com
SUMMARY:Lynwood Klaver Estate Auction
DESCRIPTION:Description:\nFarm Equipment\, Shop Tools\, Farm Primitives\, Guns\, and household items in DeWitt\, MI. \nDue to the death of her husband\, Mr. Lynwood Klaver\, we will be selling all of these items for Marianna. \nHighlights include:  \n\nJohn Deere 4250\, 2WD\, Cab\, only 945 hours\nJohn Deere 630 tractor\nJohn Deere 8300 grain drill\nJohn Deere MX6 brush hog\n\n\n\nVIEW AUCTION RESULTS \nRegister to Bid Online\nAuction Catalog\nAuction Brochure\nAdditions to the Equipment List\nRiggers & Haulers\nTerms & Conditions \n\nAuction Photos:\n \n \n\n			\n				\n			\n			\n				\n			\n			\n				\n			\n			\n				\n			\n			\n				\n			\n			\n				\n			\n			\n				\n			\n			\n				\n			\n			\n				\n			\n			\n				\n			\n			\n				\n			\n			\n				\n			\n			\n				\n			\n			\n				\n			\n			\n				\n			\n			\n				\n			\n			\n				\n			\n			\n				\n			\n			\n				\n			\n			\n				\n			\n			\n				\n			\n			\n				\n			\n			\n				\n			\n			\n				\n			\n			\n				\n			\n			\n				\n			\n			\n				\n			\n			\n				\n			\n			\n				\n			\n			\n				\n			\n			\n				\n			\n			\n				\n			\n			\n				\n			\n			\n				\n			\n			\n				\n			\n			\n				\n			\n			\n				\n			\n			\n				\n			\n			\n				\n			\n			\n				\n			\n			\n				\n			\n			\n				\n			\n			\n				\n			\n			\n				\n			\n			\n				\n			\n			\n				\n			\n			\n				\n			\n			\n				\n			\n			\n				\n			\n			\n				\n			\n			\n				\n			\n			\n				\n			\n			\n				\n			\n			\n				\n			\n			\n				\n			\n			\n				\n			\n			\n				\n			\n			\n				\n			\n			\n				\n			\n			\n				\n			\n			\n				\n			\n			\n				\n			\n			\n				\n			\n			\n				\n			\n			\n				\n			\n			\n				\n			\n			\n				\n			\n			\n				\n			\n			\n				\n			\n			\n				\n			\n			\n				\n			\n			\n				\n			\n			\n				\n			\n			\n				\n			\n			\n				\n			\n			\n				\n			\n			\n				\n			\n			\n				\n			\n			\n				\n			\n			\n				\n			\n			\n				\n			\n			\n				\n			\n			\n				\n			\n			\n				\n			\n			\n				\n			\n			\n				\n			\n			\n				\n			\n			\n				\n			\n			\n				\n			\n			\n				\n			\n			\n				\n			\n			\n				\n			\n			\n				\n			\n			\n				\n			\n			\n				\n			\n			\n				\n			\n			\n				\n			\n			\n				\n			\n			\n				\n			\n			\n				\n			\n			\n				\n			\n			\n				\n			\n			\n				\n			\n		\n\n  \nTERMS & CONDITIONS\nInspection Times \n\nSaturday\, September 24\, 2016\n\nRemoval Times/Failure To Remove \n\nDay of auction till 5:00 (Saturday\, September 24\, 2016)\, or by appointment\n\nLoading and Additional Removal Information \n\nWe will only have a loader the day of the auction (Saturday\, September 24\, 2016)\n\nBuyer’s Premium \n\nOnsite Buyers: Buyer’s Premium of 3% will be added to purchases; with a 3% discount for paying with cash\, personal or company check\, or wire transfer**\nProxibid Buyers: Buyer’s Premium of 6% will be added to purchases; with a 3% discount for paying with cash\, personal or company check\, or wire transfer**\n\nPayment \n\nComplete payment auction day by Cash\, Cashier’s Check\, Good Check\, Credit Card\na 3% Buyer’s Premium is added to the high bid. This 3% is waived if paid by cash or check. Personal checks will be accepted at the auction company’s discretion. Out-of-state checks MUST have a bank letter of credit GUARANTEEING payment to MIEDEMA AUCTIONEERING INC. for this auction and the amount of funds being guaranteed. See guarantee form here\n\nRefund Policy \n\nNO REFUNDS\, RETURNS\, OR EXCHANGES. All items sold “AS IS WHERE IS” with all faults.\n\nAll written material is subject to change. Announcements made day of sale take precedence over printed material.
URL:https://www.miedemaauctioneering.com/auction-calendar/klaver-real-estate-equipment-auction/
LOCATION:Klaver Estate\, 9685 S. Dewitt Rd\, Dewitt\, MI\, 48820\, United States
CATEGORIES:Live and Online Webcast Auction
ATTACH;FMTTYPE=image/jpeg:https://miedemaauctioneering.s3.amazonaws.com/wp-content/uploads/2016/08/18145251/01.jpg
ORGANIZER;CN="Chuck%20Ranney%20-%20Auction%20Manager":MAILTO:chuck@1800lastbid.com
GEO:42.875394;-84.5722127
X-APPLE-STRUCTURED-LOCATION;VALUE=URI;X-ADDRESS=Klaver Estate 9685 S. Dewitt Rd Dewitt MI 48820 United States;X-APPLE-RADIUS=500;X-TITLE=9685 S. Dewitt Rd:geo:-84.5722127,42.875394
END:VEVENT
END:VCALENDAR