BEGIN:VCALENDAR
VERSION:2.0
PRODID:-//Miedema Auctioneering &amp; Appraisals, Inc. - ECPv6.0.5//NONSGML v1.0//EN
CALSCALE:GREGORIAN
METHOD:PUBLISH
X-WR-CALNAME:Miedema Auctioneering &amp; Appraisals, Inc.
X-ORIGINAL-URL:https://www.miedemaauctioneering.com
X-WR-CALDESC:Events for Miedema Auctioneering &amp; Appraisals, Inc.
REFRESH-INTERVAL;VALUE=DURATION:PT1H
X-Robots-Tag:noindex
X-PUBLISHED-TTL:PT1H
BEGIN:VTIMEZONE
TZID:America/Detroit
BEGIN:DAYLIGHT
TZOFFSETFROM:-0500
TZOFFSETTO:-0400
TZNAME:EDT
DTSTART:20180311T070000
END:DAYLIGHT
BEGIN:STANDARD
TZOFFSETFROM:-0400
TZOFFSETTO:-0500
TZNAME:EST
DTSTART:20181104T060000
END:STANDARD
END:VTIMEZONE
BEGIN:VEVENT
DTSTART;TZID=America/Detroit:20181009T080000
DTEND;TZID=America/Detroit:20181009T180000
DTSTAMP:20260420T200908
CREATED:20181002T213008Z
LAST-MODIFIED:20200210T204046Z
UID:10000434-1539072000-1539108000@www.miedemaauctioneering.com
SUMMARY:J & D Dairy - Orbitbid.com Online Auction
DESCRIPTION:Description:\nPer order of secured creditor\, all assets and equipment of J & D Dairy be sold via online auction with Orbitbid.com. All equipment will sell to the highest bidder – NO MINIMUMS NO RESERVES!Auction highlights: 2014 New Holland T4.95 Tractor w/ 655TL Loader Attachment\, 2014 New Holland L216 Skid Steer Loader\, John Deere 4640 Tractor\, Approx 900 Tons of Haylage\, New Holland 2450 Haybine w/ 2214 Hay Head\, (2) Meyer 4618 Forage Boxes\, Dry Hill DH400 Lagoon Pump w/ 30′ Portable Pipe\, International 5288 Tractor\, Kelly Ryan 2W-02 Ag Bagger\, New Holland 900 Chopper\, New Holland 195 Manure Spreader\, Gleaner M2 Combine\, H & S V10 Hay Rake\, John Deere 7000 Planter\, John Deere 8300 Grain Drill\, John Deere 235 Disc\, John Deere 2810 Plow\, John Deere 1010 Field Cultivator\, Knight Reel Auggie 3300 Feed Mixer\, Hardi TR500 Sprayer\, Winco 50 PTOC-3/B Generator\, Brillion Cultipacker\, Case 1800 Chisel Plow\, Gehl Windrow Merger\, Kelly Bunk Feeder\, Grain Carts\, Parlor Equipment\, Stalls\, and much more. \nThis Featured Online Auction will take place on Tuesday\, October 9\, 2018\, starting at 8:00am\, and will start closing at 6:00pm the same day (Eastern Time). Preview will be available the day before the auction from 1pm – 5pm and auction day from 8am – 5pm. \n\n\nENTER AUCTION\nRegister to Bid Online
URL:https://www.miedemaauctioneering.com/auction-calendar/j-d-dairy-orbitbid-com-online-auction/
LOCATION:J & D Dairy\, 1378 W Nicholson Hill Rd.\, Ossineke\, MI\, 49766\, United States
ATTACH;FMTTYPE=image/jpeg:https://miedemaauctioneering.s3.amazonaws.com/wp-content/uploads/2018/10/03081835/OBJD.jpg
ORGANIZER;CN="Orbitbid.com%20Corporate%20Office":MAILTO:info@orbitbid.com
GEO:44.9028079;-83.4733444
X-APPLE-STRUCTURED-LOCATION;VALUE=URI;X-ADDRESS=J & D Dairy 1378 W Nicholson Hill Rd. Ossineke MI 49766 United States;X-APPLE-RADIUS=500;X-TITLE=1378 W Nicholson Hill Rd.:geo:-83.4733444,44.9028079
END:VEVENT
END:VCALENDAR