BEGIN:VCALENDAR
VERSION:2.0
PRODID:-//Miedema Auctioneering &amp; Appraisals, Inc. - ECPv6.0.5//NONSGML v1.0//EN
CALSCALE:GREGORIAN
METHOD:PUBLISH
X-ORIGINAL-URL:https://www.miedemaauctioneering.com
X-WR-CALDESC:Events for Miedema Auctioneering &amp; Appraisals, Inc.
REFRESH-INTERVAL;VALUE=DURATION:PT1H
X-Robots-Tag:noindex
X-PUBLISHED-TTL:PT1H
BEGIN:VTIMEZONE
TZID:America/Detroit
BEGIN:DAYLIGHT
TZOFFSETFROM:-0500
TZOFFSETTO:-0400
TZNAME:EDT
DTSTART:20190310T070000
END:DAYLIGHT
BEGIN:STANDARD
TZOFFSETFROM:-0400
TZOFFSETTO:-0500
TZNAME:EST
DTSTART:20191103T060000
END:STANDARD
END:VTIMEZONE
BEGIN:VEVENT
DTSTART;TZID=America/Detroit:20191214T100000
DTEND;TZID=America/Detroit:20191214T233000
DTSTAMP:20260419T191328
CREATED:20191030T204623Z
LAST-MODIFIED:20200122T185728Z
UID:10000261-1576317600-1576366200@www.miedemaauctioneering.com
SUMMARY:Daryl and Joyce Hoeksema Farm Equipment Auction
DESCRIPTION:Description:Due to health reasons Daryl and Joyce Hoeksema have decided to discontinue farming and have chosen Miedema Auctioneering to conduct a Live auction with internet bidding on December 14th at 10:00am. Highlights include: John Deere 4960\, John Deere 4455\, John Deere 6320 with loader\, John Deere 8650\, John Deere 4030\, John Deere 30′ air seeder\, Hay Equipment\, Tillage Equipment\, Wood Working Equipment\, Shop Tools and more. This is a great opportunity to buy some very well maintained equipment. Low Hour and Low acres on several pieces.\nENTER AUCTION\nRegister to Bid Online\nAuction Catalog\nAuction Brochure\nRiggers & Haulers\nTerms & Conditions \n\n\n\n\n\n\n\n\n\n\n\n\n\n\n\n\n\n\n\n\n\n\n\n\n\n\n\n\n\n\n\n\n\n\n\n\n\n\n\n\n\n\n\n\n\n\n\n\n\n\n\n\n\n\n\nTERMS & CONDITIONS\nInspection: \n\nFriday December 13th from 9:00am till 4:00pm\nAuction day starting at 8:00am\n\nRemoval Times/Failure To Remove: \n\nAuction day until 5pm\nOther appointments available for the folowing week by arrangement\n\nLoading: \n\nLoader tractor availible day of auction for light loading\n\nSales Tax: \n\nAll items will be charged 6% Michigan State Sales Tax. Titled vehicles will be charged Michigan State Sales Tax\, unless you provide our office with a copy of a valid dealer’s license (NO EXCEPTIONS). For exemption from sales tax on agricultural items\, buyers will need to sign an agricultural exemption statement.\n\nTerms: \n\nAll items sell “AS IS\, WHERE IS” with no warranty. There shall be no guarantees or warranties\, expressed or implied\, statutory or otherwise as to the merchantability or fitness for any particular purpose of any goods offered in this sale.\n\nBuyer’s Premium: \n\nOnsite buyers: 3% discount on Buyer’s Premium if paid by cash or check.\nProxibid buyers: 6% with a 3% discount on Buyer’s Premium when invoice is paid with cash\, check or wire transfer\n\nPayment: \n\nAuction day by cash\, cashier’s check\, Visa\, Mastercard\, & personal check (Personal checks will be accepted at the auction company’s discretion.)\n3% Buyer’s Premium is added to the high bid. This 3% is waived if paid by cash or check.\nOut-of-state checks MUST have a bank letter of credit GUARANTEEING payment to MIEDEMA AUCTIONEERING INC. for this auction and the amount of funds being guaranteed. See guarantee form HERE\n\nAll written material is subject to change. Announcements made day of sale take precedence over printed material.
URL:https://www.miedemaauctioneering.com/auction-calendar/daryl-and-joyce-hoeksema-farm-equipment-auction/
LOCATION:Hoeksema Farm\, 9754 Whitbeck RD\, Montague\, MI\, 49437\, United States
CATEGORIES:Live and Online Webcast Auction
ATTACH;FMTTYPE=image/jpeg:https://miedemaauctioneering.s3.amazonaws.com/wp-content/uploads/2019/10/30170631/1.jpg
ORGANIZER;CN="Chuck%20Ranney%20-%20Auction%20Manager":MAILTO:chuck@1800lastbid.com
GEO:43.4358973;-86.3751192
X-APPLE-STRUCTURED-LOCATION;VALUE=URI;X-ADDRESS=Hoeksema Farm 9754 Whitbeck RD Montague MI 49437 United States;X-APPLE-RADIUS=500;X-TITLE=9754 Whitbeck RD:geo:-86.3751192,43.4358973
END:VEVENT
END:VCALENDAR