BEGIN:VCALENDAR
VERSION:2.0
PRODID:-//Miedema Auctioneering &amp; Appraisals, Inc. - ECPv6.0.5//NONSGML v1.0//EN
CALSCALE:GREGORIAN
METHOD:PUBLISH
X-WR-CALNAME:Miedema Auctioneering &amp; Appraisals, Inc.
X-ORIGINAL-URL:https://www.miedemaauctioneering.com
X-WR-CALDESC:Events for Miedema Auctioneering &amp; Appraisals, Inc.
REFRESH-INTERVAL;VALUE=DURATION:PT1H
X-Robots-Tag:noindex
X-PUBLISHED-TTL:PT1H
BEGIN:VTIMEZONE
TZID:America/Detroit
BEGIN:DAYLIGHT
TZOFFSETFROM:-0500
TZOFFSETTO:-0400
TZNAME:EDT
DTSTART:20210314T070000
END:DAYLIGHT
BEGIN:STANDARD
TZOFFSETFROM:-0400
TZOFFSETTO:-0500
TZNAME:EST
DTSTART:20211107T060000
END:STANDARD
END:VTIMEZONE
BEGIN:VEVENT
DTSTART;TZID=America/Detroit:20210619T100000
DTEND;TZID=America/Detroit:20210619T233000
DTSTAMP:20260420T063842
CREATED:20210506T163854Z
LAST-MODIFIED:20221011T174358Z
UID:10000571-1624096800-1624145400@www.miedemaauctioneering.com
SUMMARY:Hoek Estate Equipment\, Shop Tools\, and Collectables Auction
DESCRIPTION:Having decided to downsize and move into a condo Miedema Auctioneering will be selling the Home\, Barns\, and real estate along with the personal property of Glenn and Linda Hoek. The personal property features a 1973 Mercury Cougar XR7 with a 351 Cleveland with 54\,000 miles\, Ford 9N Tractor\, lawn and garden equipment\, John Deere mowers\, generators\, Motors\, shop tools and hand tools\, golf clubs\, garage equipment\, coca cola collectables\, Indian motorcycle signs\, many other signs and collectable items\, household furniture and other items. This is a great opportunity to buy a beautiful home in Alto on Riley Ridge with 2.78 acres. There is sure to be something for everyone\, don’t miss out! The Equipment and personal property start at 10 am bid live or online!\nAUCTION RESULTS\nAuction Catalog\nTerms & Conditions \n\n				\n			\n\n				\n			\n\n				\n			\n\n				\n			\n\n				\n			\n\n				\n			\n\n				\n			\n\n				\n			\n\n				\n			\n\n				\n			\n\n				\n			\n\n				\n			\n\n				\n			\n\n				\n			\n\n				\n			\n\n				\n			\n\n				\n			\n\n				\n			\n\n				\n			\n\n				\n			\n\n				\n			\n\n				\n			\n\n				\n			\n\n				\n			\n\n				\n			\n\n				\n			\n\n				\n			\n\n				\n			\n\n				\n			\n\n				\n			\n\n				\n			\n\n				\n			\n\n				\n			\n\n				\n			\n\n				\n			\n\n				\n			\n\n				\n			\n\n				\n			\n\n				\n			\n\n				\n			\n\n				\n			\n\n				\n			\n\n				\n			\n\n				\n			\n\n				\n			\n\n				\n			\n\n				\n			\n\n				\n			\n\n				\n			\n\n				\n			\n\n				\n			\n\n				\n			\n\n				\n			\n\n				\n			\n\n				\n			\n\n				\n			\n\n				\n			\n\n				\n			\n\n				\n			\n\n				\n			\n\n				\n			\n\n				\n			\n\n				\n			\n\n				\n			\n\n				\n			\n\n				\n			\n\n				\n			\n\n				\n			\n\n				\n			\n\n				\n			\n\n				\n			\n\n				\n			\n\n				\n			\n\n				\n			\n\n				\n			\n\n				\n			\n\n				\n			\n\n				\n			\n\n				\n			\n\n				\n			\n\n				\n			\n\n				\n			\n\n				\n			\n\n				\n			\n\n				\n			\n\n				\n			\n\n				\n			\n\n				\n			\n\n				\n			\n\n				\n			\n\n				\n			\n\n				\n			\n\n				\n			\n\n				\n			\n\n				\n			\n\n				\n			\n\n				\n			\n\n				\n			\n\n				\n			\n\n				\n			\n\n				\n			\n\n				\n			\n\n				\n			\n\n				\n			\n\n				\n			\n\n				\n			\n\n				\n			\n\n				\n			\n\n				\n			\nTERMS & CONDITIONS\nInspection: \n\nJune 18\, 2021. 9am-4pm\n\nRemoval Times/Failure To Remove: \n\nAuction day until 4pm\nMonday June 21 from 9 am to 4 Pm\nOther Appointments Available by arrangement\n\n\n\nSales Tax: \n\nTitled vehicles will be charged Michigan State Sales Tax\, unless you provide our office with a copy of a valid dealer’s license (NO EXCEPTIONS). For exemption from sales tax on agricultural items\, buyers will need to sign an agricultural exemption statement. Michigan buyers can Download the form here\n\nBuyers of Titled Vehicles: \n\nState regulations require that we broker all vehicles sold\, therefore you must sign your paperwork in the auction office.\nA $125 title broker fee will be charged for paperwork. In addition\, a $15 State of Michigan title application fee will be collected for the state of Michigan (Dealers are exempt from the title application fee ONLY).\nMiedema Auctioneering will then process your title. If you wish to plate your vehicle there will be an additional fee. Proof of insurance will need to be provided for buying a plate.\nContact our Title Coordinator (Charlyn) at 616-261-4972 with questions or to finalize title processing after purchase.\n\nTerms: \n\nAll items sell “AS IS\, WHERE IS” with no warranty. There shall be no guarantees or warranties\, expressed or implied\, statutory or otherwise as to the merchantability or fitness for any particular purpose of any goods offered in this sale.\n\nBuyer’s Premium: \n\nOnsite buyers: 13% with a 3% discount on Buyer’s Premium if paid by cash or check.\nInternet/Online buyers: 16% with a 3% discount on Buyer’s Premium when invoice is paid with cash\, check or wire transfer\n\nPayment: \n\nAuction day by cash\, cashier’s check\, Visa\, Mastercard\, & personal check (Personal checks will be accepted at the auction company’s discretion.)\n3% Buyer’s Premium is added to the high bid. This 3% is waived if paid by cash or check.\nOut-of-state checks MUST have a bank letter of credit GUARANTEEING payment to MIEDEMA AUCTIONEERING INC. for this auction and the amount of funds being guaranteed. See guarantee form HERE\n\nAll written material is subject to change. Announcements made day of sale take precedence over printed material.
URL:https://www.miedemaauctioneering.com/auction-calendar/hoek-estate-equipment-shop-tools-and-collectables-auction/
LOCATION:Hoek Estate Real Estate\, 9830 Riley Ridge Rd. SE\, Alto\, MI\, 49302\, United States
CATEGORIES:Live and Online Webcast Auction
ATTACH;FMTTYPE=image/jpeg:https://miedemaauctioneering.s3.amazonaws.com/wp-content/uploads/2021/05/21130015/h2.jpg
ORGANIZER;CN="Jordan%20Miedema%20%E2%80%93%20Auction%20Manager":MAILTO:jordan@1800lastbid.com
GEO:42.7858495;-85.4582743
X-APPLE-STRUCTURED-LOCATION;VALUE=URI;X-ADDRESS=Hoek Estate Real Estate 9830 Riley Ridge Rd. SE Alto MI 49302 United States;X-APPLE-RADIUS=500;X-TITLE=9830 Riley Ridge Rd. SE:geo:-85.4582743,42.7858495
END:VEVENT
BEGIN:VEVENT
DTSTART;TZID=America/Detroit:20210619T120000
DTEND;TZID=America/Detroit:20210619T170000
DTSTAMP:20260420T063842
CREATED:20210506T152818Z
LAST-MODIFIED:20221011T173734Z
UID:10000570-1624104000-1624122000@www.miedemaauctioneering.com
SUMMARY:Hoek Estate Real Estate Auction
DESCRIPTION:Having decided to downsize and move into a condo\, Miedema Auctioneering will be selling the Home\, Barns\, and real estate along with the personal property of Glenn and Linda Hoek.\nThe real estate features a + 3300 SF Ranch home with 4 bedrooms and 2.5 bathrooms\, walk out basement\, 2 stall attached garage\, deck\, and a pole barn on 2.78 acres in Alto\, MI. The main floor is approximately 1752 SF and the downstairs is approximately 1664 SF. The main floor has a kitchen\, living room area\, sunroom\, master bedrooms and bathroom\, and one other bedroom and half bathroom. The downstairs has 2 bedrooms\, a bathroom\, and a rec room. The pole barn has a shop area and back storage area\, two overhead doors\, and an oil pit. Home has a wood foundation. The property has well and sceptic and NG. The home is on a shared drive in Riley Ridge.\nThis is a hard to find\, great opportunity to buy a beautiful home\, with a pole barn in private setting in Alto\, MI! Real Estate will be sold on a live auction at 12:00 PM.\nOpen house on Friday June 18 from 9 am – 4 pm.\nBidder PacketTitle Commitment & Vesting Documents\nDeclaration of Private Road Documents\nRiley Ridge – Declaration of Covenants Documents\nSellers Disclosure Statement\nAppraisal Documents\nSurvey Documents\nTerms & Conditions\nBroker Participation Form \n\n				\n			\n\n				\n			\n\n				\n			\n\n				\n			\n\n				\n			\n\n				\n			\n\n				\n			\n\n				\n			\n\n				\n			\n\n				\n			\n\n				\n			\n\n				\n			\n\n				\n			\n\n				\n			\n\n				\n			\n\n				\n			\n\n				\n			\n\n				\n			\n\n				\n			\n\n				\n			\n\n				\n			\n\n				\n			\n\n				\n			\n\n				\n			\n\n				\n			\n\n				\n			\n\n				\n			\n\n				\n			\n\n				\n			\n\n				\n			\n\n				\n			\n\n				\n			\n\n				\n			\n\n				\n			\n\n				\n			\n\n				\n			\n\n				\n			\n\n				\n			\n\n				\n			\n\n				\n			\n\n				\n			\n\n				\n			\n\n				\n			\n\n				\n			\n\n				\n			\n\n				\n			\n\n				\n			\n\n				\n			\n\n				\n			\n\n				\n			\n\n				\n			\n\n				\n			\n\n				\n			\n\n				\n			\n\n				\n			\n\n				\n			\n\n				\n			\n\n				\n			\n\n				\n			\n\n				\n			\n\n				\n			\n\n				\n			\n\n				\n			\nTERMS & CONDITIONS\nOpen House Times: \n\nFriday\, June 18 from 9 am – 4 pm\n\nBuyer’s Premium: \n\n4%\n\nAll written material is subject to change. Announcements made day of sale take precedence over printed material.
URL:https://www.miedemaauctioneering.com/auction-calendar/hoek-estate-real-estate-auction/
LOCATION:Hoek Estate Real Estate\, 9830 Riley Ridge Rd. SE\, Alto\, MI\, 49302\, United States
CATEGORIES:Live Real Estate Auction
ATTACH;FMTTYPE=image/jpeg:https://miedemaauctioneering.s3.amazonaws.com/wp-content/uploads/2021/05/06115404/9830RileyRidge24HiRes.jpg
ORGANIZER;CN="Jordan%20Miedema%20%E2%80%93%20Auction%20Manager":MAILTO:jordan@1800lastbid.com
GEO:42.7858495;-85.4582743
X-APPLE-STRUCTURED-LOCATION;VALUE=URI;X-ADDRESS=Hoek Estate Real Estate 9830 Riley Ridge Rd. SE Alto MI 49302 United States;X-APPLE-RADIUS=500;X-TITLE=9830 Riley Ridge Rd. SE:geo:-85.4582743,42.7858495
END:VEVENT
END:VCALENDAR