BEGIN:VCALENDAR
VERSION:2.0
PRODID:-//Miedema Auctioneering &amp; Appraisals, Inc. - ECPv6.0.5//NONSGML v1.0//EN
CALSCALE:GREGORIAN
METHOD:PUBLISH
X-WR-CALNAME:Miedema Auctioneering &amp; Appraisals, Inc.
X-ORIGINAL-URL:https://www.miedemaauctioneering.com
X-WR-CALDESC:Events for Miedema Auctioneering &amp; Appraisals, Inc.
REFRESH-INTERVAL;VALUE=DURATION:PT1H
X-Robots-Tag:noindex
X-PUBLISHED-TTL:PT1H
BEGIN:VTIMEZONE
TZID:America/Detroit
BEGIN:DAYLIGHT
TZOFFSETFROM:-0500
TZOFFSETTO:-0400
TZNAME:EDT
DTSTART:20230312T070000
END:DAYLIGHT
BEGIN:STANDARD
TZOFFSETFROM:-0400
TZOFFSETTO:-0500
TZNAME:EST
DTSTART:20231105T060000
END:STANDARD
END:VTIMEZONE
BEGIN:VEVENT
DTSTART;TZID=America/Detroit:20231214T100000
DTEND;TZID=America/Detroit:20231214T233000
DTSTAMP:20260419T083618
CREATED:20230926T150751Z
LAST-MODIFIED:20231214T131817Z
UID:10009077-1702548000-1702596600@www.miedemaauctioneering.com
SUMMARY:Glei’s Orchard & Greenhouses Equipment Live Auction
DESCRIPTION:Interviews with Owen Glei – Owner\n		https://www.youtube.com/watch?v=Lm3QC8o_kw4https://www.youtube.com/watch?v=vThaM3YTstA \nBy order of the Hillsdale County Circuit Court\, Miedema Auctioneering will be selling all of the equipment of Glei’s Orchard & Greenhouse through Live Auction at the farm at 3500 Milnes Rd.\, Hillsdale\, MI. Auction will include orchard farm equipment\, complete Compac apple grading line\, complete cider processing line\, wind machines\, Greenhouse equipment\, farm equipment\, trucks\, trailers\, apple bins\, shop tools\, etc. Live auction at the farm with internet bidding available. \nTractors\, Forklifts\, Skid Steer \n• Kubota M8030\, 4WD\, Open Station Tractor• NH T5060 Tractor\, Loader\, MFWD\, Cab• NH Workmaster 50 Tractor\, MFWD• 2018 Kubota MS111 Tractor\, Cab\, Narrow\, Quikie X16 Loader\, 3565 Hrs• NH TC18 Orchard Tractor• Farmall M Tractor• Komatsu 15 Forklift• Hyster 2005 Forklift• Mitsubishi FGC 25N Hi Lo\, Propane• CAT 289 Track Skid Steer\, Enclosed Cab\, 2063 Hrs \nApple Processing & Packing Equipment• Complete Compac brand Apple Grading line including: Dump Tank\, prelim sizer\, washer/waxer\, Drying tunnel\, Singleline sizer\, Spectrum external defect detector (new 2017)– also wired for internal defect attachment\, 10 drop bag table\, tray packer\, etc.• Offered separately: FHS Brand bin filler w/ round table \nCider Equipment (Most New in 2010) \n• Mechanical Bin dumper\, receiving belt\, washer\, absorber & brushes\, elevator\, Hammermill\, Good Nature brand squeeze box press\, model SX 280• Filler Specialties 6 head bottle filler• Cider Sure UV machine\, model 5500• (3) Chem-Tek SS tanks\, 600 gallon \nGreenhouse Equipment• Elevator• Drum Mixer• Holding Hopper – ±12 yards w/bagger unit• Flat Filler• Blackmore Rotary Seeder \nOrchard Equipment• (2) Ag Tec 400C Orchard Sprayers\, Orchard & Row Crop Heads• 2200 Apple Bins\, Mich Standard Boxes• JD MX8 Brush Cutter• Orsi Orchard Platform\, Equipped for Harvest\, Air Comp• FAMA (Italy) Orchard Hedger• Phil Brown Weed Broom• Phil Brown Brush Sweep\, 14-15’• Edwards Brush Sweep\, 12’• Phil Brown Root Pruner• Phil Brown Tree Planter• (3) Orchard Rite Frost Fans\, FordV-12\, Auto\, LP• (2) Hail Bangers hail cannons\, acytelene \nTrucks & Trailers• Dodge Ram 1500 Work Truck• Chevy 3500 Truck• Chevy Work Van• 2012 Nissan NV 3500 Van• ’03 Freightliner Tandem Straight Truck\, 26’\, w/ hoist\, CAT• ’98 Dynawald Tandem Dual Trailer\, 25 ton \nTillage Equipment• Rototiller RF1• Krause #2200 Tandem Disc• Tyo Grain Drill• Gleanor Sod Saver 5-Shank Chisel Plow \nPlus Much More \nENTER AUCTION\nRegister to Bid Online\nAuction Catalog\nAuction Brochure\nTerms & Conditions \n\n				\n			\n\n				\n			\n\n				\n			\n\n				\n			\n\n				\n			\n\n				\n			\n\n				\n			\n\n				\n			\n\n				\n			\n\n				\n			\n\n				\n			\n\n				\n			\n\n				\n			\n\n				\n			\n\n				\n			\n\n				\n			\n\n				\n			\n\n				\n			\n\n				\n			\n\n				\n			\n\n				\n			\n\n				\n			\n\n				\n			\n\n				\n			\n\n				\n			\n\n				\n			\n\n				\n			\n\n				\n			\n\n				\n			\n\n				\n			\n\n				\n			\n\n				\n			\n\n				\n			\n\n				\n			\n\n				\n			\n\n				\n			\n\n				\n			\n\n				\n			\n\n				\n			\n\n				\n			\n\n				\n			\n\n				\n			\n\n				\n			\n\n				\n			\n\n				\n			\n\n				\n			\n\n				\n			\n\n				\n			\n\n				\n			\n\n				\n			\n\n				\n			\n\n				\n			\n\n				\n			\n\n				\n			\n\n				\n			\nTERMS & CONDITIONS\nInspection: \n\nWednesday\, December 13\, 9am-4pm\nAuction Day beginning at 9am.\n\nRemoval Times/Failure To Remove: \n\nAuction day until 5pm\nOther Appointments Available by arrangement\nNo Sunday removal\n\nSales Tax: \n\nNo sales tax will be charged except on titled/over the road items. All purchases of titled vehicles will be charged a 6% Michigan State Sales Tax. For exemption from sales tax\, you will be required to fill out a tax exemption form with a valid dealer’s resale #. [NO EXEMPTIONS] Michigan buyers can Download the form here\n\nBuyers of Titled Vehicles:\nMichigan Resident buyers: \n\n$125.00 Broker Title Processing Fee (plus Michigan state sales tax) will be charged for all titled items which we are required to broker.\n$15.00 fee for State of Michigan title transfer will be charged.\nOptional: Plate & Registration Fee. At your request\, we can apply for your plates and registration on your behalf. If you wish to have us do so\, you MUST provide us with proof of insurance for the purchased titled item before you can remove it from the auction site. If not\, you must be prepared to tow or trailer your titled item. Fees are based on a calculation of new vehicle class and previous vehicle registration fees (required by State of Michigan). The applicable fees will be added to your invoice.\nOptional: $1.00 – 30 Day Temporary Tag Fee. If you request a temporary tag a $1.00 fee is assessed by the State of Michigan and will be added to your invoice.    **Please Note: if the consignor (seller) listed as seller on the title is a licensed car dealer in the State of Michigan\, the temporary tag will be issued by that dealer upon our request from the buyer. Our company will email you the temporary tag when received from the issuing dealer. Please expect there may be a delay in receiving temporary tag only if the consignor (seller) is a licensed dealer in State of Michigan. If the consignor (seller) is not a licensed dealer\, our company will issue the temporary tag at the time it is requested.\nOptional: $1.00 Lien Fee. If there is a lien holder on the item purchased a $1.00 fee is assessed by the State of Michigan and will be added to your invoice.\nPlease note that buyers will need to sign the appropriate paperwork required by the state for title transfers. Title processing may take up to 21 business days. Then will take 4-10 business days to receive your title from the Secretary of State.\n\nNon-Michigan Residents buyers: \n\n$125.00 Broker Title Processing Fee (plus applicable sales tax rate based on state of residence).\n$15 In – Transit Title Fee – State of Michigan will issue a 60 day temporary plate & registration for use of the unit until the buyer titles in their state of residence.\nAny other necessary fees according to their state rules for titled items.\nPlease note that buyers will need to sign the appropriate paperwork required by the state for title transfers. Title processing may take up to 21 business days. Then will take 4-10 business days to receive your title from the Secretary of State.\n\nFor Out of Country buyers: \n\n$125.00 Broker Title Processing Fee.\nState of Michigan requires we collect 6% sales tax and transfer the title as an “In-Transit” through the Michigan Secretary of State before the title is issued to the buyer.\nIf buyer is able to provide Miedema Auctioneering with a Bill of Lading showing export out of the US\, sales tax may be waived.\nAll out of country buyers must contact our title department to start the paperwork before the item can go across the border. We will need to obtain the appropriate documents and signatures to transfer the title; this could take 3 to 5 weeks. We recommend purchases of titled item made with the intent of taking the titled item out of the country contact the title dept. as soon as a winning bid is accepted.  Contact is Charlyn Reitsma at 616-261-4972 or charlyn@1800lastbid.com\n\nFor Vehicle Dealers: \n\n$25 Dealer Title Fee – for re-assignment of title.  We may request a copy of your valid dealer’s license for verification.\n\nTerms: \n\nAll items sell “AS IS\, WHERE IS” with no warranty. There shall be no guarantees or warranties\, expressed or implied\, statutory or otherwise as to the merchantability or fitness for any particular purpose of any goods offered in this sale.\n\nBuyer’s Premium: \n\nOnsite bidders: 0% if paid by cash\, check\, or wire transfer (see check payment restrictions); 3% if paid by credit card\nOnline bidders: 3% if paid by cash\, check\, or wire transfer (see check payment restrictions); 6% if paid by credit card\n\nPayments are expected on the day of Auction. [Online bidders have 3 days to pay for item in full] \n\nCash\nCashier’s check\nWire Transfer\n*Personal & Business checks will be accepted at auction company discretion.  Checks will not be accepted from buyers who reside outside of Michigan or drawn on a bank outside of Michigan.  Buyers from outside of Michigan are required to pay by wire transfer or cash\n*Credit Card for total purchase of $2\,000 maximum or less\, with 3% buyer’s premium added.\n\nAll written material is subject to change. Announcements made day of sale take precedence over printed material.
URL:https://www.miedemaauctioneering.com/auction-calendar/gleis-orchard-greenhouses-equipment-live-auction/
LOCATION:Glei’s Orchard & Greenhouses\, 3500 Milnes Rd\, Hillsdale\, MI\, 49242\, United States
CATEGORIES:Live and Online Webcast Auction
ATTACH;FMTTYPE=image/jpeg:https://miedemaauctioneering.s3.amazonaws.com/wp-content/uploads/2023/09/26110136/Gleis-Orchard-Greenhouses-Equipment-Live-Auction-scaled.jpg
ORGANIZER;CN="Jeremy%20Miedema%20-%20Auction%20Manager":MAILTO:jeremy@1800lastbid.com
GEO:41.9483266;-84.5951119
X-APPLE-STRUCTURED-LOCATION;VALUE=URI;X-ADDRESS=Glei’s Orchard & Greenhouses 3500 Milnes Rd Hillsdale MI 49242 United States;X-APPLE-RADIUS=500;X-TITLE=3500 Milnes Rd:geo:-84.5951119,41.9483266
END:VEVENT
END:VCALENDAR