BEGIN:VCALENDAR
VERSION:2.0
PRODID:-//Miedema Auctioneering &amp; Appraisals, Inc. - ECPv6.0.5//NONSGML v1.0//EN
CALSCALE:GREGORIAN
METHOD:PUBLISH
X-WR-CALNAME:Miedema Auctioneering &amp; Appraisals, Inc.
X-ORIGINAL-URL:https://www.miedemaauctioneering.com
X-WR-CALDESC:Events for Miedema Auctioneering &amp; Appraisals, Inc.
REFRESH-INTERVAL;VALUE=DURATION:PT1H
X-Robots-Tag:noindex
X-PUBLISHED-TTL:PT1H
BEGIN:VTIMEZONE
TZID:America/Detroit
BEGIN:DAYLIGHT
TZOFFSETFROM:-0500
TZOFFSETTO:-0400
TZNAME:EDT
DTSTART:20170312T070000
END:DAYLIGHT
BEGIN:STANDARD
TZOFFSETFROM:-0400
TZOFFSETTO:-0500
TZNAME:EST
DTSTART:20171105T060000
END:STANDARD
END:VTIMEZONE
BEGIN:VEVENT
DTSTART;TZID=America/Detroit:20171107T080000
DTEND;TZID=America/Detroit:20171107T170000
DTSTAMP:20260420T095718
CREATED:20171016T204952Z
LAST-MODIFIED:20200207T211945Z
UID:10000412-1510041600-1510074000@www.miedemaauctioneering.com
SUMMARY:Gilbert Farms **Online Auction with Orbitbid.com**
DESCRIPTION:Description:\nHaving sold the real estate Gilbert Farms have chosen Orbitbid.com to liquidate the remaining farm equipment with a one day online auction on Tuesday November 7\, 2017 starting at 8:00am and starts closing at 7:00PM.Auction highlights:\nJohn Deere 4520 Loader Tractor\, John Deere 7700 Combine\, Case 930 Tractor\, CASE 830 Tractor\, Case 1370 Tractor\, 98 International Semi Truck\, Sunflower 26′ Disc\,Bush Hog 14′ Disc\, 6500 bu Grain Bin\, 3000 bu Grain Bin\, Planter\, Gravity Wagons plus much more.Preview day will be Monday\, November 6\, 2017 from 9am-4pm and auction day from 8am-5pm.\n\nENTER AUCTION\nRegister to Bid Online
URL:https://www.miedemaauctioneering.com/auction-calendar/gilbert-farms-online-auction-with-orbitbid-com/
LOCATION:Gilbert Farms\, 1891 Windslow\, Imlay City (Attica)\, MI\, 48444\, United States
CATEGORIES:Online Only Auction
ATTACH;FMTTYPE=image/jpeg:https://miedemaauctioneering.s3.amazonaws.com/wp-content/uploads/2017/10/16164821/c436888dcee2c69539ab1f33abab323a.jpg
ORGANIZER;CN="Chuck%20Ranney%20-%20Auction%20Manager":MAILTO:chuck@1800lastbid.com
GEO:43.0078612;-83.1213997
X-APPLE-STRUCTURED-LOCATION;VALUE=URI;X-ADDRESS=Gilbert Farms 1891 Windslow Imlay City (Attica) MI 48444 United States;X-APPLE-RADIUS=500;X-TITLE=1891 Windslow:geo:-83.1213997,43.0078612
END:VEVENT
END:VCALENDAR