BEGIN:VCALENDAR
VERSION:2.0
PRODID:-//Miedema Auctioneering &amp; Appraisals, Inc. - ECPv6.0.5//NONSGML v1.0//EN
CALSCALE:GREGORIAN
METHOD:PUBLISH
X-ORIGINAL-URL:https://www.miedemaauctioneering.com
X-WR-CALDESC:Events for Miedema Auctioneering &amp; Appraisals, Inc.
REFRESH-INTERVAL;VALUE=DURATION:PT1H
X-Robots-Tag:noindex
X-PUBLISHED-TTL:PT1H
BEGIN:VTIMEZONE
TZID:America/Detroit
BEGIN:DAYLIGHT
TZOFFSETFROM:-0500
TZOFFSETTO:-0400
TZNAME:EDT
DTSTART:20180311T070000
END:DAYLIGHT
BEGIN:STANDARD
TZOFFSETFROM:-0400
TZOFFSETTO:-0500
TZNAME:EST
DTSTART:20181104T060000
END:STANDARD
BEGIN:DAYLIGHT
TZOFFSETFROM:-0500
TZOFFSETTO:-0400
TZNAME:EDT
DTSTART:20190310T070000
END:DAYLIGHT
BEGIN:STANDARD
TZOFFSETFROM:-0400
TZOFFSETTO:-0500
TZNAME:EST
DTSTART:20191103T060000
END:STANDARD
END:VTIMEZONE
BEGIN:VEVENT
DTSTART;TZID=America/Detroit:20181010T170000
DTEND;TZID=America/Detroit:20181010T233000
DTSTAMP:20260419T210703
CREATED:20180803T171201Z
LAST-MODIFIED:20200207T210911Z
UID:10000426-1539190800-1539214200@www.miedemaauctioneering.com
SUMMARY:*NEW DATE: Auction will be held on APRIL 11\, 2019 !! Gerald and Donna Kehoe Estate Personal Property
DESCRIPTION:  \n*NEW DATE: Auction will be held on APRIL 11\, 2019 !! Gerald and Donna Kehoe Estate Personal Property\n  \n[btn text=”VIEW NEW AUCTION” border=”5px” bordercolor=”#444″ tcolor=”#444″ bcolor=”transparent” thovercolor=”#ffffff” bhovercolor=”#444″ link=”https://www.miedemaauctioneering.com/auction-calendar/gerald-and-donna-kehoe-estate-personal-property-auction-2/” size=”large” font=”h1-family”] \nDescription:\nThe Family of Gerald and Donna Kehoe have hired Miedema Auctioneering to conduct a live auction on Wednesday\, October 10\, 2018 at 5:00 PM. This personal property auction will consist of a Loader Backhoe\, Tractors\, Implements\, Tools\, Riding Lawn Mower\, Shop Equipment\, household items such as furniture\, dishes\, antiques\, bedroom sets and more. We will have pictures and more details coming soon. This is a very clean estate that you don’t want to miss! \n*Please note we will be selling the Real Estate on October 17th at 6:00 PM.
URL:https://www.miedemaauctioneering.com/auction-calendar/gerald-and-donna-kehoe-estate-personal-property-auction/
LOCATION:Gerald and Donna Kehoe Estate\, 10384 Kehoe DR NE.\, Ada\, MI\, 49301\, United States
CATEGORIES:Live Auction
ATTACH;FMTTYPE=image/jpeg:https://miedemaauctioneering.s3.amazonaws.com/wp-content/uploads/2018/08/15111209/IMG_2031.jpg
ORGANIZER;CN="Chuck%20Ranney%20-%20Auction%20Manager":MAILTO:chuck@1800lastbid.com
GEO:43.030633;-85.413859
X-APPLE-STRUCTURED-LOCATION;VALUE=URI;X-ADDRESS=Gerald and Donna Kehoe Estate 10384 Kehoe DR NE. Ada MI 49301 United States;X-APPLE-RADIUS=500;X-TITLE=10384 Kehoe DR NE.:geo:-85.413859,43.030633
END:VEVENT
BEGIN:VEVENT
DTSTART;TZID=America/Detroit:20181017T180000
DTEND;TZID=America/Detroit:20181017T233000
DTSTAMP:20260419T210703
CREATED:20180803T173147Z
LAST-MODIFIED:20200207T211736Z
UID:10000427-1539799200-1539819000@www.miedemaauctioneering.com
SUMMARY:**NEW DATE: Auction will be held on APRIL 18\, 2019 !! Gerald and Donna Kehoe Estate Real Estate
DESCRIPTION:  \n**NEW DATE: Auction will be held on APRIL 18\, 2019 !! Gerald and Donna Kehoe Estate Real Estate\n  \nDescription: \n[btn text=”VIEW NEW AUCTION” border=”5px” bordercolor=”#444″ tcolor=”#444″ bcolor=”transparent” thovercolor=”#ffffff” bhovercolor=”#444″ link=”https://www.miedemaauctioneering.com/auction-calendar/gerald-and-donna-kehoe-estate-real-estate-auction-2/” size=”large” font=”h1-family”] \nThe Family of Gerald and Donna Kehoe have hired Miedema Auctioneering to conduct a live auction on Wednesday\, October 17\, 2018 at 6:00 PM to sell the Real Estate. This property features a ranch style home with a 2 stall garage\, outbuilding\, pond\, and 35 acres of land. You will have the opportunity to purchase a buildable site\, home and acreage. This property will be selling within 3-4 parcels or in its entirety. Visit our website for updated information within the coming weeks. This is an outstanding opportunity to purchase a piece of property in a very desirable area.
URL:https://www.miedemaauctioneering.com/auction-calendar/gerald-and-donna-kehoe-estate-real-estate-auction/
LOCATION:Gerald and Donna Kehoe Estate\, 10384 Kehoe DR NE.\, Ada\, MI\, 49301\, United States
CATEGORIES:Live Real Estate Auction
ATTACH;FMTTYPE=image/jpeg:https://miedemaauctioneering.s3.amazonaws.com/wp-content/uploads/2018/08/15112858/IMG_9833.jpg
ORGANIZER;CN="Chuck%20Ranney%20-%20Auction%20Manager":MAILTO:chuck@1800lastbid.com
GEO:43.030633;-85.413859
X-APPLE-STRUCTURED-LOCATION;VALUE=URI;X-ADDRESS=Gerald and Donna Kehoe Estate 10384 Kehoe DR NE. Ada MI 49301 United States;X-APPLE-RADIUS=500;X-TITLE=10384 Kehoe DR NE.:geo:-85.413859,43.030633
END:VEVENT
BEGIN:VEVENT
DTSTART;TZID=America/Detroit:20190411T170000
DTEND;TZID=America/Detroit:20190411T233000
DTSTAMP:20260419T210704
CREATED:20181005T172258Z
LAST-MODIFIED:20200207T211715Z
UID:10000437-1555002000-1555025400@www.miedemaauctioneering.com
SUMMARY:Gerald and Donna Kehoe Estate Personal Property Auction
DESCRIPTION:Description:\nThe Family of Gerald and Donna Kehoe have hired Miedema Auctioneering to conduct a live auction on Thursday\, April 11\, 2019 at 5:00 PM. This personal property auction will consist of a Loader Backhoe\, Tractors\, Implements\, Tools\, Riding Lawn Mower\, Shop Equipment\, household items such as furniture\, dishes\, antiques\, bedroom sets and more. We will have pictures and more details coming soon. This is a very clean estate that you don’t want to miss! *Please note we will be selling the Real Estate on April 18th\, 2019 at 6:00 PM.\nAuction Brochure\nRiggers & Haulers\nTerms & Conditions\nAuction Photos:\n\n			\n				\n			\n			\n				\n			\n			\n				\n			\n			\n				\n			\n			\n				\n			\n			\n				\n			\n			\n				\n			\n			\n				\n			\n			\n				\n			\n			\n				\n			\n			\n				\n			\n			\n				\n			\n			\n				\n			\n			\n				\n			\n			\n				\n			\n			\n				\n			\n			\n				\n			\n			\n				\n			\n			\n				\n			\n			\n				\n			\n			\n				\n			\n			\n				\n			\n			\n				\n			\n			\n				\n			\n			\n				\n			\n			\n				\n			\n			\n				\n			\n			\n				\n			\n			\n				\n			\n			\n				\n			\n			\n				\n			\n			\n				\n			\n			\n				\n			\n			\n				\n			\n			\n				\n			\n			\n				\n			\n			\n				\n			\n			\n				\n			\n			\n				\n			\n			\n				\n			\n			\n				\n			\n			\n				\n			\n			\n				\n			\n			\n				\n			\n			\n				\n			\n			\n				\n			\n			\n				\n			\n			\n				\n			\n			\n				\n			\n			\n				\n			\n			\n				\n			\n			\n				\n			\n			\n				\n			\n			\n				\n			\n			\n				\n			\n			\n				\n			\n			\n				\n			\n			\n				\n			\n			\n				\n			\n			\n				\n			\n			\n				\n			\n			\n				\n			\n			\n				\n			\n			\n				\n			\n			\n				\n			\n			\n				\n			\n			\n				\n			\n			\n				\n			\n			\n				\n			\n			\n				\n			\n			\n				\n			\n			\n				\n			\n			\n				\n			\n			\n				\n			\n			\n				\n			\n			\n				\n			\n			\n				\n			\n			\n				\n			\n			\n				\n			\n			\n				\n			\n			\n				\n			\n			\n				\n			\n			\n				\n			\n			\n				\n			\n			\n				\n			\n			\n				\n			\n			\n				\n			\n			\n				\n			\n			\n				\n			\n			\n				\n			\n			\n				\n			\n			\n				\n			\n			\n				\n			\n			\n				\n			\n			\n				\n			\n			\n				\n			\n			\n				\n			\n			\n				\n			\n			\n				\n			\n			\n				\n			\n			\n				\n			\n			\n				\n			\n			\n				\n			\n			\n				\n			\n			\n				\n			\n			\n				\n			\n			\n				\n			\n			\n				\n			\n			\n				\n			\n			\n				\n			\n			\n				\n			\n		\n \nTERMS & CONDITIONS\nInspection: \n\nAuction Day\n\nRemoval Times/Failure To Remove: \n\nAuction day\n\nLoading: \n\nLight duty forklift available on auction day\n\nBuyers of Titled Vehicles: \n\nState regulations require that we broker all vehicles sold\, therefore you must sign your paperwork in the auction office. A $125 title broker fee will be charged for paperwork. In addition\, a $15 State of Michigan title application fee will be collected for the state of Michigan (Dealers are exempt from the title application fee ONLY). Miedema Auctioneering will then process your title. If you wish to plate your vehicle there will be an additional fee. Proof of insurance will need to be provided for removal.\n\nTerms: \n\nAll items sell “AS IS\, WHERE IS” with no warranty. There shall be no guarantees or warranties\, expressed or implied\, statutory or otherwise as to the merchantability or fitness for any particular purpose of any goods offered in this sale.\n\nBuyer’s Premium: \n\nOnsite buyers: 3% with a 3% discount on Buyer’s Premium when invoice is paid with cash or check onsite\n\nPayment: \n\nAuction day by cash\, cashier’s check\, Visa\, Mastercard\, & personal check (Personal checks will be accepted at the auction company’s discretion.)\n3% discount on Buyer’s Premium if paid by cash or check.\nOut-of-state checks MUST have a bank letter of credit GUARANTEEING payment to MIEDEMA AUCTIONEERING INC. for this auction and the amount of funds being guaranteed. See guarantee form HERE\n\nSales Tax: \n\nSeller is not required to collect Sales Tax on this auction.\n\nAll written material is subject to change. Announcements made day of sale take precedence over printed material.
URL:https://www.miedemaauctioneering.com/auction-calendar/gerald-and-donna-kehoe-estate-personal-property-auction-2/
LOCATION:Gerald and Donna Kehoe Estate\, 10384 Kehoe DR NE.\, Ada\, MI\, 49301\, United States
CATEGORIES:Live Auction
ATTACH;FMTTYPE=image/jpeg:https://miedemaauctioneering.s3.amazonaws.com/wp-content/uploads/2018/09/17154632/IMG_2031.jpg
ORGANIZER;CN="Chuck%20Ranney%20-%20Auction%20Manager":MAILTO:chuck@1800lastbid.com
GEO:43.030633;-85.413859
X-APPLE-STRUCTURED-LOCATION;VALUE=URI;X-ADDRESS=Gerald and Donna Kehoe Estate 10384 Kehoe DR NE. Ada MI 49301 United States;X-APPLE-RADIUS=500;X-TITLE=10384 Kehoe DR NE.:geo:-85.413859,43.030633
END:VEVENT
END:VCALENDAR