BEGIN:VCALENDAR
VERSION:2.0
PRODID:-//Miedema Auctioneering &amp; Appraisals, Inc. - ECPv6.0.5//NONSGML v1.0//EN
CALSCALE:GREGORIAN
METHOD:PUBLISH
X-ORIGINAL-URL:https://www.miedemaauctioneering.com
X-WR-CALDESC:Events for Miedema Auctioneering &amp; Appraisals, Inc.
REFRESH-INTERVAL;VALUE=DURATION:PT1H
X-Robots-Tag:noindex
X-PUBLISHED-TTL:PT1H
BEGIN:VTIMEZONE
TZID:America/Detroit
BEGIN:DAYLIGHT
TZOFFSETFROM:-0500
TZOFFSETTO:-0400
TZNAME:EDT
DTSTART:20160313T070000
END:DAYLIGHT
BEGIN:STANDARD
TZOFFSETFROM:-0400
TZOFFSETTO:-0500
TZNAME:EST
DTSTART:20161106T060000
END:STANDARD
END:VTIMEZONE
BEGIN:VEVENT
DTSTART;TZID=America/Detroit:20160623T100000
DTEND;TZID=America/Detroit:20160623T170000
DTSTAMP:20260420T150849
CREATED:20160504T200251Z
LAST-MODIFIED:20200207T210027Z
UID:10000031-1466676000-1466701200@www.miedemaauctioneering.com
SUMMARY:FLINT\, MI: Construction Equipment\, Farm Equipment\, Landscape Equipment and Support Equipment
DESCRIPTION:Equipment auction featuring construction equipment\, landscape equipment and farm equipment to include excavators\, crawler dozers\, wheel loaders\, backhoes\, skid steers\, trucks\, trailers\, farm tractors\, farm implements\, lawn mowers\, support equipment and much more.\n  \n[btn text=”Enter Live Auction” link=”https://www.proxibid.com/asp/Catalog.asp?aid=112381″ tcolor=”#ffffff” bcolor=”#ed1c24″ bordercolor=”#808080″ thovercolor=”#ffffff” bhovercolor=”#7c0000″ borderhovercolor=”#808080″ border=”1px” icon=”kt-icon-hammer” target=”true”]\n[btn text=”View Auction Catalog” link=”https://miedemaauctioneering.s3.amazonaws.com/wp-content/uploads/2016/06/22162203/20160622160737287.pdf” tcolor=”#ffffff” bcolor=”#000000″ bordercolor=”#808080″ thovercolor=”#ffffff” bhovercolor=”#565656″ borderhovercolor=”#808080″ border=”1px” target=”true”]\n[btn text=”Auction Contract” link=”https://miedemaauctioneering.s3.amazonaws.com/wp-content/uploads/2016/06/07155531/Flint-2016-Contract1.pdf” tcolor=”#ffffff” bcolor=”#714F30″ bordercolor=”#808080″ thovercolor=”#ffffff” bhovercolor=”#3C2007″ borderhovercolor=”#808080″ border=”1px” target=”true”]\n[btn text=”Consignment Postcard” link=”https://miedemaauctioneering.s3.amazonaws.com/wp-content/uploads/2016/06/07104522/Flint-Auctio-Postcard-LOW-RES.pdf” tcolor=”#ffffff” bcolor=”#00A200″ bordercolor=”#808080″ thovercolor=”#ffffff” bhovercolor=”#007D00″ borderhovercolor=”#808080″ border=”1px” target=”true”]\n[icon color=”#800000″ icon=”kt-icon-arrow-down3″ size=”12px”]Scroll to Auction Photos\n[icon color=”#800000″ icon=”kt-icon-arrow-down3″ size=”12px”]Scroll to Venue Information \n\nInspection Times \n\nWednesday\, June 22\, 8:00 to 5:00pm\n\nRemoval Times/Failure To Remove \n\nMonday-Friday | 8:00 to 5:00pm\n\nLoading and Additional Removal Information \n\nForklift available for loading on all removal dates\n\nBuyer’s Premium \n\nOnsite Buyers: Buyer’s Premium of 6% will be added to purchases; with a 3% discount for paying with cash\, personal or company check\, or wire transfer**\nProxibid Buyers: Buyer’s Premium of 12% will be added to purchases; with a 3% discount for paying with cash\, personal or company check\, or wire transfer**\n\nPayment \n\nComplete payment auction day by Cash\, Cashier’s Check\, Good Check\, Credit Card\nPersonal checks will be accepted at the auction company’s discretion. Out-of-state checks MUST have a bank letter of credit GUARANTEEING payment to MIEDEMA AUCTIONEERING INC. for this auction and the amount of funds being guaranteed. See guarantee form here.\n\nRefund Policy \n\nNO REFUNDS\, RETURNS\, OR EXCHANGES. All items sold “AS IS WHERE IS” with all faults.\n\nAll written material is subject to change. Announcements made day of sale take precedence over printed material. \n\nAuction Photos:
URL:https://www.miedemaauctioneering.com/auction-calendar/flint-mi-construction-equipment-farm-equipment-landscape-equipment-and-support-equipment/
LOCATION:Flint\, MI\, 2851 James P Cole blvd.\, Flint\, MI\, 48505\, United States
CATEGORIES:Live and Online Webcast Auction
ATTACH;FMTTYPE=image/png:https://miedemaauctioneering.s3.amazonaws.com/wp-content/uploads/2016/05/07110008/flint1PNG.png
ORGANIZER;CN="Chuck%20Ranney%20-%20Auction%20Manager":MAILTO:chuck@1800lastbid.com
GEO:43.0416519;-83.6791556
X-APPLE-STRUCTURED-LOCATION;VALUE=URI;X-ADDRESS=Flint MI 2851 James P Cole blvd. Flint MI 48505 United States;X-APPLE-RADIUS=500;X-TITLE=2851 James P Cole blvd.:geo:-83.6791556,43.0416519
END:VEVENT
END:VCALENDAR