BEGIN:VCALENDAR
VERSION:2.0
PRODID:-//Miedema Auctioneering &amp; Appraisals, Inc. - ECPv6.0.5//NONSGML v1.0//EN
CALSCALE:GREGORIAN
METHOD:PUBLISH
X-WR-CALNAME:Miedema Auctioneering &amp; Appraisals, Inc.
X-ORIGINAL-URL:https://www.miedemaauctioneering.com
X-WR-CALDESC:Events for Miedema Auctioneering &amp; Appraisals, Inc.
REFRESH-INTERVAL;VALUE=DURATION:PT1H
X-Robots-Tag:noindex
X-PUBLISHED-TTL:PT1H
BEGIN:VTIMEZONE
TZID:America/Detroit
BEGIN:DAYLIGHT
TZOFFSETFROM:-0500
TZOFFSETTO:-0400
TZNAME:EDT
DTSTART:20160313T070000
END:DAYLIGHT
BEGIN:STANDARD
TZOFFSETFROM:-0400
TZOFFSETTO:-0500
TZNAME:EST
DTSTART:20161106T060000
END:STANDARD
END:VTIMEZONE
BEGIN:VEVENT
DTSTART;TZID=America/Detroit:20160423T100000
DTEND;TZID=America/Detroit:20160423T170000
DTSTAMP:20260420T171255
CREATED:20160318T192315Z
LAST-MODIFIED:20200207T205054Z
UID:10000030-1461405600-1461430800@www.miedemaauctioneering.com
SUMMARY:Estate of Earl Benedict
DESCRIPTION:Description:\nTo settle the estate of the late Earl Benedict\, Miedema Auctioneering will be conducting a live auction with internet bidding. This auction features some very well maintained\, low hour equipment.\nPlease note: there are not many small items so you will want to be on time. \nHighlights include: \n\nJohn Deere 9500 Combine\nCase 7240 Tractor\nTillage Equipment\nNew Holland 1260 Chopper with Corn Head and Hay Head\nJohn Deere 7000 6 Row Planter\nJohn Deere 750 Drill\n\n\nENTER AUCTION\nRegister to Bid Online\nEquipment List\nAuction Brochure\nRiggers & Haulers\nTerms & Conditions\n\nAuction Day Photos: \n\n			\n				\n			\n			\n				\n			\n			\n				\n			\n		\n\nAuction Photos: \n\n			\n				\n			\n			\n				\n			\n			\n				\n			\n			\n				\n			\n			\n				\n			\n			\n				\n			\n			\n				\n			\n			\n				\n			\n			\n				\n			\n			\n				\n			\n			\n				\n			\n			\n				\n			\n			\n				\n			\n			\n				\n			\n			\n				\n			\n			\n				\n			\n			\n				\n			\n			\n				\n			\n			\n				\n			\n			\n				\n			\n			\n				\n			\n			\n				\n			\n			\n				\n			\n			\n				\n			\n			\n				\n			\n			\n				\n			\n			\n				\n			\n			\n				\n			\n			\n				\n			\n			\n				\n			\n			\n				\n			\n			\n				\n			\n			\n				\n			\n			\n				\n			\n		\n\n  \nTERMS & CONDITIONS\nDirections to the auction location: \nFrom the south: \n\nI 96 to Exit 64\,( Jordan lake Rd ) go north on Jordan Lake Rd. approx. 2 1/2 miles to Bennett road\nBennett road\, west on Bennett Rd approx. 1-1/2 miles to auction site\n\nFrom the north: \n\nTake M 66 to David hwy\,\ngo west on David Hwy approx. 3-1/2 miles to Jordan Lake Rd.\nGo south on Jordan Lake Rd approx 1 mile to Bennett Rd\nwest on Bennett Rd approx. 1-1/2 miles to auction site\n\nInspection Times \n\nFriday April 22\, 2016 9:00am to 5:00pm\n\nRemoval Times/Failure To Remove \n\nDay of auction till 5:00 (Saturday\, April 23\, 2016)\, or by appointment\n\nLoading and Additional Removal Information \n\nsmall loader tractor day of sale only (Saturday\, April 23\, 2016)\n\nBuyer’s Premium \n\nOnsite Buyers: Buyer’s Premium of 3% will be added to purchases; with a 3% discount for paying with cash\, personal or company check\, or wire transfer**\nProxibid Buyers: Buyer’s Premium of 6% will be added to purchases; with a 3% discount for paying with cash\, personal or company check\, or wire transfer**\n\nSales Tax \n\nSales Tax does not apply to this auction\n\nPayment \n\nComplete payment auction day by Cash\, Cashier’s Check\, Good Check\, Credit Card\na 3% Buyer’s Premium is added to the high bid. This 3% is waived if paid by cash or check. Personal checks will be accepted at the auction company’s discretion. Out-of-state checks MUST have a bank letter of credit GUARANTEEING payment to MIEDEMA AUCTIONEERING INC. for this auction and the amount of funds being guaranteed. See guarantee form below. All written material is subject to change.\n\nRefund Policy \n\nNO REFUNDS\, RETURNS\, OR EXCHANGES. All items sold “AS IS WHERE IS” with all faults.\n\nAll written material is subject to change. Announcements made day of sale take precedence over printed material.
URL:https://www.miedemaauctioneering.com/auction-calendar/estate-of-earl-benedict/
LOCATION:Estate of Earl Benedict\, 4388 Bennett Road\, Saranac\, MI\, 48881\, United States
CATEGORIES:Live and Online Webcast Auction,Live Auction
ATTACH;FMTTYPE=image/jpeg:https://miedemaauctioneering.s3.amazonaws.com/wp-content/uploads/2016/03/19121116/IMG_35681.jpg
ORGANIZER;CN="Chuck%20Ranney%20-%20Auction%20Manager":MAILTO:chuck@1800lastbid.com
GEO:42.9151356;-85.1615906
X-APPLE-STRUCTURED-LOCATION;VALUE=URI;X-ADDRESS=Estate of Earl Benedict 4388 Bennett Road Saranac MI 48881 United States;X-APPLE-RADIUS=500;X-TITLE=4388 Bennett Road:geo:-85.1615906,42.9151356
END:VEVENT
END:VCALENDAR