BEGIN:VCALENDAR
VERSION:2.0
PRODID:-//Miedema Auctioneering &amp; Appraisals, Inc. - ECPv6.0.5//NONSGML v1.0//EN
CALSCALE:GREGORIAN
METHOD:PUBLISH
X-WR-CALNAME:Miedema Auctioneering &amp; Appraisals, Inc.
X-ORIGINAL-URL:https://www.miedemaauctioneering.com
X-WR-CALDESC:Events for Miedema Auctioneering &amp; Appraisals, Inc.
REFRESH-INTERVAL;VALUE=DURATION:PT1H
X-Robots-Tag:noindex
X-PUBLISHED-TTL:PT1H
BEGIN:VTIMEZONE
TZID:America/Detroit
BEGIN:DAYLIGHT
TZOFFSETFROM:-0500
TZOFFSETTO:-0400
TZNAME:EDT
DTSTART:20190310T070000
END:DAYLIGHT
BEGIN:STANDARD
TZOFFSETFROM:-0400
TZOFFSETTO:-0500
TZNAME:EST
DTSTART:20191103T060000
END:STANDARD
END:VTIMEZONE
BEGIN:VEVENT
DTSTART;TZID=America/Detroit:20191219T180000
DTEND;TZID=America/Detroit:20191219T233000
DTSTAMP:20260419T130833
CREATED:20190927T195602Z
LAST-MODIFIED:20210726T184230Z
UID:10000462-1576778400-1576798200@www.miedemaauctioneering.com
SUMMARY:L & L Bull Farms Retirement Auction | Auction #2 - ORCHARD LAND (Real Estate) 12/19/19
DESCRIPTION:https://youtu.be/QfM_Le5ltk8 \nReal Estate Location:L&L Bull Farms Orchard\,  \n16530 Hall\,\nCasnovia\, MI 49318\n+ Google Map \nAuction Location: English Hills Banquet Facility: 1200 4 Mile Rd. NW\, Grand Rapids\, MI 49544 \nOPEN HOUSE: December 10 from 1-3pm. Jeremy Meidema will be at 16725 Hall Road\, Casnovia\, MI 49318 to answer questions on any of the buildings or property during open house hours. \nHaving decided to retire\, the Bull’s will sell prime orchard land that has been in their family for decades! Approx. 207 acres plus a migrant housing camp located in Muskegon County\, Casnovia\, MI. Parcel sizes range from 1 acre to 73.8 acres. Offered in individual parcels\, any combination of parcels\, or in its entirety. All L&L Bull orchard land is currently in a land lease/wind easement contract and will sell with this in effect for new owner. Real Estate will sell with no minimums or reserves!! \nThe orchard equipment will be sold at a separate online auction with Orbitbid.com on 12/18/19. Click here to view online ORCHARD EQUIPMENT auction. \nSee Below for Parcel Breakdown\nAUCTION BROCHUREBidder PacketLand Lease/Wind Easement AgreementOil & Gas Lease AgreementTerms & Conditions\n																					 \nParcel 1: ± 30 Acres Total \nOn Brown Road\, South of White \n\nMature trees consisting of: (± Acres) Linda Mac (2.5)\, Honey Crisp (8.5)\, Gala (3)\, Golden Delicious (3)\, Ever Crisp (1)\, Ida Red (.5) & Fugi (1 Row)\nEast side of this parcel is tiled\n\n				 \n\n \n\n \n\n \n\n \n\n \n\n \n\n \n\n \n\n \n\n \n\n \n\n \n\n \n\n \n\n \n\n \n\n \n\n \n\n \n\n \n\n \n\n \n\n \n\n \n\n \n\n \n\n \n\n \n\n\n						Previous\n						Next\n		https://youtu.be/PfaBwt-0y5w \nParcel 2: Migrant Housing Complex on 1 Acre \nOn Brown Road\, South of White \n\nDuplex: (Each side has 2BD\, open kitchen\, living area\, 3/4 bath\, units are winterized each season\, can be used for year-round housing\, water tests done on annual basis\, capacity – 12)\nPropane furnace & stove (New furnace 2018 in both units)\nNew Roof (2019)\nWasher hookup outside\nWell & septic\n\n				 \n\n \n\n \n\n \n\n \n\n \n\n \n\n \n\n \n\n \n\n \n\n\n						Previous\n						Next \nParcel 3: ± 18.9 Acres Total \nOn Brown Road\, South of White \n\nSome mature apple trees & some younger trees\, consisting of: (± Acres) Honey Crisp (4)\, Golden Delicious (2)\, Red Delicious (4)\, Gala (4)\, Fugi (3)\, Cortland (.5) & Peaches (1.5)\n\n				 \n\n \n\n \n\n \n\n \n\n \n\n \n\n \n\n \n\n \n\n \n\n \n\n\n						Previous\n						Next \nParcel 4: ± 14.8 Acres Total \nOn Canada Road\, North of Hall \n\nProducing apple trees\, consisting of: (± Acres) Gala (6)\, Fugi (4)\, Linda Mac (3) & Golden Delicious (.6)\n\n				 \n\n \n\n \n\n \n\n \n\n \n\n \n\n \n\n \n\n \n\n \n\n \n\n \n\n \n\n\n						Previous\n						Next\n		https://youtu.be/ayk1nM6ummk \nParcel 5: ± 49.5 Acres Total \nOn Hall\, East of Canada Road \n\nProducing apple trees\, consisting of: (± Acres) Gala (26)\, Fugi (4.5)\, Linda Mac (2.5)\, Red Delicious (11.3)\, Honey Crisp (3.2)\, Ever Crisp (2.8) & Sweet Cherries (A Few)\nNote: Buildings are NOT selling\nSouth portion is tiled\n\n				 \n\n \n\n \n\n \n\n \n\n \n\n \n\n \n\n \n\n \n\n \n\n \n\n \n\n \n\n \n\n \n\n \n\n \n\n \n\n \n\n \n\n \n\n \n\n \n\n \n\n \n\n \n\n \n\n\n						Previous\n						Next\n		https://youtu.be/QZwpKw_x5jM \nParcel 6: ± 73.8 Acres \nOn Hall\, East of Canada Road \n\nProducing apple trees\, consisting of: (± Acres) Gala (35)\, Empire (5)\, Golden Delicious (13)\, Ida Red (1)\, Linda Mac (2)\, Honey Crisp (1)\, Jonathon (3)\, Fugi (.5)\, Peaches (2.5)\n(2) Mobile homes (3BD/1BA in each) previously used for migrant housing\, licensed for 16 workers\, washer hookup outside\n\n\n  \n				 \n\n \n\n \n\n \n\n \n\n \n\n \n\n \n\n \n\n \n\n \n\n \n\n \n\n \n\n \n\n\n						Previous\n						Next\n		https://youtu.be/ldeXN-D21-g \nParcel 7: ± 13.4 Acres \nOn Hall Rd\, East of Canada Rd \n\nProducing apple trees\, consisting of: (± Acres) Golden Delicious (5)\, Gala (7)\, Empire (1) & Red Delicious (.5)\nEntire parcel is tiled\n\n\n  \n				 \n\n \n\n \n\n \n\n \n\n \n\n \n\n \n\n \n\n \n\n \n\n \n\n \n\n \n\n \n\n\n						Previous\n						Next\n		https://youtu.be/_caTkd_2kuA \nParcel 8: ± 6 Acres \nOn Hall\, East of Canada Road \n·         Currently stocked with nursery trees\, varieties include: Honey Crisp (from 1-3 years)\, Pink Lady\, Linda Mac\, Gala\, Ever Crisp\, Ambrosia\, Fugi \n·         Also root stock for grafting \n·         ± Totals grafted: 16\,200 – ready for graft: 2\,000 – 3\,000 \n·         Entire area is fenced \n  \n·         Well for irrigation \n\n  \n				 \n\n \n\n\n						Previous\n						Next \nTERMS & CONDITIONS\nOPEN HOUSE: December 10 from 1-3pm. Jeremy Meidema will be at 16725 Hall Road\, Casnovia\, MI 49318 to answer questions on any of the buildings or property during open house hours. \n  \nREGISTRATION: Begins at 5PM at English Hills Banquet Facility: 1200 4 Mile Rd. NW\, Grand Rapids\, MI \nDEPOSIT FOR REAL ESTATE: A deposit of 10% is required at the auction. This deposit is NOT refundable if the buyer does not carry through with the purchase. Your bidding is not conditional upon financing\, so be sure you have arranged financing if needed and are capable of paying cash at the closing. \nCONDITIONS: The terms and conditions of this auction will be governed by the contract for the sale of Real Estate (herein called the buy/sell). the following terms are a summary provided for the convenience of the bidder. The buy/sell is available in the bidder’s packet and should be reviewed prior to the auction. All properties sell “AS IS WHERE IS” with no warranties of any type expressed or implied as to the merchantability\, usability\, fitness for a particular purpose\, or any matter whatsoever type or nature. Any improvements\, which must be made\, are the responsibility of the purchaser. All information advertised or stated was derived from sources believed correct but is not guaranteed. All property dimensions are only approximations. Buyers shall rely entirely on their own information\, judgment and inspection of the property and records. The real estate will be sold free and clear of all the liens. The property will however be sold subject to any easements and building and use restrictions of record. The auction company reserves the right to bid to protect the owner’s investment. Any announcements made at the auction site take precedence over printed material. Real Estate sells subject to Secured Creditors acceptance or rejection of high bid. \nBUYERS PREMIUM: 4% Buyers Premium will be in effect. \nCLOSING TERMS: Balance of purchase price due at the closing. The seller will pay taxes and assessments due on or before the auction. Seller shall provide an owners title insurance policy in the amount of the purchase price. Closings will be held at a local title company. Closing fees of $450 will be divided evenly between the buyer and the seller. \nBUYER’S NOTE: If you are the successful bidder\, you must go to the closing table to sign all the purchase agreements immediately following the conclusion of the auction. At that time your check will be endorsed as a nonrefundable deposit on the property. Individual purchases are to be considered as singular transactions\, not contingent on any other purchases of properties on the auction. The auction will be conducted at the sole discretion of the auctioneer and any bids may be recognized at their discretion.  \nNEW DATA: New data\, corrections\, or changes could be made after the printing of this brochure. Please arrive prior to the start of the auction to inspect and consider any new information and changes. \nBIDDER’S PACKET: Complete Bidder’s packets\, including copies of the buy/sell agreements and more detailed information will be available at the open house or by calling to request a packet be mailed to you. Call Miedema Auctioneering at 1-800-527-8243.
URL:https://www.miedemaauctioneering.com/auction-calendar/retirement-auction-l-and-l-bull-farms-orchard-land-auction/
LOCATION:English Hills Country Club\, 1200 4 Mile Rd NW\, Walker\, MI\, 49544\, United States
CATEGORIES:Live Real Estate Auction
ATTACH;FMTTYPE=image/jpeg:https://miedemaauctioneering.s3.amazonaws.com/wp-content/uploads/2019/10/21102829/REVISED-Parcels-with-numbers-and-acreage.jpg
ORGANIZER;CN="Sid%20Miedema%20-%20Auction%20Manager":MAILTO:sid@1800lastbid.com
GEO:43.023868;-85.700693
X-APPLE-STRUCTURED-LOCATION;VALUE=URI;X-ADDRESS=English Hills Country Club 1200 4 Mile Rd NW Walker MI 49544 United States;X-APPLE-RADIUS=500;X-TITLE=1200 4 Mile Rd NW:geo:-85.700693,43.023868
END:VEVENT
END:VCALENDAR