BEGIN:VCALENDAR
VERSION:2.0
PRODID:-//Miedema Auctioneering &amp; Appraisals, Inc. - ECPv6.0.5//NONSGML v1.0//EN
CALSCALE:GREGORIAN
METHOD:PUBLISH
X-ORIGINAL-URL:https://www.miedemaauctioneering.com
X-WR-CALDESC:Events for Miedema Auctioneering &amp; Appraisals, Inc.
REFRESH-INTERVAL;VALUE=DURATION:PT1H
X-Robots-Tag:noindex
X-PUBLISHED-TTL:PT1H
BEGIN:VTIMEZONE
TZID:America/Detroit
BEGIN:DAYLIGHT
TZOFFSETFROM:-0500
TZOFFSETTO:-0400
TZNAME:EDT
DTSTART:20170312T070000
END:DAYLIGHT
BEGIN:STANDARD
TZOFFSETFROM:-0400
TZOFFSETTO:-0500
TZNAME:EST
DTSTART:20171105T060000
END:STANDARD
END:VTIMEZONE
BEGIN:VEVENT
DTSTART;TZID=America/Detroit:20170318T080000
DTEND;TZID=America/Detroit:20170318T170000
DTSTAMP:20260419T210639
CREATED:20170318T123902Z
LAST-MODIFIED:20200207T204841Z
UID:10000193-1489824000-1489856400@www.miedemaauctioneering.com
SUMMARY:Earl Peterson Farms: Farm & Fruit Equipment
DESCRIPTION:Description:\nThe Peterson family has decided to retire from fruit farming after 45 years. This will be a large auction with over 20 tractors\, and a large amount of fruit and farm equipment.We will be selling with two auctioneers\, come with two buyers! \nOutstanding opportunity to buy quality equipment straight off the farm. \nRING 1:\nFruit Equipment-Main Ring – Featuring large auction with over 20 tractors\, and a large amount of fruit and farm equipment \nRING 2:\nGarage & Shop Tools\, Misc – Garage & Shop Tools and Misc. \n\nENTER MAIN RING – Fruit Equipment\nENTER MISC. RING – Garage & Shop Tools\nRegister to Bid Online\nAuction Catalog\nAuction Brochure\nTerms & Conditions\n\nAuction Photos: \n\n			\n				\n			\n			\n				\n			\n			\n				\n			\n			\n				\n			\n			\n				\n			\n			\n				\n			\n			\n				\n			\n			\n				\n			\n			\n				\n			\n			\n				\n			\n			\n				\n			\n			\n				\n			\n			\n				\n			\n			\n				\n			\n			\n				\n			\n			\n				\n			\n			\n				\n			\n			\n				\n			\n			\n				\n			\n			\n				\n			\n			\n				\n			\n			\n				\n			\n			\n				\n			\n			\n				\n			\n			\n				\n			\n			\n				\n			\n			\n				\n			\n			\n				\n			\n			\n				\n			\n			\n				\n			\n			\n				\n			\n			\n				\n			\n			\n				\n			\n			\n				\n			\n			\n				\n			\n			\n				\n			\n			\n				\n			\n			\n				\n			\n			\n				\n			\n			\n				\n			\n			\n				\n			\n			\n				\n			\n			\n				\n			\n			\n				\n			\n			\n				\n			\n			\n				\n			\n			\n				\n			\n			\n				\n			\n			\n				\n			\n			\n				\n			\n			\n				\n			\n			\n				\n			\n			\n				\n			\n			\n				\n			\n			\n				\n			\n			\n				\n			\n			\n				\n			\n			\n				\n			\n			\n				\n			\n			\n				\n			\n			\n				\n			\n		\n\n  \nTERMS & CONDITIONS\n\nInspection: \n\nFriday March 17\, 9:00am to 5:00pm\n\nRemoval Times/Failure To Remove: \n\nAuction day until 5pm\nMonday\, March 20 through Wednesday\, March 22 8am-5pm\n\nLoading: \n\nForklift available\nNO Loading Dock available\n\nBuyers of Titled Vehicles: \n\nState regulations require that we broker all vehicles sold\, therefore you must sign your paperwork in the auction office. A $95 broker fee will be charged for paperwork. In addition\, a $15 title application fee will be collected for the state of Michigan (Dealers are exempt from the title application fee ONLY). Miedema Auctioneering will then process your title. If you wish to plate your vehicle there will be an additional fee. Proof of insurance will need to be provided for removal.
URL:https://www.miedemaauctioneering.com/auction-calendar/earl-peterson-farms-farm-fruit-equipment-2/
LOCATION:Earl Peterson Farms\, 1049 S 88th Ave.\, Shelby\, MI\, 49455\, United States
CATEGORIES:Live and Online Webcast Auction
ATTACH;FMTTYPE=image/jpeg:https://miedemaauctioneering.s3.amazonaws.com/wp-content/uploads/2017/03/17105415/IMG_0593.jpg
ORGANIZER;CN="Chuck%20Ranney%20-%20Auction%20Manager":MAILTO:chuck@1800lastbid.com
GEO:43.6256258;-86.3381745
X-APPLE-STRUCTURED-LOCATION;VALUE=URI;X-ADDRESS=Earl Peterson Farms 1049 S 88th Ave. Shelby MI 49455 United States;X-APPLE-RADIUS=500;X-TITLE=1049 S 88th Ave.:geo:-86.3381745,43.6256258
END:VEVENT
END:VCALENDAR