BEGIN:VCALENDAR
VERSION:2.0
PRODID:-//Miedema Auctioneering &amp; Appraisals, Inc. - ECPv6.0.5//NONSGML v1.0//EN
CALSCALE:GREGORIAN
METHOD:PUBLISH
X-WR-CALNAME:Miedema Auctioneering &amp; Appraisals, Inc.
X-ORIGINAL-URL:https://www.miedemaauctioneering.com
X-WR-CALDESC:Events for Miedema Auctioneering &amp; Appraisals, Inc.
REFRESH-INTERVAL;VALUE=DURATION:PT1H
X-Robots-Tag:noindex
X-PUBLISHED-TTL:PT1H
BEGIN:VTIMEZONE
TZID:America/Detroit
BEGIN:DAYLIGHT
TZOFFSETFROM:-0500
TZOFFSETTO:-0400
TZNAME:EDT
DTSTART:20200308T070000
END:DAYLIGHT
BEGIN:STANDARD
TZOFFSETFROM:-0400
TZOFFSETTO:-0500
TZNAME:EST
DTSTART:20201101T060000
END:STANDARD
END:VTIMEZONE
BEGIN:VEVENT
DTSTART;TZID=America/Detroit:20200722T080000
DTEND;TZID=America/Detroit:20200722T233000
DTSTAMP:20260419T123731
CREATED:20200603T190938Z
LAST-MODIFIED:20201021T115822Z
UID:10000545-1595404800-1595460600@www.miedemaauctioneering.com
SUMMARY:Douglas Lundstrum Estate – Personal Property & Estate Equipment **ONLINE Orbitbid.com Auction**
DESCRIPTION:Description:In order to help settle the Douglas Lundstrum Estate\, we will be selling all of the estate equipment and personal property via 1 day online bidding auction. Items are selling from (3) locations in the Hastings/Nashville areas. Highlights Include: JD 9600 4WD Combine\, JD 925 Head\, ’78 & ’93 Corvettes\, Ford Model AA Pickup\, JD 4430 Tractor with Loader\, International S-8 Log Skidder\, Shop Tools\, Plus a large amount of Trucks\, Cars\, Farm Equipment & Other Equipment for parts or needing repair. NOTE: The Real Estate will be sold at a separate auction on July 30 through live auction. \nWe will have forklifts at each location after the equipment auction for 2 days only!!! Buyers must come in those 2 days if they want help from forklift.  \nENTER AUCTIONRegister to Bid OnlineAuction Brochure
URL:https://www.miedemaauctioneering.com/auction-calendar/douglas-lundstrum-estate-personal-property-estate-equipment-online-orbitbid-com-auction/
LOCATION:Douglas Lundstrum Estate\, 6600 East Cloverdale Road\, Nashville\, MI\, 49073\, United States
CATEGORIES:Online Only Auction
ATTACH;FMTTYPE=image/jpeg:https://miedemaauctioneering.s3.amazonaws.com/wp-content/uploads/2020/06/03150724/1.jpg
ORGANIZER;CN="Chuck%20Ranney%20-%20Auction%20Manager":MAILTO:chuck@1800lastbid.com
GEO:42.5340567;-85.1604209
X-APPLE-STRUCTURED-LOCATION;VALUE=URI;X-ADDRESS=Douglas Lundstrum Estate 6600 East Cloverdale Road Nashville MI 49073 United States;X-APPLE-RADIUS=500;X-TITLE=6600 East Cloverdale Road:geo:-85.1604209,42.5340567
END:VEVENT
BEGIN:VEVENT
DTSTART;TZID=America/Detroit:20200730T150000
DTEND;TZID=America/Detroit:20200730T233000
DTSTAMP:20260419T123731
CREATED:20200520T201118Z
LAST-MODIFIED:20200806T200929Z
UID:10000544-1596121200-1596151800@www.miedemaauctioneering.com
SUMMARY:Douglas Lundstrum Estate – LIVE Real Estate Auction
DESCRIPTION:In order to settle the Douglas Lundstrum Estate\, we will be selling 202 Acres of Real Estate in Barry County at live public auction with no minimums or reserves.\nApproximately 180 Acres of farm land with buildings & older homes at 6600 E. Cloverdale Rd.\, Nashville\, MI & Approximately 22 Acres of wooded land with older buildings & homes at 1320 E. State Rd.\, Hastings\, MI.\nPrime land in an excellent location offered in 4 separate parcels\, in any combination of parcels or in its entirety. \nParcel # 4 on real estate auction is unique. It has no frontage so it must either sell with parcel 3 to which it is attached and thereby would have parcel 3 for frontage\, or it must sell to a neighboring land owner who owns land that attaches to\, or butts up to parcel 4 and therefore would have frontage for parcel 4 to access it. \nAuction will be held onsite at the farm at 6600 E. Cloverdale\, Nashville\, MI.  Auction will be conducted under a tent on the property. \n\nNOTE: Estate equipment & personal property will be sold at a separate online auction on July 22 on Orbitbid.com. Visit Orbitbid.com for details & to bid.\n4.5% Buyer’s Premium is in effect for Real Estate\n\nAUCTION BROCHURE\nBidder Packet\nFSA 156 Farm Record\nOpen House Times\nTerms & Conditions \nParcel #1\n± 101 Acres with older house & storage buildings\nMostly tillable\nOlder home & buildings included\nLocation: 6615 E. Cloverdale Rd.\, Nashville\, MI \nParcel #2\n± 80 Acres with older house & buildings\nMostly tillable\nBuilding included\nLocation: 6600 E. Cloverdale Rd.\, Nashville\, MI\n(Across the road from Parcel #1) \nParcel #3\n± 6.5 Acres with 2 homes & building\nHomes will need repair & updates\nLocation: 1320 E. State Rd.\, Hastings\, MI \nParcel #4\n**NOTE: Due to the fact that this parcel has no frontage\, it\ncan only sell with Parcel #3 or to a neighboring land owner\nwhose land is contiguous with Parcel #4**\n± 14.8 Acres of wooded land\nLocation: 1320 E. State Rd.\, Hastings\, MI\n(SW of Parcel #3) \n\n \n\n  \nTERMS & CONDITIONS\nOpen House Times: \n\nTuesday\, July 21\, from 10am – 1pm\nWednesday\, July 22\, from 10am – 1pm\n\nRegistration: \n\nBegins at 2PM. Auction Location: At the farm at 6600 E. Cloverdale Rd.\, Nashville\, MI\n\nDeposit for Real Estate: \n\n10% of the successful bid price is required at the auction by good check\, cash or cashier’s check. This deposit is NOT refundable if the buyer does not carry through with the purchase. Your bidding is not conditional upon financing\, so be sure you have arranged financing if needed or are capable of paying cash at the closing.\n\nConditions: \n\nThe terms and conditions of this auction will be governed by the contract for the sale of Real Estate (herein called the buy/sell). The following terms are a summary provided for the convenience of the bidder. The buy/sell is available in the bidder’s packet and should be reviewed prior to the auction. All properties sell “AS IS WHERE IS” with no warranties of any type expressed or implied as to the merchantability\, usability\, fitness for a particular purpose\, or any matter of whatsoever type of nature. Any improvements\, which must be made\, are the responsibility of the purchaser. All information advertised or states was derived from sources believed correct but is not guaranteed. All property dimensions are only approximations. Buyers shall rely entirely on their own information\, judgment and inspection of the property and record. The real estate will be sold free and clear of all the liens. The property will however be sold subject to any easements and building and use restrictions of record. Any announcements made at the auction site take precedence over printed material. A 4.5% Buyers Premium will be added to the high bid.\n\nClosing Terms: \n\nBalance of purchase price due at the closing. The seller will pay taxes and assessments due on or before the auction. Possession at closing\, subject to rights of land lease for 2020. Seller shall provide an owners title insurance policy in the amount of the purchase price. Closings will be held at a local title company. Closing fees of approx. $450 will be divided evenly between the buyer and the seller.\n\nBuyer’s Note: \n\nIf you are the successful bidder\, you must go to the closing table to sign all the purchase agreements immediately following the conclusion of the auction. At that time\, your check will be endorsed as a non-refundable deposit on the property. Individual purchases are to be considered as singular transactions\, not contingent on any other purchases of properties on the auction. The ability to obtain financing is NOT a contingency of the sale. The auction will be conducted at the sole discretion of the auctioneer and any bids may be recognized at their discretion.\n\nNew Data: \n\nNew data\, corrections or changes could be made after the printing of this brochure. Please arrive prior to the start of the auction to inspect and consider any information and changes.\n\nBidder’s Packet: \n\nComplete bidder’s packets including copies of the buy/sell agreements\, Soil information\, Title Commitments\, etc. and will be available by calling to request a packet to be mailed at 1-800-527-8243\n\nAll written material is subject to change. Announcements made day of sale take precedence over printed material.
URL:https://www.miedemaauctioneering.com/auction-calendar/douglas-lundstrum-estate-live-real-estate-auction/
LOCATION:Douglas Lundstrum Estate\, 6600 East Cloverdale Road\, Nashville\, MI\, 49073\, United States
CATEGORIES:Live Real Estate Auction
ATTACH;FMTTYPE=image/jpeg:https://miedemaauctioneering.s3.amazonaws.com/wp-content/uploads/2020/05/21095153/Hastings-Aerial-Parcels.jpg
ORGANIZER;CN="Chuck%20Ranney%20-%20Auction%20Manager":MAILTO:chuck@1800lastbid.com
GEO:42.5340567;-85.1604209
X-APPLE-STRUCTURED-LOCATION;VALUE=URI;X-ADDRESS=Douglas Lundstrum Estate 6600 East Cloverdale Road Nashville MI 49073 United States;X-APPLE-RADIUS=500;X-TITLE=6600 East Cloverdale Road:geo:-85.1604209,42.5340567
END:VEVENT
END:VCALENDAR