BEGIN:VCALENDAR
VERSION:2.0
PRODID:-//Miedema Auctioneering &amp; Appraisals, Inc. - ECPv6.0.5//NONSGML v1.0//EN
CALSCALE:GREGORIAN
METHOD:PUBLISH
X-ORIGINAL-URL:https://www.miedemaauctioneering.com
X-WR-CALDESC:Events for Miedema Auctioneering &amp; Appraisals, Inc.
REFRESH-INTERVAL;VALUE=DURATION:PT1H
X-Robots-Tag:noindex
X-PUBLISHED-TTL:PT1H
BEGIN:VTIMEZONE
TZID:America/Detroit
BEGIN:DAYLIGHT
TZOFFSETFROM:-0500
TZOFFSETTO:-0400
TZNAME:EDT
DTSTART:20190310T070000
END:DAYLIGHT
BEGIN:STANDARD
TZOFFSETFROM:-0400
TZOFFSETTO:-0500
TZNAME:EST
DTSTART:20191103T060000
END:STANDARD
END:VTIMEZONE
BEGIN:VEVENT
DTSTART;TZID=America/Detroit:20191001T080000
DTEND;TZID=America/Detroit:20191001T233000
DTSTAMP:20260420T012317
CREATED:20190910T133916Z
LAST-MODIFIED:20200122T185852Z
UID:10000457-1569916800-1569972600@www.miedemaauctioneering.com
SUMMARY:Detroit Department of Transportation (an Orbitbid.com auction)
DESCRIPTION:Description:\nDetroit Department of Transportation has several units that have been removed from service. This auction features 20 plus city buses\, vehicles\, trucks\, cars\, “brinks type” trucks\, and more. All selling to the highest bidder at public auction – don’t miss it.\n\nENTER AUCTION\nRegister to Bid Online
URL:https://www.miedemaauctioneering.com/auction-calendar/detroit-department-of-transportation-an-orbitbid-com-auction/
LOCATION:Detroit Department of Transportation\, 1301 E Warren Ave\, Detroit\, MI\, 48207\, United States
CATEGORIES:Online Only Auction
ATTACH;FMTTYPE=image/png:https://miedemaauctioneering.s3.amazonaws.com/wp-content/uploads/2019/02/25171631/Orbitbidsmall.png
ORGANIZER;CN="Chuck%20Ranney%20-%20Auction%20Manager":MAILTO:chuck@1800lastbid.com
GEO:42.3618852;-83.052541
X-APPLE-STRUCTURED-LOCATION;VALUE=URI;X-ADDRESS=Detroit Department of Transportation 1301 E Warren Ave Detroit MI 48207 United States;X-APPLE-RADIUS=500;X-TITLE=1301 E Warren Ave:geo:-83.052541,42.3618852
END:VEVENT
END:VCALENDAR