BEGIN:VCALENDAR
VERSION:2.0
PRODID:-//Miedema Auctioneering &amp; Appraisals, Inc. - ECPv6.0.5//NONSGML v1.0//EN
CALSCALE:GREGORIAN
METHOD:PUBLISH
X-WR-CALNAME:Miedema Auctioneering &amp; Appraisals, Inc.
X-ORIGINAL-URL:https://www.miedemaauctioneering.com
X-WR-CALDESC:Events for Miedema Auctioneering &amp; Appraisals, Inc.
REFRESH-INTERVAL;VALUE=DURATION:PT1H
X-Robots-Tag:noindex
X-PUBLISHED-TTL:PT1H
BEGIN:VTIMEZONE
TZID:America/Detroit
BEGIN:DAYLIGHT
TZOFFSETFROM:-0500
TZOFFSETTO:-0400
TZNAME:EDT
DTSTART:20200308T070000
END:DAYLIGHT
BEGIN:STANDARD
TZOFFSETFROM:-0400
TZOFFSETTO:-0500
TZNAME:EST
DTSTART:20201101T060000
END:STANDARD
BEGIN:DAYLIGHT
TZOFFSETFROM:-0500
TZOFFSETTO:-0400
TZNAME:EDT
DTSTART:20210314T070000
END:DAYLIGHT
BEGIN:STANDARD
TZOFFSETFROM:-0400
TZOFFSETTO:-0500
TZNAME:EST
DTSTART:20211107T060000
END:STANDARD
BEGIN:DAYLIGHT
TZOFFSETFROM:-0500
TZOFFSETTO:-0400
TZNAME:EDT
DTSTART:20220313T070000
END:DAYLIGHT
BEGIN:STANDARD
TZOFFSETFROM:-0400
TZOFFSETTO:-0500
TZNAME:EST
DTSTART:20221106T060000
END:STANDARD
END:VTIMEZONE
BEGIN:VEVENT
DTSTART;TZID=America/Detroit:20200813T100000
DTEND;TZID=America/Detroit:20200813T233000
DTSTAMP:20260419T150038
CREATED:20200129T164910Z
LAST-MODIFIED:20201021T115652Z
UID:10000466-1597312800-1597361400@www.miedemaauctioneering.com
SUMMARY:Southern Michigan Equipment Auction - Absolute Auction
DESCRIPTION:Equipment Auction – St. Joseph Fairgrounds\, Centreville\, MI – St. Joseph County.\nNow accepting quality consignments at this absolute live auction.\nCOVID-19 Requirements\nENTER PROXIBID.COM AUCTION\nRegister to Bid Online with Proxibid.com\nENTER EQUIPMENTFACTS.COM AUCTION\nRegister to Bid Online with Equipmentfacts.com\nAuction Catalog\nConsignment Brochure\nConsignor Contract \n\n\n\n\n\n\n\n\n\n\n\n\n\n\n\n\n\n\n\n\n\n\n\n\n\n\n\n\n\n\n\n\n\n\n\n\n\n\n\n\n\n\n\n\n\n\n\n\n\n\n\n\n\n\n\n\n\n\n\n\n\n\n\n\n\n\n\n\n\n\n\n\nTERMS & CONDITIONS\nInspection: \n\nWednesday\, August 12 (9am-4pm)\nThursday\, August 13 starting at 8am.\n\nRemoval Times/Failure To Remove: \n\nFriday\, August 14 (8am-5)\nSaturday\, August 15 (8am-1pm)\nMonday\, August 17 (9am-4pm)\n\nSales Tax: \n\nAll items will be charged 6% Michigan State Sales Tax. Titled vehicles will be charged Michigan State Sales Tax\, unless you provide our office with a copy of a valid dealer’s license (NO EXCEPTIONS). For exemption from sales tax on agricultural items\, buyers will need to sign an agricultural exemption statement\n\nBuyers of Titled Vehicles: \n\nState regulations require that we broker all vehicles sold\, therefore you must sign your paperwork in the auction office.\nA $125 title broker fee will be charged for paperwork. In addition\, a $15 State of Michigan title application fee will be collected for the state of Michigan (Dealers are exempt from the title application fee ONLY).\nMiedema Auctioneering will then process your title. If you wish to plate your vehicle there will be an additional fee. Proof of insurance will need to be provided for removal.\nContact our Title Coordinator (Charlyn) at 616-261-4972 with questions or to finalize title processing after purchase.\n\nTerms: \n\nAll items sell “AS IS\, WHERE IS” with no warranty. There shall be no guarantees or warranties\, expressed or implied\, statutory or otherwise as to the merchantability or fitness for any particular purpose of any goods offered in this sale.\n\nPayment: \n\nAuction day by cash\, cashier’s check\, Visa\, Mastercard\, & personal check (Personal checks will be accepted at the auction company’s discretion.)\n3% Buyer’s Premium is added to the high bid. This 3% is waived if paid by cash or check.\nOut-of-state checks MUST have a bank letter of credit GUARANTEEING payment to MIEDEMA AUCTIONEERING INC. for this auction and the amount of funds being guaranteed. See guarantee form HERE\n\nCOVID-19 Special Requirements: \nDue to COVID-19 the following are in effect for this auction – In accordance with State of Michigan Executive Order \n1. If you are feeling sick\, please stay home and bid online from your computer\, tablet or phone! \n2. Social Distancing will be required at the auction site. Participants are asked to maintain 6’ distance from others not of the same household. \n3. Masks are available free of charge for those that desire them as well as hand sanitizer. Please use often. \n4. When in line for bidder’s numbers or to pay for purchases\, please maintain 6’ distance. There will be markers showing 6’ distance. \nThank you for your understanding\,\nMiedema Auctioneering\, Inc \nAll written material is subject to change. Announcements made day of sale take precedence over printed material.
URL:https://www.miedemaauctioneering.com/auction-calendar/southern-michigan-equipment-auction-absolute-auction/
LOCATION:St. Joseph County Fairgrounds – Centreville\, MI\, 316 East Charlotte Street\, Centreville\, MI\, 49032\, United States
CATEGORIES:Live and Online Webcast Auction
ATTACH;FMTTYPE=image/jpeg:https://miedemaauctioneering.s3.amazonaws.com/wp-content/uploads/2020/07/17105617/Bader-JD-COmbine.jpg
ORGANIZER;CN="Chuck%20Ranney%20-%20Auction%20Manager":MAILTO:chuck@1800lastbid.com
GEO:41.92305;-85.518066
X-APPLE-STRUCTURED-LOCATION;VALUE=URI;X-ADDRESS=St. Joseph County Fairgrounds – Centreville MI 316 East Charlotte Street Centreville MI 49032 United States;X-APPLE-RADIUS=500;X-TITLE=316 East Charlotte Street:geo:-85.518066,41.92305
END:VEVENT
BEGIN:VEVENT
DTSTART;TZID=America/Detroit:20210812T100000
DTEND;TZID=America/Detroit:20210812T233000
DTSTAMP:20260419T150038
CREATED:20210208T191612Z
LAST-MODIFIED:20210727T143048Z
UID:10000566-1628762400-1628811000@www.miedemaauctioneering.com
SUMMARY:Southern Michigan Absolute Equipment Auction **ONLINE AUCTION** (an Orbitbid.com auction)
DESCRIPTION:**ONLINE ONLY AUCTION** \nStill accepting quality consignments for our 2nd annual equipment auction at the St. Joe County Fairgrounds in Centreville! The Online Orbitbid.com auction will include Farm Equipment\, Construction Equipment\, Attachments\, trucks\, trailers and more! Take advantage of our award winning national advertising services! Call Now to get your equipment added to this online auction. Equipment starts closing at 6:00PM on auction day. \nDrop off dates: August 9\, 10 from 8am-5pm\, August 11 from 8am-12pm. \nPlease contact Chuck Ranney at Phone:616-560-0839 or Email: chuck@1800lastbid.com \nTerms & Conditions \nTERMS & CONDITIONS\nConsignments: \n\nContact Chuck Ranney at 616-560-0839 if you have items to consign for sale.\n\nInspection: \n\nWednesday\, August 11\, 2021 (9am-4pm)\nThursday\, August 12\, 2021 starting at 8am\n\nRemoval Times/Failure To Remove: \n\nFriday\, August 13\, 2021 (8am-5)\nSaturday\, August 14\, 2021 (8am-1pm)\nMonday\, August 16\, 2021 (9am-4p)\n\nLoading: \n\nForklift available\n\nSales Tax: \n\nAll items will be charged 6% Michigan State Sales Tax. Titled vehicles will be charged Michigan State Sales Tax\, unless you provide our office with a copy of a valid dealer’s license (NO EXCEPTIONS). For exemption from sales tax on agricultural items\, buyers will need to sign an agricultural exemption statement. Michigan buyers can Download the form here\n\nBuyers of Titled Vehicles: \n\nState regulations require that we broker all vehicles sold\, therefore you must sign your paperwork in the auction office.\nA $125 title broker fee will be charged for paperwork. In addition\, a $15 State of Michigan title application fee will be collected for the state of Michigan (Dealers are exempt from the title application fee ONLY).\nMiedema Auctioneering will then process your title. If you wish to plate your vehicle there will be an additional fee. Proof of insurance will need to be provided for buying a plate.\nContact our Title Coordinator (Charlyn) at 616-261-4972 with questions or to finalize title processing after purchase.\n\nTerms: \n\nAll items sell “AS IS\, WHERE IS” with no warranty. There shall be no guarantees or warranties\, expressed or implied\, statutory or otherwise as to the merchantability or fitness for any particular purpose of any goods offered in this sale.\n\nAll written material is subject to change. Announcements made day of sale take precedence over printed material.
URL:https://www.miedemaauctioneering.com/auction-calendar/southern-michigan-absolute-equipment-auction/
LOCATION:St. Joseph County Fairgrounds – Centreville\, MI\, 316 East Charlotte Street\, Centreville\, MI\, 49032\, United States
CATEGORIES:Live and Online Webcast Auction
ATTACH;FMTTYPE=image/jpeg:https://miedemaauctioneering.s3.amazonaws.com/wp-content/uploads/2021/02/27103026/s1-scaled.jpg
ORGANIZER;CN="Chuck%20Ranney%20-%20Auction%20Manager":MAILTO:chuck@1800lastbid.com
GEO:41.92305;-85.518066
X-APPLE-STRUCTURED-LOCATION;VALUE=URI;X-ADDRESS=St. Joseph County Fairgrounds – Centreville MI 316 East Charlotte Street Centreville MI 49032 United States;X-APPLE-RADIUS=500;X-TITLE=316 East Charlotte Street:geo:-85.518066,41.92305
END:VEVENT
BEGIN:VEVENT
DTSTART;TZID=America/Detroit:20220818T100000
DTEND;TZID=America/Detroit:20220818T233000
DTSTAMP:20260419T150038
CREATED:20220518T144447Z
LAST-MODIFIED:20221227T185949Z
UID:10000588-1660816800-1660865400@www.miedemaauctioneering.com
SUMMARY:Southern Michigan Equipment Auction  **ONLINE AUCTION** (an Orbitbid.com auction)
DESCRIPTION:Description:\nAccepting quality consignments for the 3nd annual equipment auction at the St. Joe County Fairgrounds in Centreville! This no reserve auction will include Farm Equipment\, Construction Equipment\, Attachments\, trucks\, trailers and more! Take advantage of our award winning national advertising services! Call Now to get your equipment added to this auction. \nRiggers & Haulers\nTerms & Conditions \nTERMS & CONDITIONS\nInspection: \n\nWednesday\, August 17 9AM-4PM\n\nRemoval Times/Failure To Remove: \n\nAuction day until 4pm\nFriday\, August 19 9AM-4PM\nBy Appointment\n\nLoading: \n\nForklift available\n\nSales Tax: \n\nAll items will be charged 6% Michigan Sales Tax\, unless you supply a valid sales tax- exempt form. Michigan buyers can Download the form here. All purchases of titled vehicles will also be charged a 6% Michigan Sales Tax. For exemption from sales tax\, you will be required to fill out a tax exemption form with a valid dealer’s resale # [NO EXEMPTIONS]\n\nBuyer’s Premium: \n\nOnsite bidders: 0% if paid by cash\, check\, or wire transfer (see check payment restrictions); 3% if paid by credit card\nOnline bidders: 3% if paid by cash\, check\, or wire transfer (see check payment restrictions); 6% if paid by credit card\n\nBuyers of Titled Vehicles:\nMichigan Resident buyers: \n\n$125.00 Broker Title Processing Fee (plus Michigan state sales tax) will be charged for all titled items which we are required to broker.\n$15.00 fee for State of Michigan title transfer will be charged.\nOptional: Plate & Registration Fee. At your request\, we can apply for your plates and registration on your behalf. If you wish to have us do so\, you MUST provide us with proof of insurance for the purchased titled item before you can remove it from the auction site. If not\, you must be prepared to tow or trailer your titled item. Fees are based on a calculation of new vehicle class and previous vehicle registration fees (required by State of Michigan). The applicable fees will be added to your invoice.\nOptional: $1.00 Temporary Tag Fee. If you request a temporary tag a $1.00 fee is assessed by the State of Michigan and will be added to your invoice. **Please Note: if the consignor (seller) listed as seller on the title is a licensed car dealer in the State of Michigan\, the temporary tag will be issued by that dealer upon our request from the buyer. Our company will email you the temporary tag when received from the issuing dealer. Please expect there may be a delay in receiving temporary tag only if the consignor (seller) is a licensed dealer in State of Michigan. If the consignor (seller) is not a licensed dealer\, our company will issue the temporary tag at the time it is requested.\nOptional: $1.00 Lien Fee. If there is a lien holder on the item purchased a $1.00 fee is assessed by the State of Michigan and will be added to your invoice.\nPlease note that buyers will need to sign the appropriate paperwork required by the state for title transfers. Title processing may take up to 10 business days. Then will take 4-10 business days to receive your title from the Secretary of State\n\nNon-Michigan Residents buyers: \n\n$125.00 Broker Title Processing Fee\nState of Michigan requires we collect 6% sales tax and transfer the title as an “In-Transit” through the Michigan Secretary of State before the title is issued to the buyer UNLESS a Bill of Lading is provided showing Export out of Country\, then sales tax may be waived.\nAll out of country buyers must contact our title department to start the paperwork before the item can go across the border. We will need to obtain the appropriate documents and signatures to transfer the title; this could take 1 to 3 weeks. We recommend purchases of titled item made with the intent of taking the titled item out of the country contact the title dept. as soon as a winning bid is accepted. Contact is Charlyn Reitsma at 616-261-4972 or charlyn@1800lastbid.com\n\nTerms: \n\nAll items sell “AS IS\, WHERE IS” with no warranty. There shall be no guarantees or warranties\, expressed or implied\, statutory or otherwise as to the merchantability or fitness for any particular purpose of any goods offered in this sale.\n\nPayments are expected on the day of Auction. [Online bidders have 3 days to pay for item in full] \n\nCash\nCashier’s check\nWire Transfer\n*Personal & Business checks will be accepted at auction company discretion. Checks will not be accepted from buyers who reside outside of Michigan or drawn on a bank outside of Michigan. Buyers from outside of Michigan are required to pay by wire transfer or cash\n*Credit Card for total purchase of $2\,000 maximum or less\, with 3% buyer’s premium added.\n\nAll written material is subject to change. Announcements made day of sale take precedence over printed material.
URL:https://www.miedemaauctioneering.com/auction-calendar/southern-michigan-equipment-auction/
LOCATION:St. Joseph County Fairgrounds – Centreville\, MI\, 316 East Charlotte Street\, Centreville\, MI\, 49032\, United States
CATEGORIES:Online Only Auction
ATTACH;FMTTYPE=image/jpeg:https://miedemaauctioneering.s3.amazonaws.com/wp-content/uploads/2022/05/28104617/SMI.jpg
ORGANIZER;CN="Jeremy%20Miedema%20-%20Auction%20Manager":MAILTO:jeremy@1800lastbid.com
GEO:41.92305;-85.518066
X-APPLE-STRUCTURED-LOCATION;VALUE=URI;X-ADDRESS=St. Joseph County Fairgrounds – Centreville MI 316 East Charlotte Street Centreville MI 49032 United States;X-APPLE-RADIUS=500;X-TITLE=316 East Charlotte Street:geo:-85.518066,41.92305
END:VEVENT
END:VCALENDAR