BEGIN:VCALENDAR
VERSION:2.0
PRODID:-//Miedema Auctioneering &amp; Appraisals, Inc. - ECPv6.0.5//NONSGML v1.0//EN
CALSCALE:GREGORIAN
METHOD:PUBLISH
X-WR-CALNAME:Miedema Auctioneering &amp; Appraisals, Inc.
X-ORIGINAL-URL:https://www.miedemaauctioneering.com
X-WR-CALDESC:Events for Miedema Auctioneering &amp; Appraisals, Inc.
REFRESH-INTERVAL;VALUE=DURATION:PT1H
X-Robots-Tag:noindex
X-PUBLISHED-TTL:PT1H
BEGIN:VTIMEZONE
TZID:America/Detroit
BEGIN:DAYLIGHT
TZOFFSETFROM:-0500
TZOFFSETTO:-0400
TZNAME:EDT
DTSTART:20200308T070000
END:DAYLIGHT
BEGIN:STANDARD
TZOFFSETFROM:-0400
TZOFFSETTO:-0500
TZNAME:EST
DTSTART:20201101T060000
END:STANDARD
END:VTIMEZONE
BEGIN:VEVENT
DTSTART;TZID=America/Detroit:20200421T080000
DTEND;TZID=America/Detroit:20200421T220000
DTSTAMP:20260420T053023
CREATED:20200221T154724Z
LAST-MODIFIED:20200421T175939Z
UID:10000468-1587456000-1587506400@www.miedemaauctioneering.com
SUMMARY:Bennett Farms INC - (an online auction with ORBITBID.COM) 4/21/2020
DESCRIPTION:Bennett Farms INC has decided to discontinue crop farming and have hired Orbitbid.com (Miedema Auctioneering) to conduct an online auction on April 21\, 2020 starting at 8:00 am ET. \nHighlights include: John Deere 9230\, John Deere 8420\, John Deere 6430 with loader\, John Deere 9650 STS Combine\, Rogater 854 self propelled sprayer\, Great Plains YP-40 16-32 Planter\, J & M 750-16 Grain cart\, Krause 25′ Excelerator Vertical Tillage Disc\, John Deere 980 Field Cultivator\, Unverferth 1225 Rolling Harrow\, JD 635F Grain Head\, JD 893 Corn Head\, Glenco 11 shank disc chisel\, Dunhamlehr Cultimulcher\, Unverferth 2750 Seed Tender\, 2012 Chevy Flat Bed truck\, J & M Gravity Wagons (2)\, Goldon Gooseneck Trailer\, Unverferth 120 Zone Bulder\, 1995 International Semi Truck\, 2000 Wilson Pace Setter Hopper Trailer\, Cat Road Grader\, Snowmobiles\, Pumps\, Bulk Tanks\, Gates\, Weights\, Duals\, plus much more. \nThis will be an outstanding opportunity to purchase some well maintained equipment. \nENTER ORBITBID.COM AUCTION \nRiggers & Haulers\nTerms & Conditions \n\n\n\n\n\n\n\n\n\n\n\n\n\n\n\n\nTERMS & CONDITIONS\n\nInspection: \n\nBy Appointment only.  Contact Chuck Ranney at 616-560-0839 to arrange.\n\nRemoval Times/Failure To Remove: \n\n\nAll items are to be removed no later than 4/24/2020 at 5 pm.\nAll removal is by Appointment only:   Contact Chuck Ranney at 616-560-0839 to arrange. \n\n\nLoading: \n\nForklift available for loading\n\nSales Tax: \n\nTitled vehicles will be charged Michigan State Sales Tax\, unless you provide our office with a copy of a valid dealer’s license (NO EXCEPTIONS). For exemption from sales tax on agricultural items\, buyers will need to sign an agricultural exemption statement.\n\nBuyers of Titled Vehicles: \n\nState regulations require that we broker all vehicles sold\, therefore you must sign your paperwork in the auction office.\nA $125 title broker fee will be charged for paperwork. In addition\, a $15 State of Michigan title application fee will be collected for the state of Michigan (Dealers are exempt from the title application fee ONLY).\nOrbitbid.com (Miedema Auctioneering) will then process your title. If you wish to plate your vehicle there will be an additional fee. Proof of insurance will need to be provided for removal.\nContact our Title Coordinator (Charlyn) at 616-261-4972 with questions or to finalize title processing after purchase.\n\nTerms: \n\nAll items sell “AS IS\, WHERE IS” with no warranty. There shall be no guarantees or warranties\, expressed or implied\, statutory or otherwise as to the merchantability or fitness for any particular purpose of any goods offered in this sale.\n\nBuyer’s Premium: \n\nA 13% Buyer’s Premium is in effect for this auction.\nA 3% discount on the buyer’s premium is given when INVOICE IS PAID IN FULL with wire transfer\,  resulting in a 10% Buyers Premium.\n\nPayment: \n\nOnline with credit card.\nWire Transfer – invoice will include details.\nThese are the only types of payments accepted for this auction.\nNo payments will be accepted onsite of auction – online or wire transfer only.\n\nAll written material is subject to change. Announcements made day of sale take precedence over printed material.
URL:https://www.miedemaauctioneering.com/auction-calendar/bennett-farms-inc/
LOCATION:Bennett Farms\, 8170 Brucker Ave\, Fremont\, MI\, 49412\, United States
CATEGORIES:Online Only Auction
ATTACH;FMTTYPE=image/jpeg:https://miedemaauctioneering.s3.amazonaws.com/wp-content/uploads/2020/02/21134835/IMG_4064.jpg
ORGANIZER;CN="Chuck%20Ranney%20-%20Auction%20Manager":MAILTO:chuck@1800lastbid.com
GEO:43.407548;-85.984483
X-APPLE-STRUCTURED-LOCATION;VALUE=URI;X-ADDRESS=Bennett Farms 8170 Brucker Ave Fremont MI 49412 United States;X-APPLE-RADIUS=500;X-TITLE=8170 Brucker Ave:geo:-85.984483,43.407548
END:VEVENT
END:VCALENDAR