BEGIN:VCALENDAR
VERSION:2.0
PRODID:-//Miedema Auctioneering &amp; Appraisals, Inc. - ECPv6.0.5//NONSGML v1.0//EN
CALSCALE:GREGORIAN
METHOD:PUBLISH
X-ORIGINAL-URL:https://www.miedemaauctioneering.com
X-WR-CALDESC:Events for Miedema Auctioneering &amp; Appraisals, Inc.
REFRESH-INTERVAL;VALUE=DURATION:PT1H
X-Robots-Tag:noindex
X-PUBLISHED-TTL:PT1H
BEGIN:VTIMEZONE
TZID:America/Detroit
BEGIN:DAYLIGHT
TZOFFSETFROM:-0500
TZOFFSETTO:-0400
TZNAME:EDT
DTSTART:20170312T070000
END:DAYLIGHT
BEGIN:STANDARD
TZOFFSETFROM:-0400
TZOFFSETTO:-0500
TZNAME:EST
DTSTART:20171105T060000
END:STANDARD
END:VTIMEZONE
BEGIN:VEVENT
DTSTART;TZID=America/Detroit:20170311T100000
DTEND;TZID=America/Detroit:20170311T170000
DTSTAMP:20260419T105501
CREATED:20170210T190209Z
LAST-MODIFIED:20200122T182353Z
UID:10000187-1489226400-1489251600@www.miedemaauctioneering.com
SUMMARY:Alflen Dairy Farms
DESCRIPTION:Description:\nHaving sold the milk cows\, Alflen Dairy has chosen Miedema Auctioneering\, Inc. to sell their full line of farm machinery on Saturday\, March 11\, 2017 at 10am. Most of this equipment has been stored inside. This is a great opportunity to buy well maintained equipment.\n\n[ezcol_1half]Highlights include: \n\nNew Holland T6070 Tractor\nCase Magnum 7120\nCase Maxxum 5140\nJohn Deere 7720 Combine\nNew Holland 2115 Chopper\nNH 316 Discbine\nNH BR740 Round Baler\nSpra Coupe Sprayer\nKuhn 8124 Spreader\nplus much more.\n\n[/ezcol_1half] [ezcol_1half_end] \nItems Consigned by the neighbor: \n\nIHC 856\nIHC Super MTA\nJD 7000 Planter\nJD 450 Drill\nJD Field Cultivator\nCorn Sheller\nAluminum Elevator\nplus much more.\n\n[/ezcol_1half_end] \n\nVIEW AUCTION RESULTS\nRegister to Bid Online\nEquipment List\nAuction Brochure\nTerms & Conditions\n\nAuction Photos: \n\n			\n				\n			\n			\n				\n			\n			\n				\n			\n			\n				\n			\n			\n				\n			\n			\n				\n			\n			\n				\n			\n			\n				\n			\n			\n				\n			\n			\n				\n			\n			\n				\n			\n			\n				\n			\n			\n				\n			\n			\n				\n			\n			\n				\n			\n			\n				\n			\n			\n				\n			\n			\n				\n			\n			\n				\n			\n			\n				\n			\n			\n				\n			\n			\n				\n			\n			\n				\n			\n			\n				\n			\n			\n				\n			\n			\n				\n			\n			\n				\n			\n			\n				\n			\n			\n				\n			\n			\n				\n			\n			\n				\n			\n			\n				\n			\n			\n				\n			\n			\n				\n			\n			\n				\n			\n			\n				\n			\n			\n				\n			\n			\n				\n			\n			\n				\n			\n			\n				\n			\n			\n				\n			\n			\n				\n			\n			\n				\n			\n			\n				\n			\n			\n				\n			\n			\n				\n			\n			\n				\n			\n			\n				\n			\n			\n				\n			\n			\n				\n			\n			\n				\n			\n			\n				\n			\n			\n				\n			\n			\n				\n			\n			\n				\n			\n			\n				\n			\n			\n				\n			\n			\n				\n			\n			\n				\n			\n			\n				\n			\n			\n				\n			\n			\n				\n			\n			\n				\n			\n			\n				\n			\n			\n				\n			\n			\n				\n			\n			\n				\n			\n			\n				\n			\n			\n				\n			\n			\n				\n			\n			\n				\n			\n			\n				\n			\n			\n				\n			\n			\n				\n			\n			\n				\n			\n			\n				\n			\n			\n				\n			\n			\n				\n			\n			\n				\n			\n			\n				\n			\n			\n				\n			\n			\n				\n			\n			\n				\n			\n			\n				\n			\n			\n				\n			\n			\n				\n			\n			\n				\n			\n			\n				\n			\n			\n				\n			\n			\n				\n			\n			\n				\n			\n			\n				\n			\n			\n				\n			\n			\n				\n			\n			\n				\n			\n			\n				\n			\n			\n				\n			\n			\n				\n			\n			\n				\n			\n			\n				\n			\n			\n				\n			\n			\n				\n			\n		\n\n  \nTERMS & CONDITIONS\nInspection: \n\nFriday\, March 10 from 9am- 4pm\, and Auction Day beginning at 9am\n\nRemoval Times/Failure To Remove: \n\nAuction day until 5pm\nMonday March 13 from 8am- 5pm\nOther Appointments Available by arrangement\n\nLoading: \n\nForklift available\nAuction day until 5pm\nMonday March 13 from 8am- 5pm\n\nSales Tax: \n\nAll items will be charged 6% Michigan State Sales Tax. Titled vehicles will be charged Michigan State Sales Tax\, unless you provide our office with a copy of a valid dealer’s license (NO EXCEPTIONS). For exemption from sales tax on agricultural items\, buyers will need to sign an agricultural exemption statement.\n\nBuyers of Titled Vehicles: \n\nState regulations require that we broker all vehicles sold\, therefore you must sign your paperwork in the auction office. A $95 broker fee will be charged for paperwork. In addition\, a $15 title application fee will be collected for the state of Michigan (Dealers are exempt from the title application fee ONLY). Miedema Auctioneering will then process your title. If you wish to plate your vehicle there will be an additional fee. Proof of insurance will need to be provided for removal.\n\nTerms: \n\nAll items sell “AS IS\, WHERE IS” with no warranty. There shall be no guarantees or warranties\, expressed or implied\, statutory or otherwise as to the merchantability or fitness for any particular purpose of any goods offered in this sale.\n\nBuyer’s Premium: \n\nOnsite buyers: 3% with a 3% discount on Buyer’s Premium when invoice is paid with cash or check onsite\nProxibid buyers: 6% with a 3% discount on Buyer’s Premium when invoice is paid with cash\, check or wire transfer\n\nPayment: \n\nAuction day by cash\, cashier’s check\, Visa\, Mastercard.\n3% Buyer’s Premium is added to the high bid. This 3% is waived if paid by cash or check. Personal checks will be accepted at the auction company’s discretion. Out-of-state checks MUST have a bank letter of credit GUARANTEEING payment to MIEDEMA AUCTIONEERING INC. for this auction and the amount of funds being guaranteed. See guarantee form HERE\n\nAll written material is subject to change. Announcements made day of sale take precedence over printed material.
URL:https://www.miedemaauctioneering.com/auction-calendar/alflen-dairy-farms/
LOCATION:Alflen Dairy Farms\, 851 Ottogan\, Dorr\, MI\, 49323\, United States
CATEGORIES:Live and Online Webcast Auction
ATTACH;FMTTYPE=image/jpeg:https://miedemaauctioneering.s3.amazonaws.com/wp-content/uploads/2017/02/04111306/Thumbnail.jpg
ORGANIZER;CN="Chuck%20Ranney%20-%20Auction%20Manager":MAILTO:chuck@1800lastbid.com
GEO:42.7679747;-85.8029847
X-APPLE-STRUCTURED-LOCATION;VALUE=URI;X-ADDRESS=Alflen Dairy Farms 851 Ottogan Dorr MI 49323 United States;X-APPLE-RADIUS=500;X-TITLE=851 Ottogan:geo:-85.8029847,42.7679747
END:VEVENT
END:VCALENDAR