BEGIN:VCALENDAR
VERSION:2.0
PRODID:-//Miedema Auctioneering &amp; Appraisals, Inc. - ECPv6.0.5//NONSGML v1.0//EN
CALSCALE:GREGORIAN
METHOD:PUBLISH
X-WR-CALNAME:Miedema Auctioneering &amp; Appraisals, Inc.
X-ORIGINAL-URL:https://www.miedemaauctioneering.com
X-WR-CALDESC:Events for Miedema Auctioneering &amp; Appraisals, Inc.
REFRESH-INTERVAL;VALUE=DURATION:PT1H
X-Robots-Tag:noindex
X-PUBLISHED-TTL:PT1H
BEGIN:VTIMEZONE
TZID:America/Detroit
BEGIN:DAYLIGHT
TZOFFSETFROM:-0500
TZOFFSETTO:-0400
TZNAME:EDT
DTSTART:20250309T070000
END:DAYLIGHT
BEGIN:STANDARD
TZOFFSETFROM:-0400
TZOFFSETTO:-0500
TZNAME:EST
DTSTART:20251102T060000
END:STANDARD
END:VTIMEZONE
BEGIN:VEVENT
DTSTART;TZID=America/Detroit:20250307T110000
DTEND;TZID=America/Detroit:20250307T233000
DTSTAMP:20260419T225845
CREATED:20250117T215908Z
LAST-MODIFIED:20250227T222404Z
UID:10009122-1741345200-1741390200@www.miedemaauctioneering.com
SUMMARY:Todd Greiner Farms Packing\, LLC Real Estate Auction
DESCRIPTION:Todd and Sarah Greiner of Todd Greiner Farms Packing LLC have been successfully farming for 30 years\, raising asparagus\, cherries\, apples\, as well as other crops and also packing and selling asparagus and other vegetables. They have decided to focus on marketing and selling Michigan asparagus\, pumpkins and other vegetables\, so they will be selling over 900 acres of land\, including migrant housing\, a beautiful cabin/home only two years old in the woods\, plus prime farm land. They also will be selling a large lineup of extremely well maintained\, housed\, farm equipment featuring over 30 tractors and over 30 trucks and trailers. The Greiner’s are known for taking very good care of their land and equipment. This auction offers prime real estate and well-maintained equipment selling at live public auction with Internet bidding. This will be an outstanding opportunity to buy from a successful farmer! The Equipment Live Auction will take place on Saturday\, March 8 at 10 AM. Click here for information regarding the equipment. \nhttps://www.youtube.com/watch?v=vc1CLe-vEfw\nAuction Brochure\nBidder Packet\nSoil Maps for Todd Greiner Farms\nOpen House Times\nTerms & Conditions\nSome of supporting documents for exceptions on the title commitment. For example: mineral reservations and easements:\nParcels 4\,7\,8\,9\,10\,11\,13\,15\,16\,17\,19\,20\nParcels 4\,7\,8\,9\,10\,11\,13\,15\,16\,17\,19\,20\nParcel 8\nParcel 14\nParcel 15\nParcel 18\nParcel 19 \nParcel 3:± 80 Total AcresV/L N. 88th Ave.\, HartHighlights:17 Acres of Apple\, 48 Acres of Open Crop Land\, 10 Acres of Woods \n Parcel 4:± 80 Total Acres5864 88th Ave.\, HartHighlights:Mixture of Sweet Cherries\, Apples & Open Crop Land\, (2) Duplexes for Migrant Housing\, 2-Story 1\,460 SF Home\, Laundry Facility\, Storage Shed\, Well \n Parcel 5:± 70 Total Acres2272 W. Jackson Rd.\, HartHighlights:29 Acres of Tart Cherries\, 41 Acres of Open Crop Land\, 2-Story Home\, Barns & Garage\, Duplex Migrant House\, Spray Shed\, Storage Building \n Parcel 7:± 69 Total AcresV/L Jackson Rd.\, HartHighlights:Apples\, Cherries\, Clingstone Peaches\, Open Crop Land \nParcel 8:± 1 Total Acres1880 N. Jackson Rd.\, HartHighlights:3BD/3BA Ranch Home\, Subject to Life Lease \nParcel 9:± 40 Total AcresV/L N. 96th Ave.\, HartHighlights:Apples\, Cherries\, 7 Acres Clingstone Peaches\, Open Crop Land\, Pond \nParcel 10:± 40 Total AcresV/L W. Jackson Rd & 96th Ave.\, HartHighlights:Apples (Gala & Honey Crisp) \nParcel 11:± 80 Total AcresV/L W. Jackson Rd.\, HartHighlights:27 Acres of Tart Cherries\, 28 Acres of Apples\, 1 Acre of Woods\, 19 Acres of Crop\, Land\, 5 Acres of Misc. Land \nParcel 12:± 50 Total Acres2492 W. Jackson Rd.\, HartHighlights:1\,762 SF Farm House\, (2) Duplex Migrant Housing\, 19 Acres of Tart Cherries\, 8 Acres of Sweet Cherries\, 9 Acres of Asparagus\, 20 Acres Open Crop Land\, Spray Shed\, 5” Well \nParcel 13:± 24 Total AcresV/L W. Jackson Rd. & 88th Ave.\, HartHighlights:24 Acres Tart Cherries\, Open Land\, Power Company Owns Strip that Bisects this Parcel \nParcel 14:± 20 Total AcresV/L N. 88th Ave.\, HartHighlights:Was Planted Corn\, Woods\, Good Hunting \nParcel 16:± 60 Total AcresV/L N. 88th Ave. & W. Van Buren Rd.\, HartHighlights:Irrigated Crop Land\, Water Supplied from #19 with 6” Underground Pipe & (6) Risers \nParcel 17:± 80 Total AcresV/L W. Jackson Rd.\, HartHighlights:1\,566 SF 2-Story Farm House\, 17 Acres Asparagus\, 21 Acres Apples\, 5 Acres Sweet\, Cherries\, 25 Acres Tart Cherries\, 13 Acres Open Crop Land\, Fenced In Parcel \nParcel 18:± 38 Total AcresW. Van Buren Rd.\, HartHighlights:Tart Cherries \nParcel 19:± 40 Total AcresV/L W. Van Buren Rd.\, HartHighlights:6 Acres Sweet Cherries\, 6 Acres Tart Cherries\, 27 Acres of Irrigated Crop Land\, Irrigation Pond\, 4” & 10” Well & Pump\, Services #16 with Water \nParcel 20:± 39 Total Acres2068 W. Lever Rd.\, HartHighlights:20 Acres of Tart Cherries\, 18 Acres of Open Crop Land\, Irrigated by #19\, Single Wide Mobile Home\, Well \nParcel 21:± 34 Total AcresV/L W. Van Buren Rd.\, HartHighlights:Tart Cherries\, 10’ Deer Fence \nParcel 22:± 32 Total AcresV/L Lever Rd.\, HartHighlights:Open Crop Land \nParcel 23:± 37.5 Total AcresV/L E. Tyler Rd.\, HartHighlights:24 Acres of Tart Cherries\, 6 Acres of Christmas Trees\, Farm Land\, Flowing Well & Pond for Irrigation \nParcel 24:± 69 Total Acres1882 N. 136th Ave.\, HartHighlights:Open Crop Land\, Valley Center Pivot\, 10” Well & Pump \n\n				\n			\n\n				\n			\n\n				\n			\n\n				\n			\n\n				\n			\n\n				\n			\n\n				\n			\n\n				\n			\n\n				\n			\n\n				\n			\n\n				\n			\n\n				\n			\n\n				\n			\n\n				\n			\n\n				\n			\n\n				\n			\n\n				\n			\n\n				\n			\n\n				\n			\n\n				\n			\n\n				\n			\n\n				\n			\n\n				\n			\n\n				\n			\n\n				\n			\n\n				\n			\n\n				\n			\n\n				\n			\n\n				\n			\n\n				\n			\n\n				\n			\n\n				\n			\n\n				\n			\n\n				\n			\n\n				\n			\n\n				\n			\n\n				\n			\n\n				\n			\n\n				\n			\n\n				\n			\nTERMS & CONDITIONS\nOpen House Times: \n\nFebruary 24 (11 AM – 1 PM)\nMarch 5 (11 AM – 1 PM)\n\nREAL ESTATE ONLINE BIDDING: \n\nFOR THE REAL ESTATE\, TO BID ONLINE YOU MUST PREREGISTER BY FRIDAY\, FEBRUARY 28. CALL DONNA AT 616-538-0367 EXT 1117. A DEPOSIT OF $10\,000 WILL BE REQUIRED PRIOR TO APPROVAL TO BID ONLINE.\n\nRegistration: \n\nBegins at 10 AM at West Michigan Research Station: 5185 N Oceana Dr. Hart\, MI 49420.\n\nDeposit for Real Estate: \n\n10% of the successful bid price is required at the auction by good check\, cash or cashier’s check. This deposit is NOT refundable if the buyer does not carry through with the purchase. Your bidding is not conditional upon financing\, so be sure you have arranged financing if needed or are capable of paying cash at the closing.\n\nConditions: \n\nThe terms and conditions of this auction will be governed by the contract for the sale of Real Estate (herein called the buy/sell). The following terms are a summary provided for the convenience of the bidder. The buy/sell is available in the bidder’s packet and should be reviewed prior to the auction. All properties sell “AS IS WHERE IS” with no warranties of any type expressed or implied as to the merchantability\, usability\, fitness for a particular purpose\, or any matter of whatsoever type of nature. Any improvements\, which must be made\, are the responsibility of the purchaser. All information advertised or stated was derived from sources believed correct but is not guaranteed. All property dimensions are only approximations. Surveys are being completed for some parcels and the cost for the survey will be charged to the buyer\, payable at closing. Exact costs will be shown in the Bidder’s Packet. Buyers shall rely entirely on their own information\, judgment and inspection of the property and record. The real estate will be sold free and clear of all the liens. The property will however be sold subject to any easements and building and use restrictions of record. Any announcements made at the auction site take precedence over printed material\n\nBuyer’s Premium: \n\nA 3% Buyers Premium will be added to the high bid\n\nClosing Terms: \n\nBalance of purchase price due within 45 days at closing. The seller will pay taxes and assessments due in February 2025. Possession at closing for the land and subject to tenants rights for parcels with buildings. Seller shall provide an owners title insurance policy in the amount of the purchase price. Closings will be held at a local title company. Closing fees of approx. $450 will be divided evenly between the buyer and the seller.\n\nBuyer’s Note: \n\nIf you are the successful bidder\, you must go to the closing table to sign all the purchase agreements immediately following the conclusion of the auction. At that time\, your check will be endorsed as a non-refundable deposit on the property. Individual purchases are to be considered as singular transactions\, not contingent on any other purchases of properties on the auction. The ability to obtain financing is NOT a contingency of the sale. The auction will be conducted at the sole discretion of the auctioneer and any bids may be recognized at their discretion.\n\nBidder’s Packet: \n\nComplete bidder’s packets including copies of the buy/sell agreements\, Soil information\, Title Commitments\, etc. and will be available by calling to request a packet to be mailed at 616-538-0367\n\nAll written material is subject to change. Announcements made day of sale take precedence over printed material.
URL:https://www.miedemaauctioneering.com/auction-calendar/todd-greiner-farms-packing-llc-real-estate-auction/
LOCATION:5185 N Oceana Dr\, 5185 N Oceana Dr.\, Hart\, MI\, 49420\, United States
CATEGORIES:Live and Online Webcast Auction,Live Real Estate Auction
ATTACH;FMTTYPE=image/jpeg:https://miedemaauctioneering.s3.amazonaws.com/wp-content/uploads/2025/01/17165944/Original-TGF-Logo-2.5fad5b7f7d4357.43905954.jpg
ORGANIZER;CN="Jordan%20Miedema%20%E2%80%93%20Auction%20Manager":MAILTO:jordan@1800lastbid.com
GEO:43.7380129;-86.3596722
X-APPLE-STRUCTURED-LOCATION;VALUE=URI;X-ADDRESS=5185 N Oceana Dr 5185 N Oceana Dr. Hart MI 49420 United States;X-APPLE-RADIUS=500;X-TITLE=5185 N Oceana Dr.:geo:-86.3596722,43.7380129
END:VEVENT
END:VCALENDAR