BEGIN:VCALENDAR
VERSION:2.0
PRODID:-//Miedema Auctioneering &amp; Appraisals, Inc. - ECPv6.0.5//NONSGML v1.0//EN
CALSCALE:GREGORIAN
METHOD:PUBLISH
X-WR-CALNAME:Miedema Auctioneering &amp; Appraisals, Inc.
X-ORIGINAL-URL:https://www.miedemaauctioneering.com
X-WR-CALDESC:Events for Miedema Auctioneering &amp; Appraisals, Inc.
REFRESH-INTERVAL;VALUE=DURATION:PT1H
X-Robots-Tag:noindex
X-PUBLISHED-TTL:PT1H
BEGIN:VTIMEZONE
TZID:America/Detroit
BEGIN:DAYLIGHT
TZOFFSETFROM:-0500
TZOFFSETTO:-0400
TZNAME:EDT
DTSTART:20150308T070000
END:DAYLIGHT
BEGIN:STANDARD
TZOFFSETFROM:-0400
TZOFFSETTO:-0500
TZNAME:EST
DTSTART:20151101T060000
END:STANDARD
END:VTIMEZONE
BEGIN:VEVENT
DTSTART;TZID=America/Detroit:20151229T080000
DTEND;TZID=America/Detroit:20151229T170000
DTSTAMP:20260420T040346
CREATED:20161229T234740Z
LAST-MODIFIED:20200122T184755Z
UID:10000133-1451376000-1451408400@www.miedemaauctioneering.com
SUMMARY:City of Detroit Surplus Assets
DESCRIPTION:Miedema Auctioneering and Hilco Industrial will be conducting the sale of the assets of The City of Detroit at a live auction with internet bidding.\nMiedema Auctioneering and Hilco Industrial have been awarded the contract to handle the assets no longer required by The City of Detroit. The First multi-million dollar event will be a Live Auction with internet bidding in November of assets from Department of Public Works (186 Garbage Trucks)\, Department of Lighting (99 Maintenance Trucks and Vehicles)\, Department of Transportation (107 Buses)\, Fire and Police Departments\, (111 Cars and Fire Trucks).\n**PLEASE NOTE: Hilco Industrial will be taking ALL payments for this auction** \nENTER LIVE AUCTION Auction Brochure
URL:https://www.miedemaauctioneering.com/auction-calendar/city-of-detroit-surplus-assets/
LOCATION:City of Detroit Surplus Assets\, 11511 Taylor St\, Detroit\, MI\, 48202\, United States
CATEGORIES:Live and Online Webcast Auction
ATTACH;FMTTYPE=image/jpeg:https://miedemaauctioneering.s3.amazonaws.com/wp-content/uploads/2016/12/29184734/detroit.jpg
ORGANIZER;CN="Chuck%20Ranney%20-%20Auction%20Manager":MAILTO:chuck@1800lastbid.com
GEO:42.3798423;-83.0872019
X-APPLE-STRUCTURED-LOCATION;VALUE=URI;X-ADDRESS=City of Detroit Surplus Assets 11511 Taylor St Detroit MI 48202 United States;X-APPLE-RADIUS=500;X-TITLE=11511 Taylor St:geo:-83.0872019,42.3798423
END:VEVENT
END:VCALENDAR