BEGIN:VCALENDAR
VERSION:2.0
PRODID:-//Miedema Auctioneering &amp; Appraisals, Inc. - ECPv6.0.5//NONSGML v1.0//EN
CALSCALE:GREGORIAN
METHOD:PUBLISH
X-WR-CALNAME:Miedema Auctioneering &amp; Appraisals, Inc.
X-ORIGINAL-URL:https://www.miedemaauctioneering.com
X-WR-CALDESC:Events for Miedema Auctioneering &amp; Appraisals, Inc.
REFRESH-INTERVAL;VALUE=DURATION:PT1H
X-Robots-Tag:noindex
X-PUBLISHED-TTL:PT1H
BEGIN:VTIMEZONE
TZID:America/Detroit
BEGIN:DAYLIGHT
TZOFFSETFROM:-0500
TZOFFSETTO:-0400
TZNAME:EDT
DTSTART:20140309T070000
END:DAYLIGHT
BEGIN:STANDARD
TZOFFSETFROM:-0400
TZOFFSETTO:-0500
TZNAME:EST
DTSTART:20141102T060000
END:STANDARD
END:VTIMEZONE
BEGIN:VEVENT
DTSTART;TZID=America/Detroit:20141213T100000
DTEND;TZID=America/Detroit:20141213T180000
DTSTAMP:20260420T200740
CREATED:20161229T224458Z
LAST-MODIFIED:20200122T183550Z
UID:10000123-1418464800-1418493600@www.miedemaauctioneering.com
SUMMARY:Blueberry Farm Equipment Auction- Blueberry Heritage Farms- Wayne and Jeri Kiel
DESCRIPTION:After 3 generations in blueberry farming\, the Kiel’s have sold their land and will now be selling all of their equipment. Highlights include: NEW\, 20′ x 150′ unassembled Gothic Style Greenhouses\, Several Tractors\, Volvo L90 Wheel Loader\, Forklifts\, Trucks\, Trailers\, Farm Equipment\, Blueberry Equipment from their processing fresh line and their wetline for frozen blueberries. Large amount of shop tools and miscellaneous items accumulated from decades of farming. \nENTER LIVE AUCTION Auction Brochure
URL:https://www.miedemaauctioneering.com/auction-calendar/blueberry-farm-equipment-auction-blueberry-heritage-farms-wayne-and-jeri-kiel/
LOCATION:o-13871 Blair St.\, Holland\, MI\, 49422\, United States
CATEGORIES:Live and Online Webcast Auction
ATTACH;FMTTYPE=image/jpeg:https://miedemaauctioneering.s3.amazonaws.com/wp-content/uploads/2016/12/29174452/wayne-and-jeri.jpg
ORGANIZER;CN="Chuck%20Ranney%20-%20Auction%20Manager":MAILTO:chuck@1800lastbid.com
GEO:42.895984;-86.126752
X-APPLE-STRUCTURED-LOCATION;VALUE=URI;X-ADDRESS=o-13871 Blair St. Holland MI 49422 United States;X-APPLE-RADIUS=500;X-TITLE=o-13871 Blair St.:geo:-86.126752,42.895984
END:VEVENT
END:VCALENDAR