BEGIN:VCALENDAR
VERSION:2.0
PRODID:-//Miedema Auctioneering &amp; Appraisals, Inc. - ECPv6.0.5//NONSGML v1.0//EN
CALSCALE:GREGORIAN
METHOD:PUBLISH
X-ORIGINAL-URL:https://www.miedemaauctioneering.com
X-WR-CALDESC:Events for Miedema Auctioneering &amp; Appraisals, Inc.
REFRESH-INTERVAL;VALUE=DURATION:PT1H
X-Robots-Tag:noindex
X-PUBLISHED-TTL:PT1H
BEGIN:VTIMEZONE
TZID:America/Detroit
BEGIN:DAYLIGHT
TZOFFSETFROM:-0500
TZOFFSETTO:-0400
TZNAME:EDT
DTSTART:20150308T070000
END:DAYLIGHT
BEGIN:STANDARD
TZOFFSETFROM:-0400
TZOFFSETTO:-0500
TZNAME:EST
DTSTART:20151101T060000
END:STANDARD
END:VTIMEZONE
BEGIN:VEVENT
DTSTART;TZID=America/Detroit:20150206T050000
DTEND;TZID=America/Detroit:20150206T180000
DTSTAMP:20260420T202029
CREATED:20161229T221922Z
LAST-MODIFIED:20200122T184653Z
UID:10000118-1423198800-1423245600@www.miedemaauctioneering.com
SUMMARY:Charity Auction: Down Syndrome Association "Inside Outing"
DESCRIPTION:Join the Down Syndrome Association on Friday\, February 6 for a fun\, 21-hole\, indoor mini-golf scramble and after party to raise funds to support DSAWM programs and services!\nRegistration & Refreshments @ 5:00pm. Shotgun Start @ 6:00pm. Dinner & Auction @ 8:00-11:00pm. \nLearn more at http://www.eventbrite.com/myevent?eid=14728823307 \n 
URL:https://www.miedemaauctioneering.com/auction-calendar/charity-auction-down-syndrome-association-inside-outing/
LOCATION:235 Louis St. NW\, Grand Rapids\, MI\, 49503\, United States
CATEGORIES:Live Auction
ATTACH;FMTTYPE=image/png:https://miedemaauctioneering.s3.amazonaws.com/wp-content/uploads/2016/12/29171906/charity.png
ORGANIZER;CN="Chuck%20Ranney%20-%20Auction%20Manager":MAILTO:chuck@1800lastbid.com
GEO:42.965207;-85.6738541
X-APPLE-STRUCTURED-LOCATION;VALUE=URI;X-ADDRESS=235 Louis St. NW Grand Rapids MI 49503 United States;X-APPLE-RADIUS=500;X-TITLE=235 Louis St. NW:geo:-85.6738541,42.965207
END:VEVENT
END:VCALENDAR