BEGIN:VCALENDAR
VERSION:2.0
PRODID:-//Miedema Auctioneering &amp; Appraisals, Inc. - ECPv6.0.5//NONSGML v1.0//EN
CALSCALE:GREGORIAN
METHOD:PUBLISH
X-ORIGINAL-URL:https://www.miedemaauctioneering.com
X-WR-CALDESC:Events for Miedema Auctioneering &amp; Appraisals, Inc.
REFRESH-INTERVAL;VALUE=DURATION:PT1H
X-Robots-Tag:noindex
X-PUBLISHED-TTL:PT1H
BEGIN:VTIMEZONE
TZID:America/Detroit
BEGIN:DAYLIGHT
TZOFFSETFROM:-0500
TZOFFSETTO:-0400
TZNAME:EDT
DTSTART:20260308T070000
END:DAYLIGHT
BEGIN:STANDARD
TZOFFSETFROM:-0400
TZOFFSETTO:-0500
TZNAME:EST
DTSTART:20261101T060000
END:STANDARD
END:VTIMEZONE
BEGIN:VEVENT
DTSTART;TZID=America/Detroit:20260602T080000
DTEND;TZID=America/Detroit:20260602T233000
DTSTAMP:20260421T074332
CREATED:20260420T184326Z
LAST-MODIFIED:20260420T184326Z
UID:10009162-1780387200-1780443000@www.miedemaauctioneering.com
SUMMARY:153 Acres in Sheridan\, MI: Home + 3 Agricultural Parcels Available Individually or as a Package **ONLINE AUCTION** (LASTBIDrealesate.com Auction)
DESCRIPTION:Multi-Parcel Real Estate Auction featuring 4 parcels selling separately or together in Sheridan\, MI. This auction offers 4 parcels — 3 are agricultural acreages and the 4th parcel is a home on approx. 2 acres.
URL:https://www.miedemaauctioneering.com/auction-calendar/153-acres-in-sheridan-mi-home-3-agricultural-parcels-available-individually-or-as-a-package-online-auction-lastbidrealesate-com-auction/
LOCATION:LastBidRealEstate.com ONLINE REAL ESTATE AUCTION\, 34434 69th St\, Covert\, MI\, 49043\, United States
CATEGORIES:Online Only Auction
ATTACH;FMTTYPE=image/jpeg:https://miedemaauctioneering.s3.amazonaws.com/wp-content/uploads/2026/04/20144302/large-2.jpg
ORGANIZER;CN="Jordan%20Miedema%20%E2%80%93%20Auction%20Manager":MAILTO:jordan@1800lastbid.com
GEO:42.2919892;-86.2157253
X-APPLE-STRUCTURED-LOCATION;VALUE=URI;X-ADDRESS=LastBidRealEstate.com ONLINE REAL ESTATE AUCTION 34434 69th St Covert MI 49043 United States;X-APPLE-RADIUS=500;X-TITLE=34434 69th St:geo:-86.2157253,42.2919892
END:VEVENT
END:VCALENDAR