BEGIN:VCALENDAR
VERSION:2.0
PRODID:-//Miedema Auctioneering &amp; Appraisals, Inc. - ECPv6.0.5//NONSGML v1.0//EN
CALSCALE:GREGORIAN
METHOD:PUBLISH
X-ORIGINAL-URL:https://www.miedemaauctioneering.com
X-WR-CALDESC:Events for Miedema Auctioneering &amp; Appraisals, Inc.
REFRESH-INTERVAL;VALUE=DURATION:PT1H
X-Robots-Tag:noindex
X-PUBLISHED-TTL:PT1H
BEGIN:VTIMEZONE
TZID:America/Detroit
BEGIN:DAYLIGHT
TZOFFSETFROM:-0500
TZOFFSETTO:-0400
TZNAME:EDT
DTSTART:20150308T070000
END:DAYLIGHT
BEGIN:STANDARD
TZOFFSETFROM:-0400
TZOFFSETTO:-0500
TZNAME:EST
DTSTART:20151101T060000
END:STANDARD
END:VTIMEZONE
BEGIN:VEVENT
DTSTART;TZID=America/Detroit:20150416T180000
DTEND;TZID=America/Detroit:20150416T213000
DTSTAMP:20260421T074128
CREATED:20161228T200230Z
LAST-MODIFIED:20170119T195140Z
UID:10000014-1429207200-1429219800@www.miedemaauctioneering.com
SUMMARY:MICHIGAN: Werner Dairy Real Estate and Milking Equipment
DESCRIPTION:LIVE AUCTION – After successfully farming all their lives\, Keith and Greg Werner have decided to retire and have hired Miedema Auctioneering to sell their equipment and real estate.  This auction will feature approximately 464 acres\, 13 parcels\, tillable acreage\, scenic building sites\, excellent hunting property\, dairy facility\, home\, ponds\, rolling hills. We will also be selling the milking equipment in separate lots at the real estate auction. Most of the acreage is good producing soils and tillable.  It is situated just southeast of Leroy\, MI in the beautiful rolling hills with great views and quiet country setting with many lakes and ponds in the area as well\, only a few miles from the Pere Marquette State Forest.  This is a great opportunity to add acreage to your current operation or set up a new operation with everything you need to start farming yet this spring!  Don’t miss this opportunity!!  Auction will be held at the Rose Lake Township Hall: 15953 16 Mile Road\, Leroy\, MI at 6PM \nAuction Brochure
URL:https://www.miedemaauctioneering.com/auction-calendar/michigan-werner-dairy-real-estate-and-milking-equipment/
LOCATION:Werner Dairy Real Estate and Milking Equipment\, 15953 W 16 Mile Rd. \, Leroy\, MI\, 49051\, United States
CATEGORIES:Live Auction,Live Real Estate Auction
ATTACH;FMTTYPE=image/jpeg:https://miedemaauctioneering.s3.amazonaws.com/wp-content/uploads/2016/12/28150140/werner-dairy.jpg
ORGANIZER;CN="Chuck%20Ranney%20-%20Auction%20Manager":MAILTO:chuck@1800lastbid.com
GEO:44.0452422;-85.3903984
X-APPLE-STRUCTURED-LOCATION;VALUE=URI;X-ADDRESS=Werner Dairy Real Estate and Milking Equipment 15953 W 16 Mile Rd.  Leroy MI 49051 United States;X-APPLE-RADIUS=500;X-TITLE=15953 W 16 Mile Rd.:geo:-85.3903984,44.0452422
END:VEVENT
END:VCALENDAR