BEGIN:VCALENDAR
VERSION:2.0
PRODID:-//Miedema Auctioneering &amp; Appraisals, Inc. - ECPv6.0.5//NONSGML v1.0//EN
CALSCALE:GREGORIAN
METHOD:PUBLISH
X-ORIGINAL-URL:https://www.miedemaauctioneering.com
X-WR-CALDESC:Events for Miedema Auctioneering &amp; Appraisals, Inc.
REFRESH-INTERVAL;VALUE=DURATION:PT1H
X-Robots-Tag:noindex
X-PUBLISHED-TTL:PT1H
BEGIN:VTIMEZONE
TZID:America/Detroit
BEGIN:DAYLIGHT
TZOFFSETFROM:-0500
TZOFFSETTO:-0400
TZNAME:EDT
DTSTART:20150308T070000
END:DAYLIGHT
BEGIN:STANDARD
TZOFFSETFROM:-0400
TZOFFSETTO:-0500
TZNAME:EST
DTSTART:20151101T060000
END:STANDARD
END:VTIMEZONE
BEGIN:VEVENT
DTSTART;TZID=America/Detroit:20150429T100000
DTEND;TZID=America/Detroit:20150429T120000
DTSTAMP:20260420T223744
CREATED:20161228T193632Z
LAST-MODIFIED:20170119T195038Z
UID:10000019-1430301600-1430308800@www.miedemaauctioneering.com
SUMMARY:NEW JERSEY: J Wm Foley Inc/North Star Rail Auction
DESCRIPTION:LIVE AUCTION: Large Commercial Electrical Line Contractor and Railroad Maintenance Company – Multi-million dollar valuation – digger derricks\, bucket trucks\, excavator\, loader\, backhoes\, dozer\, semi crane and other heavy trucks\, specialty pullers\, tensioners\, many types of trailers\, passenger vehicles\, pickup trucks\, air compressors\,  attachments\, 1000’s of lots of support tools and equipment\, miscellaneous construction & shop tools\, plus much more!! Contact Chuck Ranney at chuck@1800lastbid.com or 616-560-0839. \nENTER LIVE AUCTION Auction Catalog Auction Brochure
URL:https://www.miedemaauctioneering.com/auction-calendar/new-jersey-j-wm-foley-incnorth-star-rail-auction/
LOCATION:J Wm Foley Inc/North Star Rail Auction\, 340 Chestnut Ave\, West Berlin \, MI\, 08091\, United States
CATEGORIES:Live and Online Webcast Auction,Live Auction
ATTACH;FMTTYPE=image/jpeg:https://miedemaauctioneering.s3.amazonaws.com/wp-content/uploads/2016/12/28143511/j-Wm-Foley.jpg
ORGANIZER;CN="Chuck%20Ranney%20-%20Auction%20Manager":MAILTO:chuck@1800lastbid.com
GEO:39.8068907;-74.938768
X-APPLE-STRUCTURED-LOCATION;VALUE=URI;X-ADDRESS=J Wm Foley Inc/North Star Rail Auction 340 Chestnut Ave West Berlin  MI 08091 United States;X-APPLE-RADIUS=500;X-TITLE=340 Chestnut Ave:geo:-74.938768,39.8068907
END:VEVENT
END:VCALENDAR