BEGIN:VCALENDAR
VERSION:2.0
PRODID:-//Miedema Auctioneering &amp; Appraisals, Inc. - ECPv6.0.5//NONSGML v1.0//EN
CALSCALE:GREGORIAN
METHOD:PUBLISH
X-ORIGINAL-URL:https://www.miedemaauctioneering.com
X-WR-CALDESC:Events for Miedema Auctioneering &amp; Appraisals, Inc.
REFRESH-INTERVAL;VALUE=DURATION:PT1H
X-Robots-Tag:noindex
X-PUBLISHED-TTL:PT1H
BEGIN:VTIMEZONE
TZID:America/Detroit
BEGIN:DAYLIGHT
TZOFFSETFROM:-0500
TZOFFSETTO:-0400
TZNAME:EDT
DTSTART:20150308T070000
END:DAYLIGHT
BEGIN:STANDARD
TZOFFSETFROM:-0400
TZOFFSETTO:-0500
TZNAME:EST
DTSTART:20151101T060000
END:STANDARD
END:VTIMEZONE
BEGIN:VEVENT
DTSTART;TZID=America/Detroit:20150526T090000
DTEND;TZID=America/Detroit:20150526T110000
DTSTAMP:20260420T132421
CREATED:20161228T175415Z
LAST-MODIFIED:20200219T212124Z
UID:10000028-1432630800-1432638000@www.miedemaauctioneering.com
SUMMARY:MICHIGAN: Land Auction Shiawassee County\, Bennington Township\, near Owosso\, MI
DESCRIPTION:Appx 500 acres\, nearly 400 acres tillable. By order of court\, we will be conducting a short notice land auction. We have teamed up with Sheridan Realty and Auction to sell this property. The land will be offered in 7 parcels\, in any combination of parcels\, or in it’s entirety. A large portion of this land is contiguous. Outstanding opportunity to buy prime farm land yet this spring! Arrangements can be made to allow buyers the opportunity to work the land before closing so you can get crops in yet this spring. Dave Miller and Nick Ramos – owners. Miedema Auctioneering Inc. \nAuction Brochure USDA Aerial Parcels  Aerial Tracts
URL:https://www.miedemaauctioneering.com/auction-calendar/michigan-land-auction-shiawassee-county-bennington-township-near-owosso-mi/
LOCATION:Land Auction Shiawassee County\, 1020 S. Washington St\, Owosso\, MI\, 48867\, United States
CATEGORIES:Live Real Estate Auction
ORGANIZER;CN="Chuck%20Ranney%20-%20Auction%20Manager":MAILTO:chuck@1800lastbid.com
GEO:42.9856148;-84.1737996
X-APPLE-STRUCTURED-LOCATION;VALUE=URI;X-ADDRESS=Land Auction Shiawassee County 1020 S. Washington St Owosso MI 48867 United States;X-APPLE-RADIUS=500;X-TITLE=1020 S. Washington St:geo:-84.1737996,42.9856148
END:VEVENT
END:VCALENDAR