BEGIN:VCALENDAR
VERSION:2.0
PRODID:-//Miedema Auctioneering &amp; Appraisals, Inc. - ECPv6.0.5//NONSGML v1.0//EN
CALSCALE:GREGORIAN
METHOD:PUBLISH
X-WR-CALNAME:Miedema Auctioneering &amp; Appraisals, Inc.
X-ORIGINAL-URL:https://www.miedemaauctioneering.com
X-WR-CALDESC:Events for Miedema Auctioneering &amp; Appraisals, Inc.
REFRESH-INTERVAL;VALUE=DURATION:PT1H
X-Robots-Tag:noindex
X-PUBLISHED-TTL:PT1H
BEGIN:VTIMEZONE
TZID:America/Detroit
BEGIN:DAYLIGHT
TZOFFSETFROM:-0500
TZOFFSETTO:-0400
TZNAME:EDT
DTSTART:20150308T070000
END:DAYLIGHT
BEGIN:STANDARD
TZOFFSETFROM:-0400
TZOFFSETTO:-0500
TZNAME:EST
DTSTART:20151101T060000
END:STANDARD
END:VTIMEZONE
BEGIN:VEVENT
DTSTART;TZID=America/Detroit:20150616T100000
DTEND;TZID=America/Detroit:20150616T120000
DTSTAMP:20260420T145451
CREATED:20161228T170349Z
LAST-MODIFIED:20200219T214133Z
UID:10000092-1434448800-1434456000@www.miedemaauctioneering.com
SUMMARY:MICHIGAN: Surplus Vehicles\, Machinery and Equipment from the City of Detroit
DESCRIPTION:Please note: Date Change from June 3 to June 16! In contract with the City of Detroit\, Miedema Auctioneering\, in partnership with Hilco Industrial\, will be selling surplus assets that the City of Detroit is no longer utilizing. This auction will be held at the Herman Keifer Hospital Grounds\, and will include items such as: Altec Bucket (Lamplighter Type) Lift Trucks with low hours and miles\, Tractors\, Loaders\, Ambulance Vehicles\, Vans\, Box Trucks\, Garbage Truck\, Pavers\, Sweeper Trucks\, Turret Trailer\, Wrecker Truck\, and many vehicles. The vehicle list includes: 2004-2011 Ford Crown Victorias; Ford F150s\, F250s\, F350s\, F450s\, F650s\, F750s\, F800s; Ford Explorers\, Ford Expeditions\, Ford Vans\, Chevrolet Impalas\, Chevrolet 3500s\, Chevrolet Step Vans\, (11) 2003 Chevrolet C-1500s; and more!!! Please see asset list for full details. Preview Day is Monday\, June 15 from 9AM- 4PM. Online Bidding is offered as well if you cannot attend the live auction! \nENTER LIVE AUCTION Auction Catalog Auction Brochure
URL:https://www.miedemaauctioneering.com/auction-calendar/michigan-surplus-vehicles-machinery-and-equipment-from-the-city-of-detroit/
LOCATION:City of Detroit\, 1151 Taylor Street \, Detroit \, MI\, 48202\, United States
CATEGORIES:Live and Online Webcast Auction
ATTACH;FMTTYPE=image/jpeg:https://miedemaauctioneering.s3.amazonaws.com/wp-content/uploads/2016/12/28120050/city-of-detroit2.jpg
ORGANIZER;CN="Chuck%20Ranney%20-%20Auction%20Manager":MAILTO:chuck@1800lastbid.com
GEO:42.3776648;-83.0909536
X-APPLE-STRUCTURED-LOCATION;VALUE=URI;X-ADDRESS=City of Detroit 1151 Taylor Street  Detroit  MI 48202 United States;X-APPLE-RADIUS=500;X-TITLE=1151 Taylor Street:geo:-83.0909536,42.3776648
END:VEVENT
END:VCALENDAR