BEGIN:VCALENDAR
VERSION:2.0
PRODID:-//Miedema Auctioneering &amp; Appraisals, Inc. - ECPv6.0.5//NONSGML v1.0//EN
CALSCALE:GREGORIAN
METHOD:PUBLISH
X-ORIGINAL-URL:https://www.miedemaauctioneering.com
X-WR-CALDESC:Events for Miedema Auctioneering &amp; Appraisals, Inc.
REFRESH-INTERVAL;VALUE=DURATION:PT1H
X-Robots-Tag:noindex
X-PUBLISHED-TTL:PT1H
BEGIN:VTIMEZONE
TZID:America/Detroit
BEGIN:DAYLIGHT
TZOFFSETFROM:-0500
TZOFFSETTO:-0400
TZNAME:EDT
DTSTART:20150308T070000
END:DAYLIGHT
BEGIN:STANDARD
TZOFFSETFROM:-0400
TZOFFSETTO:-0500
TZNAME:EST
DTSTART:20151101T060000
END:STANDARD
END:VTIMEZONE
BEGIN:VEVENT
DTSTART;TZID=America/Detroit:20150624T180000
DTEND;TZID=America/Detroit:20150624T190000
DTSTAMP:20260420T114532
CREATED:20161228T165040Z
LAST-MODIFIED:20170111T213554Z
UID:10000088-1435168800-1435172400@www.miedemaauctioneering.com
SUMMARY:MICHIGAN: Waterfront Land Auction POSTPONED UNTIL FURTHER NOTICE
DESCRIPTION:THIS AUCTION HAS BEEN POSTPONED UNTIL FURTHER NOTICE \nLIVE AUCTION – Waterfront Land Auction: Wajan LLC.\, Owner. 203 acres with over 1700’ of frontage on Bankston Lake. This was formerly Camp Shawadasee\, a Girl Scout camp. It includes a dining hall\, kitchens\, lodges\, etc. Also\, some prime building sites will be offered\, as well as a residential home. 203 acres will be offered in several parcels\, in its entirety\, or in any combination of parcels. Beautiful wooded land with lake-frontage. A lot of potential uses. Sells to highest bidder. No minimum price. \n 
URL:https://www.miedemaauctioneering.com/auction-calendar/michigan-waterfront-land-auction-postponed-until-further-notice/
LOCATION:Lawton\, MI\, United States
CATEGORIES:Live Real Estate Auction
ATTACH;FMTTYPE=image/jpeg:https://miedemaauctioneering.s3.amazonaws.com/wp-content/uploads/2016/12/28115029/Waterfront.jpg
ORGANIZER;CN="Chuck%20Ranney%20-%20Auction%20Manager":MAILTO:chuck@1800lastbid.com
GEO:42.1672629;-85.8469539
END:VEVENT
END:VCALENDAR