BEGIN:VCALENDAR
VERSION:2.0
PRODID:-//Miedema Auctioneering &amp; Appraisals, Inc. - ECPv6.0.5//NONSGML v1.0//EN
CALSCALE:GREGORIAN
METHOD:PUBLISH
X-WR-CALNAME:Miedema Auctioneering &amp; Appraisals, Inc.
X-ORIGINAL-URL:https://www.miedemaauctioneering.com
X-WR-CALDESC:Events for Miedema Auctioneering &amp; Appraisals, Inc.
REFRESH-INTERVAL;VALUE=DURATION:PT1H
X-Robots-Tag:noindex
X-PUBLISHED-TTL:PT1H
BEGIN:VTIMEZONE
TZID:America/Detroit
BEGIN:DAYLIGHT
TZOFFSETFROM:-0500
TZOFFSETTO:-0400
TZNAME:EDT
DTSTART:20150308T070000
END:DAYLIGHT
BEGIN:STANDARD
TZOFFSETFROM:-0400
TZOFFSETTO:-0500
TZNAME:EST
DTSTART:20151101T060000
END:STANDARD
END:VTIMEZONE
BEGIN:VEVENT
DTSTART;TZID=America/Detroit:20150723T110000
DTEND;TZID=America/Detroit:20150723T130000
DTSTAMP:20260420T150915
CREATED:20161228T164602Z
LAST-MODIFIED:20200219T214159Z
UID:10000085-1437649200-1437656400@www.miedemaauctioneering.com
SUMMARY:MICHIGAN: SVD Northern Beef & Grain
DESCRIPTION:LIVE AUCTION – Due to a change in operation\, we will be selling all of the farm equipment from the Buckley location at auction. Highlights include: John Deere 9300 4WD\, John Deere 4960 MFWD\, John Deere 6420 MFWD\, John Deere 6410 MFWD with loader\, 1987 Ford L9000 with Knight spreader\, Houle 7300 manure tank\, 2012 John Deere 2210 field cultivator\, 2012 Unverferth 1225 rolling harrow\, plus hay equipment\, tilling equipment\, trucks\, trailers\, and assortment of shop tools and machinery.\nDue to circumstances beyond our control\, the 2004 Kenworth feed truck will not be on the auction. \nENTER LIVE AUCTION  Auction Catalog Auction Brochure
URL:https://www.miedemaauctioneering.com/auction-calendar/michigan-svd-northern-beef-grain/
LOCATION:SVD Northern Beef & Grain\, 8110 W. 4 Rd. \, Buckley\, MI\, 49620\, United States
CATEGORIES:Live and Online Webcast Auction,Live Auction
ATTACH;FMTTYPE=image/jpeg:https://miedemaauctioneering.s3.amazonaws.com/wp-content/uploads/2016/12/28114552/SVD-bbef-and-grain.jpg
ORGANIZER;CN="Chuck%20Ranney%20-%20Auction%20Manager":MAILTO:chuck@1800lastbid.com
GEO:44.4993582;-85.6771025
X-APPLE-STRUCTURED-LOCATION;VALUE=URI;X-ADDRESS=SVD Northern Beef & Grain 8110 W. 4 Rd.  Buckley MI 49620 United States;X-APPLE-RADIUS=500;X-TITLE=8110 W. 4 Rd.:geo:-85.6771025,44.4993582
END:VEVENT
END:VCALENDAR