BEGIN:VCALENDAR
VERSION:2.0
PRODID:-//Miedema Auctioneering &amp; Appraisals, Inc. - ECPv6.0.5//NONSGML v1.0//EN
CALSCALE:GREGORIAN
METHOD:PUBLISH
X-ORIGINAL-URL:https://www.miedemaauctioneering.com
X-WR-CALDESC:Events for Miedema Auctioneering &amp; Appraisals, Inc.
REFRESH-INTERVAL;VALUE=DURATION:PT1H
X-Robots-Tag:noindex
X-PUBLISHED-TTL:PT1H
BEGIN:VTIMEZONE
TZID:America/Detroit
BEGIN:DAYLIGHT
TZOFFSETFROM:-0500
TZOFFSETTO:-0400
TZNAME:EDT
DTSTART:20150308T070000
END:DAYLIGHT
BEGIN:STANDARD
TZOFFSETFROM:-0400
TZOFFSETTO:-0500
TZNAME:EST
DTSTART:20151101T060000
END:STANDARD
END:VTIMEZONE
BEGIN:VEVENT
DTSTART;TZID=America/Detroit:20150822T100000
DTEND;TZID=America/Detroit:20150822T140000
DTSTAMP:20260420T183937
CREATED:20161228T160819Z
LAST-MODIFIED:20200219T211933Z
UID:10000082-1440237600-1440252000@www.miedemaauctioneering.com
SUMMARY:MICHIGAN: Kauffman Estate Auction
DESCRIPTION:LIVE AUCTION: The Kauffmans have lived here for 40 years and were active in the community. David owned a contractor business and had a lot of tools and equipment along with other items. In order to settle the Estate we will be selling the Real Estate and Equipment. The Equipment will start at 10am and the Real Estate will sell at 12pm noon. Highlights Include: New Holland TC29D Tractor with a Woods 1012 Loader\, Husqvarna RZ4824F Zero Turn Mower\, 48” Deck\, Rider Pro 15 Lawn Mower\, King Cutter Rototiller\, 3 pt Snow blower\, Grizzly Model G0691 10” Table Saw with Riving Knife and Ext Table\, Grizzly 10” Wet Tile Saw H3390\, Toolshop 6” Belt & 9” Disc Sander\, plus more lawn and garden equipment\, woodworking tools\, masonry tools\, and hand held tools. The home has a main floor with a laundry room\, 3 bedrooms and a bathroom\, a living room and kitchen area\, the basement is finished with an office\, and living room area. The house has an attached 2 stall garage\, deck\, and a paved driveway. The pole barn is open with the main area in the front where he had wood working equipment and another room in the back with 12’ overhead doors.  The house and barn have a beautiful setting in a nice yard surrounded by approximately 20 acres of woods. Please see the Equipment List and if interested in the real estate\, call for a bidders packet. Seller: David Kauffman Estate. \nENTER LIVE AUCTION Auction Catalog Auction Brochure
URL:https://www.miedemaauctioneering.com/auction-calendar/michigan-kauffman-estate-auction/
LOCATION:Kauffman Estate Auction\, 379 E 96th St\, Newaygo \, MI\, 49337\, United States
CATEGORIES:Live and Online Webcast Auction,Live Auction
ATTACH;FMTTYPE=image/png:https://miedemaauctioneering.s3.amazonaws.com/wp-content/uploads/2016/12/28110649/kauffman-estate.png
ORGANIZER;CN="Chuck%20Ranney%20-%20Auction%20Manager":MAILTO:chuck@1800lastbid.com
GEO:43.382067;-85.792672
X-APPLE-STRUCTURED-LOCATION;VALUE=URI;X-ADDRESS=Kauffman Estate Auction 379 E 96th St Newaygo  MI 49337 United States;X-APPLE-RADIUS=500;X-TITLE=379 E 96th St:geo:-85.792672,43.382067
END:VEVENT
END:VCALENDAR