BEGIN:VCALENDAR
VERSION:2.0
PRODID:-//Miedema Auctioneering &amp; Appraisals, Inc. - ECPv6.0.5//NONSGML v1.0//EN
CALSCALE:GREGORIAN
METHOD:PUBLISH
X-ORIGINAL-URL:https://www.miedemaauctioneering.com
X-WR-CALDESC:Events for Miedema Auctioneering &amp; Appraisals, Inc.
REFRESH-INTERVAL;VALUE=DURATION:PT1H
X-Robots-Tag:noindex
X-PUBLISHED-TTL:PT1H
BEGIN:VTIMEZONE
TZID:America/Detroit
BEGIN:DAYLIGHT
TZOFFSETFROM:-0500
TZOFFSETTO:-0400
TZNAME:EDT
DTSTART:20150308T070000
END:DAYLIGHT
BEGIN:STANDARD
TZOFFSETFROM:-0400
TZOFFSETTO:-0500
TZNAME:EST
DTSTART:20151101T060000
END:STANDARD
END:VTIMEZONE
BEGIN:VEVENT
DTSTART;TZID=America/Detroit:20151031T100000
DTEND;TZID=America/Detroit:20151031T120000
DTSTAMP:20260420T215659
CREATED:20161228T145240Z
LAST-MODIFIED:20200219T210401Z
UID:10000077-1446285600-1446292800@www.miedemaauctioneering.com
SUMMARY:MICHIGAN: Butch Nordhof Farm Equipment Auction
DESCRIPTION:LIVE AUCTION: MICHIGAN Butch has decided to retire from farming. Therefore\, we will be selling all of his farm equipment as well as some collector tractors. Highlights include: John Deere 4320\, John Deere 2020 with loader\, John Deere 5205 with loader\, IH 766 diesel\, Farmall Super MTA\, M\, H\, and A\, John Deere 750 no till drill\, John Deere 7000 planter\, plus tillage equipment\, hay equipment\, cattle equipment\, etc. \nENTER LIVE AUCTION  Auction Brochure Equipment List
URL:https://www.miedemaauctioneering.com/auction-calendar/michigan-butch-nordhof-farm-equipment-auction/
LOCATION:Butch Nordhof Farm Equipment Auction\, 2803 East Brown Rd \, Lake Odessa\, MI\, 48849\, United States
CATEGORIES:Live and Online Webcast Auction
ATTACH;FMTTYPE=image/jpeg:https://miedemaauctioneering.s3.amazonaws.com/wp-content/uploads/2016/12/28095228/butch-nordhof.jpg
ORGANIZER;CN="Chuck%20Ranney%20-%20Auction%20Manager":MAILTO:chuck@1800lastbid.com
GEO:42.7554154;-85.2136103
X-APPLE-STRUCTURED-LOCATION;VALUE=URI;X-ADDRESS=Butch Nordhof Farm Equipment Auction 2803 East Brown Rd  Lake Odessa MI 48849 United States;X-APPLE-RADIUS=500;X-TITLE=2803 East Brown Rd:geo:-85.2136103,42.7554154
END:VEVENT
END:VCALENDAR