BEGIN:VCALENDAR
VERSION:2.0
PRODID:-//Miedema Auctioneering &amp; Appraisals, Inc. - ECPv6.0.5//NONSGML v1.0//EN
CALSCALE:GREGORIAN
METHOD:PUBLISH
X-WR-CALNAME:Miedema Auctioneering &amp; Appraisals, Inc.
X-ORIGINAL-URL:https://www.miedemaauctioneering.com
X-WR-CALDESC:Events for Miedema Auctioneering &amp; Appraisals, Inc.
REFRESH-INTERVAL;VALUE=DURATION:PT1H
X-Robots-Tag:noindex
X-PUBLISHED-TTL:PT1H
BEGIN:VTIMEZONE
TZID:America/Detroit
BEGIN:DAYLIGHT
TZOFFSETFROM:-0500
TZOFFSETTO:-0400
TZNAME:EDT
DTSTART:20150308T070000
END:DAYLIGHT
BEGIN:STANDARD
TZOFFSETFROM:-0400
TZOFFSETTO:-0500
TZNAME:EST
DTSTART:20151101T060000
END:STANDARD
END:VTIMEZONE
BEGIN:VEVENT
DTSTART;TZID=America/Detroit:20151107T100000
DTEND;TZID=America/Detroit:20151107T120000
DTSTAMP:20260420T175444
CREATED:20161228T143623Z
LAST-MODIFIED:20200210T203738Z
UID:10000058-1446890400-1446897600@www.miedemaauctioneering.com
SUMMARY:ILLINOIS: De Jong Bros. Farms\, Inc. - Ring 2
DESCRIPTION:LIVE AUCTION: ILLINOIS De Jong Bros. Farms have been farming for more than 80 years raising vegetables. The owners have stopped their field and packaging operation and are selling all their remaining farm and packaging equipment at a live auction with internet bidding. This auction will feature irrigation pipe\, spinach and greens packaging lines\, electric pallet jacks\, shop tools\, office equipment\, a complete spinach line from the wash station to the packaging line\,  plus much more. There is a large amount of items. We will be selling with 2 auctioneers at the same time. Sid Miedema: License #441.000238\, Scott Miedema: License #441.000237 \nENTER LIVE AUCTION  Auction Catalog Auction Brochure Riggers & Haulers List
URL:https://www.miedemaauctioneering.com/auction-calendar/illinois-de-jong-bros-farms-inc-ring-2/
LOCATION:DeJong Bros. Farms\, Inc\, 18337 Stony Island Ave\, Lansing\, IL\, 60438\, United States
CATEGORIES:Live and Online Webcast Auction
ATTACH;FMTTYPE=image/jpeg:https://miedemaauctioneering.s3.amazonaws.com/wp-content/uploads/2016/12/28093612/de-jong-ring-2.jpg
ORGANIZER;CN="Chuck%20Ranney%20-%20Auction%20Manager":MAILTO:chuck@1800lastbid.com
GEO:41.56214;-87.5781481
X-APPLE-STRUCTURED-LOCATION;VALUE=URI;X-ADDRESS=DeJong Bros. Farms Inc 18337 Stony Island Ave Lansing IL 60438 United States;X-APPLE-RADIUS=500;X-TITLE=18337 Stony Island Ave:geo:-87.5781481,41.56214
END:VEVENT
END:VCALENDAR