BEGIN:VCALENDAR
VERSION:2.0
PRODID:-//Miedema Auctioneering &amp; Appraisals, Inc. - ECPv6.0.5//NONSGML v1.0//EN
CALSCALE:GREGORIAN
METHOD:PUBLISH
X-ORIGINAL-URL:https://www.miedemaauctioneering.com
X-WR-CALDESC:Events for Miedema Auctioneering &amp; Appraisals, Inc.
REFRESH-INTERVAL;VALUE=DURATION:PT1H
X-Robots-Tag:noindex
X-PUBLISHED-TTL:PT1H
BEGIN:VTIMEZONE
TZID:America/Detroit
BEGIN:DAYLIGHT
TZOFFSETFROM:-0500
TZOFFSETTO:-0400
TZNAME:EDT
DTSTART:20160313T070000
END:DAYLIGHT
BEGIN:STANDARD
TZOFFSETFROM:-0400
TZOFFSETTO:-0500
TZNAME:EST
DTSTART:20161106T060000
END:STANDARD
BEGIN:DAYLIGHT
TZOFFSETFROM:-0500
TZOFFSETTO:-0400
TZNAME:EDT
DTSTART:20170312T070000
END:DAYLIGHT
BEGIN:STANDARD
TZOFFSETFROM:-0400
TZOFFSETTO:-0500
TZNAME:EST
DTSTART:20171105T060000
END:STANDARD
BEGIN:DAYLIGHT
TZOFFSETFROM:-0500
TZOFFSETTO:-0400
TZNAME:EDT
DTSTART:20180311T070000
END:DAYLIGHT
BEGIN:STANDARD
TZOFFSETFROM:-0400
TZOFFSETTO:-0500
TZNAME:EST
DTSTART:20181104T060000
END:STANDARD
BEGIN:DAYLIGHT
TZOFFSETFROM:-0500
TZOFFSETTO:-0400
TZNAME:EDT
DTSTART:20190310T070000
END:DAYLIGHT
BEGIN:STANDARD
TZOFFSETFROM:-0400
TZOFFSETTO:-0500
TZNAME:EST
DTSTART:20191103T060000
END:STANDARD
BEGIN:DAYLIGHT
TZOFFSETFROM:-0500
TZOFFSETTO:-0400
TZNAME:EDT
DTSTART:20200308T070000
END:DAYLIGHT
BEGIN:STANDARD
TZOFFSETFROM:-0400
TZOFFSETTO:-0500
TZNAME:EST
DTSTART:20201101T060000
END:STANDARD
BEGIN:DAYLIGHT
TZOFFSETFROM:-0500
TZOFFSETTO:-0400
TZNAME:EDT
DTSTART:20210314T070000
END:DAYLIGHT
BEGIN:STANDARD
TZOFFSETFROM:-0400
TZOFFSETTO:-0500
TZNAME:EST
DTSTART:20211107T060000
END:STANDARD
BEGIN:DAYLIGHT
TZOFFSETFROM:-0500
TZOFFSETTO:-0400
TZNAME:EDT
DTSTART:20220313T070000
END:DAYLIGHT
BEGIN:STANDARD
TZOFFSETFROM:-0400
TZOFFSETTO:-0500
TZNAME:EST
DTSTART:20221106T060000
END:STANDARD
END:VTIMEZONE
BEGIN:VEVENT
DTSTART;TZID=America/Detroit:20160804T200000
DTEND;TZID=America/Detroit:20160804T200000
DTSTAMP:20260420T220403
CREATED:20160726T170929Z
LAST-MODIFIED:20200122T183731Z
UID:10000032-1470340800-1470340800@www.miedemaauctioneering.com
SUMMARY:Brain Injury Association of Michigan - Western Grand Invitational
DESCRIPTION:Miedema Auctioneering\, Inc. is proud to volunteer auctioneer services in support of the Brain Injury Association of Michigan at the Western Grand Invitational – A Lexus Champions for Charity Event on Thursday\, August 4\, 2016.\nThe Lexus Champions for Charity is a series of golf tournaments hosted by Lexus dealerships in their communities to help support local charities. On a nationwide basis\, Lexus Champions for Charity has generated more than $135 million for charities through more than 3000 events. The BIAMI works in partnership with Harvey Lexus of Grand Rapids to raise essential funds through the Western Grand Invitational for BIAMI’s three West Michigan Chapters & Support Groups in Muskegon\, Grand Rapids and Kalamazoo.\nFor Further Information contact: Allie Weston at 810.229.5880 or email aweston@biami.org \n[btn text=”View Brochure” link=”http://s3.amazonaws.com/oasimgs/2016/05/25/West%20Golf%20Flyer.pdf” tcolor=”#ffffff” bcolor=”#014184″ bordercolor=”#808080″ thovercolor=”#ffffff” bhovercolor=”#001E3E” borderhovercolor=”#808080″ border=”1px” target=”true”]
URL:https://www.miedemaauctioneering.com/auction-calendar/brain-injury-association-of-michigan-western-grand-invitational/
LOCATION:Beaver Creek Dairy LLC &  Martin Dairy LLC\, 18080 80th Ave.\, Coopersville\, MI\, 49404\, United States
CATEGORIES:Live Auction
ATTACH;FMTTYPE=image/png:https://miedemaauctioneering.s3.amazonaws.com/wp-content/uploads/2016/07/26130421/resources-brain-injury-association-of-michigan-1_grande.png
ORGANIZER;CN="Chuck%20Ranney%20-%20Auction%20Manager":MAILTO:chuck@1800lastbid.com
GEO:43.0672767;-85.567631
X-APPLE-STRUCTURED-LOCATION;VALUE=URI;X-ADDRESS=Beaver Creek Dairy LLC &  Martin Dairy LLC 18080 80th Ave. Coopersville MI 49404 United States;X-APPLE-RADIUS=500;X-TITLE=18080 80th Ave.:geo:-85.567631,43.0672767
END:VEVENT
BEGIN:VEVENT
DTSTART;VALUE=DATE:20210916
DTEND;VALUE=DATE:20211004
DTSTAMP:20260420T220403
CREATED:20210513T190736Z
LAST-MODIFIED:20210514T172849Z
UID:10000573-1631750400-1633305599@www.miedemaauctioneering.com
SUMMARY:ArtPrize 2021 – Find Art You Love & Support Artists!
DESCRIPTION:
URL:https://www.miedemaauctioneering.com/auction-calendar/artprize-2021-find-art-you-love-support-artists-2/2021-09-16/
LOCATION:Beaver Creek Dairy LLC &  Martin Dairy LLC\, 18080 80th Ave.\, Coopersville\, MI\, 49404\, United States
CATEGORIES:Online Only Auction
ATTACH;FMTTYPE=image/jpeg:https://miedemaauctioneering.s3.amazonaws.com/wp-content/uploads/2021/05/07140417/backend_badge.jpg
ORGANIZER;CN="Austin%20Miedema":MAILTO:austin@1800lastbid.com
GEO:43.0672767;-85.567631
X-APPLE-STRUCTURED-LOCATION;VALUE=URI;X-ADDRESS=Beaver Creek Dairy LLC &  Martin Dairy LLC 18080 80th Ave. Coopersville MI 49404 United States;X-APPLE-RADIUS=500;X-TITLE=18080 80th Ave.:geo:-85.567631,43.0672767
END:VEVENT
BEGIN:VEVENT
DTSTART;TZID=America/Detroit:20220112T080000
DTEND;TZID=America/Detroit:20220112T170000
DTSTAMP:20260420T220403
CREATED:20211214T135516Z
LAST-MODIFIED:20211214T135736Z
UID:10000582-1641974400-1642006800@www.miedemaauctioneering.com
SUMMARY:Dairy Parlor Equipment- Lowell\, MI **ONLINE AUCTION** (an Orbitbid.com auction)
DESCRIPTION:Having sold his cows and farm equipment\, Steve Tjapkes has decided to sell his milking equipment via online auction.
URL:https://www.miedemaauctioneering.com/auction-calendar/dairy-parlor-equipment-lowell-mi-online-auction-an-orbitbid-com-auction/
LOCATION:Beaver Creek Dairy LLC &  Martin Dairy LLC\, 18080 80th Ave.\, Coopersville\, MI\, 49404\, United States
ATTACH;FMTTYPE=image/jpeg:https://miedemaauctioneering.s3.amazonaws.com/wp-content/uploads/2021/12/14085042/1-scaled.jpg
ORGANIZER;CN="Jeremy%20Miedema%20-%20Auction%20Manager":MAILTO:jeremy@1800lastbid.com
GEO:43.0672767;-85.567631
X-APPLE-STRUCTURED-LOCATION;VALUE=URI;X-ADDRESS=Beaver Creek Dairy LLC &  Martin Dairy LLC 18080 80th Ave. Coopersville MI 49404 United States;X-APPLE-RADIUS=500;X-TITLE=18080 80th Ave.:geo:-85.567631,43.0672767
END:VEVENT
BEGIN:VEVENT
DTSTART;TZID=America/Detroit:20220329T080000
DTEND;TZID=America/Detroit:20220329T170000
DTSTAMP:20260420T220403
CREATED:20220317T200253Z
LAST-MODIFIED:20220326T182022Z
UID:10000328-1648540800-1648573200@www.miedemaauctioneering.com
SUMMARY:ORBITBID: Farm Equipment Inventory Reduction Auction 3/30/2022 | Video Interview with Sellers
DESCRIPTION:Chuck Ranney of Miedema Auctioneering and Orbitbid.com interviews sellers on the upcoming March 30\, 2022 Farm Equipment Auction on Orbitbid.com.
URL:https://www.miedemaauctioneering.com/auction-calendar/orbitbid-farm-equipment-inventory-reduction-auction-3-30-2022-video-interview-with-sellers/
LOCATION:Beaver Creek Dairy LLC &  Martin Dairy LLC\, 18080 80th Ave.\, Coopersville\, MI\, 49404\, United States
ATTACH;FMTTYPE=image/jpeg:https://miedemaauctioneering.s3.amazonaws.com/wp-content/uploads/2022/03/17160241/Capture-1.jpg
GEO:43.0672767;-85.567631
X-APPLE-STRUCTURED-LOCATION;VALUE=URI;X-ADDRESS=Beaver Creek Dairy LLC &  Martin Dairy LLC 18080 80th Ave. Coopersville MI 49404 United States;X-APPLE-RADIUS=500;X-TITLE=18080 80th Ave.:geo:-85.567631,43.0672767
END:VEVENT
BEGIN:VEVENT
DTSTART;TZID=America/Detroit:20220427T080000
DTEND;TZID=America/Detroit:20220427T170000
DTSTAMP:20260420T220403
CREATED:20220331T200906Z
LAST-MODIFIED:20221227T190710Z
UID:10000330-1651046400-1651078800@www.miedemaauctioneering.com
SUMMARY:Beaver Creek Dairy LLC & Martin Dairy LLC -Complete Liquidation (250+ Farm & Ag Items\, 40+ tractors\, 20+ skid steers\, combines\, tillage\, planting\, harvest\, etc.) **ONLINE ONLY AUCTION** (an Orbitbid.com auction)
DESCRIPTION:Beaver Creek Dairy\, LLC & Martin Dairy\, LLC will be liquidating all remaining assets through online public auction. a large amount of equipment to be sold\, including equipment ready to work as well as equipment that will need some work. outstanding opportunity to buy farm equipment at public auction. all sells to the highest bidder via Miedema’ s Orbitbid online auction platform. \n  \nFEATURING: 40+ TRACTORS | COMBINES & HEADS | TILLAGE & PLANTING EQUIPMENT | 20+ SKID STEERS | HARVESTERS | 20+ MANURE SPREADERS | PLUS HUNDREDS MORE \nAll Sells To The Highest Bidder Via Miedema’s Orbitbid Online Platform on April 27\, 2022.
URL:https://www.miedemaauctioneering.com/auction-calendar/beaver-creek-dairy-llc-martin-dairy-llc-online-only-auction-an-orbitbid-com-auction/
LOCATION:Beaver Creek Dairy LLC &  Martin Dairy LLC\, 18080 80th Ave.\, Coopersville\, MI\, 49404\, United States
ATTACH;FMTTYPE=image/png:https://miedemaauctioneering.s3.amazonaws.com/wp-content/uploads/2022/03/04115417/OB-Beavercreek-THUMBNAIL.png
ORGANIZER;CN="Chuck%20Ranney%20-%20Auction%20Manager":MAILTO:chuck@1800lastbid.com
GEO:43.0672767;-85.567631
X-APPLE-STRUCTURED-LOCATION;VALUE=URI;X-ADDRESS=Beaver Creek Dairy LLC &  Martin Dairy LLC 18080 80th Ave. Coopersville MI 49404 United States;X-APPLE-RADIUS=500;X-TITLE=18080 80th Ave.:geo:-85.567631,43.0672767
END:VEVENT
END:VCALENDAR