BEGIN:VCALENDAR
VERSION:2.0
PRODID:-//Miedema Auctioneering &amp; Appraisals, Inc. - ECPv6.0.5//NONSGML v1.0//EN
CALSCALE:GREGORIAN
METHOD:PUBLISH
X-WR-CALNAME:Miedema Auctioneering &amp; Appraisals, Inc.
X-ORIGINAL-URL:https://www.miedemaauctioneering.com
X-WR-CALDESC:Events for Miedema Auctioneering &amp; Appraisals, Inc.
REFRESH-INTERVAL;VALUE=DURATION:PT1H
X-Robots-Tag:noindex
X-PUBLISHED-TTL:PT1H
BEGIN:VTIMEZONE
TZID:America/Detroit
BEGIN:DAYLIGHT
TZOFFSETFROM:-0500
TZOFFSETTO:-0400
TZNAME:EDT
DTSTART:20200308T070000
END:DAYLIGHT
BEGIN:STANDARD
TZOFFSETFROM:-0400
TZOFFSETTO:-0500
TZNAME:EST
DTSTART:20201101T060000
END:STANDARD
END:VTIMEZONE
BEGIN:VEVENT
DTSTART;TZID=America/Detroit:20200214T170000
DTEND;TZID=America/Detroit:20200214T233000
DTSTAMP:20260419T123308
CREATED:20200121T142643Z
LAST-MODIFIED:20200131T172607Z
UID:10000465-1581699600-1581723000@www.miedemaauctioneering.com
SUMMARY:2 Complete and Operating Mobile Concrete and Asphalt Crushing Plants For Sale
DESCRIPTION:Date: Accepting Sealed Bid Offers through Friday February 14\, 2020.\nAddress: Confidential\nDescription:A Michigan Company has decided to restructure and downsize\, resulting in (2)  complete and operating mobile Concrete and Asphalt Crushing packages being available for immediate purchase via sealed bid.  Miedema Asset Management Group is excited to announce the sale of these fully functioning and operating plants\, being offered as complete operating plants or individual components.  This is late model\, well maintained\, and operating equipment.\n			\n						VIEW AUCTION\n					 \n\n											\n															Stock Photo (not actual item for sale)
URL:https://www.miedemaauctioneering.com/auction-calendar/2-complete-and-operating-mobile-concrete-and-asphalt-crushing-plants-for-sale/
LOCATION:MI\, United States
CATEGORIES:Sealed Bid Auction
ATTACH;FMTTYPE=image/jpeg:https://miedemaauctioneering.s3.amazonaws.com/wp-content/uploads/2020/01/21092244/b1.jpg
ORGANIZER;CN="Brennen%20Lubbers":MAILTO:brennen@1800lastbid.com
GEO:44.3148443;-85.6023643
END:VEVENT
END:VCALENDAR