BEGIN:VCALENDAR
VERSION:2.0
PRODID:-//Miedema Auctioneering &amp; Appraisals, Inc. - ECPv6.0.5//NONSGML v1.0//EN
CALSCALE:GREGORIAN
METHOD:PUBLISH
X-ORIGINAL-URL:https://www.miedemaauctioneering.com
X-WR-CALDESC:Events for Miedema Auctioneering &amp; Appraisals, Inc.
REFRESH-INTERVAL;VALUE=DURATION:PT1H
X-Robots-Tag:noindex
X-PUBLISHED-TTL:PT1H
BEGIN:VTIMEZONE
TZID:America/Detroit
BEGIN:DAYLIGHT
TZOFFSETFROM:-0500
TZOFFSETTO:-0400
TZNAME:EDT
DTSTART:20190310T070000
END:DAYLIGHT
BEGIN:STANDARD
TZOFFSETFROM:-0400
TZOFFSETTO:-0500
TZNAME:EST
DTSTART:20191103T060000
END:STANDARD
END:VTIMEZONE
BEGIN:VEVENT
DTSTART;TZID=America/Detroit:20190619T080000
DTEND;TZID=America/Detroit:20190619T233000
DTSTAMP:20260420T004632
CREATED:20190429T125045Z
LAST-MODIFIED:20191009T185629Z
UID:10000247-1560931200-1560987000@www.miedemaauctioneering.com
SUMMARY:Sutter Family’s Incredible Car Collection Auction - Orbitbid.com ONLINE ONLY AUCTION
DESCRIPTION: \nDescription:\nSutter Family’s Incredible Car Collection Auction\, all selling absolute with no minimums and no reserves. This is a very rare and one of a kind car collection including cars that were in the Sutter Family (Jerry & Margaret / Harold & Judy) for over 50 years\, many of which were purchased new by the seller or seller’s parents\, several are all original and/or are one-owner cars\, along with several other very unique and desirable cars in excellent condition with very low original miles. The Sutter family has contracted with Orbitbid.com\, to sell all cars\, collectibles and garage equipment to the highest bidder via online auction\, which will take place on Wednesday\, June 19. This is a rare opportunity to purchase very desirable and collectible cars at auction.  \nAuction highlights include: 1964 Plymouth Fury Convertible\, 1931 Ford Model A Coupe\, 1968 Ford Mustang Fast-Back\, 1969 Ford Bronco Pickup\, 1989 Chevy Camaro IROC Z-28 ( 83 original miles )\, 2012 Chevy Camaro IROC Z-28 ( 38 original miles )\, 1953 Chevy 210 Sedan\, 1956 Ford Thunderbird Convertible\, 1963 Ford Thunderbird\, 1959 Plymouth Sport Fury Hardtop\, 1955 Ford Crown Victoria\, 1965 Buick Skylark\, 1974 International (IHC) Scout II\, 1984 Buick Riviera\, 1985 Chevy Impala\, 1986 Chevy K10 pickup\, 1989 Chevy Caprice Brougham \, 1991 Chevy C1500 ½ ton pickup (9\,100 original miles)\, 1930 Ford Hot Rod Black HI-BOY\, 1937 Chevy Master Deluxe Street Rod\, 1989 Chevy V3500 1-ton wrecker\, 1995 GMC Top Kick Roll-back Wrecker\, 1984 Kubota Tractor with loader (purchased new\, only 19 original metered hours)\, 2001 Harley Davidson FXDWG\, 1993 Harley Davidson XLH 1200\, large assortment of garage collectibles and mechanic tools\, assorted décor\, snowblowers\, plow blades\, lawn tractors\, and much more.  \nThis Featured Online Auction will take place on Tuesday\, June 19\, 2019\, starting at 8:00am\, and will start closing at 6:00pm the same day (Eastern Time). Preview will be available Monday\, June17 from 9:00am – 4:00pm\, Tuesday\, June 18 (the day before the auction) from 9am – 4pm and auction day from 8am – 5pm. For early or special preview\, please call Dave at 616-401-9059 to make special appointments.\n \n\nENTER AUCTION\nRegister to Bid Online
URL:https://www.miedemaauctioneering.com/auction-calendar/sutter-familys-incredible-car-collection-auction-orbitbid-com-online-only-auction/
LOCATION:MI\, United States
CATEGORIES:Online Only Auction
ATTACH;FMTTYPE=image/jpeg:https://miedemaauctioneering.s3.amazonaws.com/wp-content/uploads/2019/04/29084348/d883a618ee2bdd77acaf998a10198da4.jpg
GEO:44.3148443;-85.6023643
END:VEVENT
END:VCALENDAR