BEGIN:VCALENDAR
VERSION:2.0
PRODID:-//Miedema Auctioneering &amp; Appraisals, Inc. - ECPv6.0.5//NONSGML v1.0//EN
CALSCALE:GREGORIAN
METHOD:PUBLISH
X-WR-CALNAME:Miedema Auctioneering &amp; Appraisals, Inc.
X-ORIGINAL-URL:https://www.miedemaauctioneering.com
X-WR-CALDESC:Events for Miedema Auctioneering &amp; Appraisals, Inc.
REFRESH-INTERVAL;VALUE=DURATION:PT1H
X-Robots-Tag:noindex
X-PUBLISHED-TTL:PT1H
BEGIN:VTIMEZONE
TZID:America/Detroit
BEGIN:DAYLIGHT
TZOFFSETFROM:-0500
TZOFFSETTO:-0400
TZNAME:EDT
DTSTART:20190310T070000
END:DAYLIGHT
BEGIN:STANDARD
TZOFFSETFROM:-0400
TZOFFSETTO:-0500
TZNAME:EST
DTSTART:20191103T060000
END:STANDARD
BEGIN:DAYLIGHT
TZOFFSETFROM:-0500
TZOFFSETTO:-0400
TZNAME:EDT
DTSTART:20200308T070000
END:DAYLIGHT
BEGIN:STANDARD
TZOFFSETFROM:-0400
TZOFFSETTO:-0500
TZNAME:EST
DTSTART:20201101T060000
END:STANDARD
BEGIN:DAYLIGHT
TZOFFSETFROM:-0500
TZOFFSETTO:-0400
TZNAME:EDT
DTSTART:20210314T070000
END:DAYLIGHT
BEGIN:STANDARD
TZOFFSETFROM:-0400
TZOFFSETTO:-0500
TZNAME:EST
DTSTART:20211107T060000
END:STANDARD
BEGIN:DAYLIGHT
TZOFFSETFROM:-0500
TZOFFSETTO:-0400
TZNAME:EDT
DTSTART:20220313T070000
END:DAYLIGHT
BEGIN:STANDARD
TZOFFSETFROM:-0400
TZOFFSETTO:-0500
TZNAME:EST
DTSTART:20221106T060000
END:STANDARD
BEGIN:DAYLIGHT
TZOFFSETFROM:-0500
TZOFFSETTO:-0400
TZNAME:EDT
DTSTART:20230312T070000
END:DAYLIGHT
BEGIN:STANDARD
TZOFFSETFROM:-0400
TZOFFSETTO:-0500
TZNAME:EST
DTSTART:20231105T060000
END:STANDARD
END:VTIMEZONE
BEGIN:VEVENT
DTSTART;TZID=America/Detroit:20231025T080000
DTEND;TZID=America/Detroit:20231025T233000
DTSTAMP:20260419T192049
CREATED:20230920T180239Z
LAST-MODIFIED:20230920T180239Z
UID:10009075-1698220800-1698276600@www.miedemaauctioneering.com
SUMMARY:The Palmer Estate Car Collection - Austin Healey\, Model T's\, Volvo & VW (Proceeds to Charity)
DESCRIPTION:
URL:https://www.miedemaauctioneering.com/auction-calendar/the-palmer-estate-car-collection-austin-healey-model-ts-volvo-vw-proceeds-to-charity/
LOCATION:Wayland Auction Center (Repocast)\, 3450 12th Street\, Wayland\, MI\, 49348\, United States
CATEGORIES:Online Only Auction
ATTACH;FMTTYPE=image/jpeg:https://miedemaauctioneering.s3.amazonaws.com/wp-content/uploads/2023/09/20140231/Thumbnail.jpg
ORGANIZER;CN="Repocast.com":MAILTO:questions@repocast.com
GEO:42.6693495;-85.6639562
X-APPLE-STRUCTURED-LOCATION;VALUE=URI;X-ADDRESS=Wayland Auction Center (Repocast) 3450 12th Street Wayland MI 49348 United States;X-APPLE-RADIUS=500;X-TITLE=3450 12th Street:geo:-85.6639562,42.6693495
END:VEVENT
BEGIN:VEVENT
DTSTART;TZID=America/Detroit:20190516T080000
DTEND;TZID=America/Detroit:20190516T080000
DTSTAMP:20260419T192049
CREATED:20190424T143445Z
LAST-MODIFIED:20191113T203355Z
UID:10000246-1557993600-1557993600@www.miedemaauctioneering.com
SUMMARY:West MI Farmer Equipment - By Order of Secured Creditor 5/16/19
DESCRIPTION:Description:\nAll items are selling subject to approval by Court Officer via online auction through Repocast.com on 5/9/2019.\n \n\nENTER AUCTION\nTerms & Conditions\n\nAuction Preview Photos:
URL:https://www.miedemaauctioneering.com/auction-calendar/west-michigan-farmer-equipment-online-auction-no-minimums-or-reserves-online-only-auction/
CATEGORIES:Online Only Auction
ATTACH;FMTTYPE=image/png:https://miedemaauctioneering.s3.amazonaws.com/wp-content/uploads/2019/04/24102343/Capture.png
ORGANIZER;CN="Repocast.com":MAILTO:questions@repocast.com
END:VEVENT
END:VCALENDAR