BEGIN:VCALENDAR
VERSION:2.0
PRODID:-//Miedema Auctioneering &amp; Appraisals, Inc. - ECPv6.0.5//NONSGML v1.0//EN
CALSCALE:GREGORIAN
METHOD:PUBLISH
X-WR-CALNAME:Miedema Auctioneering &amp; Appraisals, Inc.
X-ORIGINAL-URL:https://www.miedemaauctioneering.com
X-WR-CALDESC:Events for Miedema Auctioneering &amp; Appraisals, Inc.
REFRESH-INTERVAL;VALUE=DURATION:PT1H
X-Robots-Tag:noindex
X-PUBLISHED-TTL:PT1H
BEGIN:VTIMEZONE
TZID:America/Detroit
BEGIN:DAYLIGHT
TZOFFSETFROM:-0500
TZOFFSETTO:-0400
TZNAME:EDT
DTSTART:20160313T070000
END:DAYLIGHT
BEGIN:STANDARD
TZOFFSETFROM:-0400
TZOFFSETTO:-0500
TZNAME:EST
DTSTART:20161106T060000
END:STANDARD
BEGIN:DAYLIGHT
TZOFFSETFROM:-0500
TZOFFSETTO:-0400
TZNAME:EDT
DTSTART:20170312T070000
END:DAYLIGHT
BEGIN:STANDARD
TZOFFSETFROM:-0400
TZOFFSETTO:-0500
TZNAME:EST
DTSTART:20171105T060000
END:STANDARD
BEGIN:DAYLIGHT
TZOFFSETFROM:-0500
TZOFFSETTO:-0400
TZNAME:EDT
DTSTART:20180311T070000
END:DAYLIGHT
BEGIN:STANDARD
TZOFFSETFROM:-0400
TZOFFSETTO:-0500
TZNAME:EST
DTSTART:20181104T060000
END:STANDARD
END:VTIMEZONE
BEGIN:VEVENT
DTSTART;TZID=America/Detroit:20180410T170000
DTEND;TZID=America/Detroit:20180410T233000
DTSTAMP:20260419T224507
CREATED:20180301T155427Z
LAST-MODIFIED:20200122T181611Z
UID:10000211-1523379600-1523403000@www.miedemaauctioneering.com
SUMMARY:20 Acres of Blueberry Farm Land **Online Auction on LASTBIDrealestate.com**
DESCRIPTION:Description:\nGRAND JUNCTION\, MI ~ 20 Acres of Blueberry Farm Land Selling Via Bankruptcy Court ~ Online Real Estate Auction featuring 20 acres of Blueberry farm land selling subject to United States Bankruptcy Court Approval\, Ch 7 Case No. 17-04938-swd. This acreage includes the Elliot blueberry bush variety\, drip irrigation\, Pipeston-Kingsville complex and Plainfield sand soils. The blueberries were planted in 2010 and are not matured or fully producing yet. The plants look to be in good shape and only a few years away from being mature and fully producing. The parcel has a well for a water source. Don’t miss this great investment opportunity.\n\nENTER AUCTION\nRegister to Bid Online\nAuction Photos:
URL:https://www.miedemaauctioneering.com/auction-calendar/20-acres-of-blueberry-farm-land-online-auction-on-lastbidrealestate-com/
LOCATION:Online Auction: LASTBIDrealestate.com
CATEGORIES:Online Only Auction
ATTACH;FMTTYPE=image/jpeg:https://miedemaauctioneering.s3.amazonaws.com/wp-content/uploads/2018/03/01104902/2f578e3bc21a48a2d1d29781d487790a.jpg
ORGANIZER;CN="Jordan%20Miedema%20%E2%80%93%20Auction%20Manager":MAILTO:jordan@1800lastbid.com
GEO:42.105835;-86.365679
END:VEVENT
BEGIN:VEVENT
DTSTART;TZID=America/Detroit:20171024T180000
DTEND;TZID=America/Detroit:20171024T180000
DTSTAMP:20260419T224507
CREATED:20170921T161453Z
LAST-MODIFIED:20171005T191557Z
UID:10000408-1508868000-1508868000@www.miedemaauctioneering.com
SUMMARY:Obenauf Real Estate
DESCRIPTION:Farm Location:\nObenauf Real Estate\, 16280 Bailey Rd.\,\nBailey\, MI 49303 (Muskegon County) + Google Map\n\n\n \nDescription:\nFrank and Edna Obenuf – owners of 16280 Bailey Rd.\, Bailey\, MI (Muskegon County). 58 acres of prime farm land – approx. 53 tillable. The Obenauf’s have owned this farm for decades. They are advancing in age and are no longer able to enjoy this farm. All sells to highest bidder – no minimums. Great opportunity. \nAuction will be held at the Casnovia Village Hall\, 141 N. Main St.\, Casnovia\, MI 49318. \n\nAUCTION BROCHURE\nBidder Packet\nOpen House Times\nTerms & Conditions \n\n\n			\n				\n			\n			\n				\n			\n		\n\n  \nTERMS & CONDITIONS\nOpen House Times: \n\nVacant Land. Walk anytime.\n\nRegistration: \n\nBegins at 5pm.\n\nDeposit for Real Estate: \n\n10% of the successful bid price is required at the auction\, cash\, cashiers check or good personal check. This deposit is NOT refundable if the buyer does not carry through with the purchase. Your bidding is not conditional upon financing\, so be sure you have arranged financing if needed and are capable of paying cash at the closing.\n\nConditions: \n\nThe terms and conditions of this auction will be governed by the contract for the sale of Real Estate (herein called the buy/sell). The following terms are a summary provided for the convenience of the bidder. The buy/sell is available in the bidder’s packet and should be reviewed prior to the auction. All properties sell “AS IS WHERE IS” with no warranties of any type expressed or implied as to the merchantability\, usability\, fitness for a particular purpose\, or any matter of whatsoever type or nature. Any improvements\, which must be made\, are the responsibility of the purchaser. All information advertised or stated was derived from sources believed correct but is not guaranteed. All property dimensions are only approximations. Buyers shall rely entirely on their own information\, judgment and inspection of the property and records. The real estatewill be sold free and clear of  all the liens. The property will however be sold subject to any easements and building and use restrictions of record. The auction company reserves the right to bid to protect the owner’s investment. Any announcements made at the auction site take precedence over printed material. Real Estate will sell to the highest bidder with no minimums.\n\nClosing Terms: \n\nBalance of purchase price due at the closing within 45 days. The seller will pay taxes and assessments due on or before the auction. Possession will be given at the closing  subject to rights of tenants to harvest current crop. Seller shall provide an owners title insurance policy in the amount of the purchase price. Closings will be held at a local title company. Closing fees of $400 will be divided evenly between the buyer and the seller. The cost of the survey will be the cost of the buyer’s payable at closing.\n\nBuyer’s Note: \n\nIf you are the successful bidder\, you must go to the closing table to sign all the purchase agreements immediately following the conclusion of the auction. At that time your check will be endorsed as a non-refundable deposit on the property. Individual purchases are to be considered as singular transactions\, not contingent on any other purchases of properties on the auction. The ability to obtain financing is NOT a contingency of the sale. The auction will be conducted at the sole discretion of the auctioneer and any bids may be recognized at their discretion.\n\nBidder’s Packet: \n\nComplete bidder’s packets including copies of the buy/sell agreements and more detailed information will be available at the open house or by calling to request a packet be mailed to you. Call the auction company for details at 1-800-LASTBID.\n\nAll written material is subject to change. Announcements made day of sale take precedence over printed material.
URL:https://www.miedemaauctioneering.com/auction-calendar/obenauf-real-estate/
LOCATION:Casnovia Village Hall\, 141 N. Main St.\, Casnovia\, MI\, 49318\, United States
CATEGORIES:Live Real Estate Auction
ATTACH;FMTTYPE=image/jpeg:https://miedemaauctioneering.s3.amazonaws.com/wp-content/uploads/2017/09/26164721/BAILEY1017revisedaerialviewedit.jpg
ORGANIZER;CN="Sid%20Miedema%20-%20Auction%20Manager":MAILTO:sid@1800lastbid.com
GEO:43.2368024;-85.7908894
X-APPLE-STRUCTURED-LOCATION;VALUE=URI;X-ADDRESS=Casnovia Village Hall 141 N. Main St. Casnovia MI 49318 United States;X-APPLE-RADIUS=500;X-TITLE=141 N. Main St.:geo:-85.7908894,43.2368024
END:VEVENT
BEGIN:VEVENT
DTSTART;TZID=America/Detroit:20170426T150000
DTEND;TZID=America/Detroit:20170426T170000
DTSTAMP:20260419T224507
CREATED:20170308T214932Z
LAST-MODIFIED:20200122T182031Z
UID:10000190-1493218800-1493226000@www.miedemaauctioneering.com
SUMMARY:Gull Lake Waterfront Real Estate Auction **Selling by order of the Barry County Circuit Court**
DESCRIPTION:Description:\n6.6 Acres\, Home\, and 187′ of Frontage on Beautiful Gull Lake selling by order of the Barry County Circuit Court!*Sells Subject to the Barry County Circuit Judge’s Approval of the High Bid* \nThis Parcel is 6.6 acres with 187′ of frontage on the North Side of Gull Lake! The property is located on a private paved road and also has frontage on Sheffield Rd. The property features a nice beach with a sandy lake bottom\, old tennis court\, horse barn/workshop\, green garage\, and potato cellar\, and at the back of the property is a pump house for the sprinkler system (unknown if working). The property is mostly open with some trees by the barn\, turning into all woods in front of the house and opening back up again to a nice backyard. The home was built in 1960 and has 3 bedrooms and 3 bathrooms. The main floor has a kitchen area\, living room area and fire place\, den room\, and a porch over looking the lake. The home has a loft and Michigan basement.PP# 03-031-036-00 \nGoogle map link:\nhttps://drive.google.com/open?id=1r31ZryOtYWvKV1WrugXNQE0u4RU&usp=sharing \n*Sells Subject to Barry County Circuit Judge’s Approval of the High Bid*For more information please see the Bidder’s Packet. \nAuction will be held Live onsite along with Internet Bidding \n\nENTER ONLINE AUCTION\nRegister to Bid Online\nBidder Packet\nAuction Brochure\n2% Broker Participation Form\nOpen House Times\nTerms & Conditions\nAuction Photos: \n\n			\n				\n			\n			\n				\n			\n			\n				\n			\n			\n				\n			\n			\n				\n			\n			\n				\n			\n			\n				\n			\n			\n				\n			\n			\n				\n			\n			\n				\n			\n			\n				\n			\n			\n				\n			\n			\n				\n			\n			\n				\n			\n			\n				\n			\n			\n				\n			\n			\n				\n			\n			\n				\n			\n			\n				\n			\n			\n				\n			\n			\n				\n			\n			\n				\n			\n			\n				\n			\n			\n				\n			\n			\n				\n			\n			\n				\n			\n			\n				\n			\n			\n				\n			\n			\n				\n			\n			\n				\n			\n			\n				\n			\n			\n				\n			\n			\n				\n			\n			\n				\n			\n			\n				\n			\n			\n				\n			\n			\n				\n			\n			\n				\n			\n			\n				\n			\n			\n				\n			\n			\n				\n			\n			\n				\n			\n			\n				\n			\n			\n				\n			\n			\n				\n			\n			\n				\n			\n			\n				\n			\n			\n				\n			\n			\n				\n			\n			\n				\n			\n			\n				\n			\n			\n				\n			\n			\n				\n			\n			\n				\n			\n			\n				\n			\n			\n				\n			\n			\n				\n			\n			\n				\n			\n			\n				\n			\n			\n				\n			\n			\n				\n			\n			\n				\n			\n			\n				\n			\n			\n				\n			\n			\n				\n			\n			\n				\n			\n			\n				\n			\n			\n				\n			\n			\n				\n			\n			\n				\n			\n			\n				\n			\n			\n				\n			\n			\n				\n			\n			\n				\n			\n			\n				\n			\n			\n				\n			\n			\n				\n			\n			\n				\n			\n			\n				\n			\n			\n				\n			\n			\n				\n			\n			\n				\n			\n			\n				\n			\n			\n				\n			\n			\n				\n			\n			\n				\n			\n			\n				\n			\n			\n				\n			\n			\n				\n			\n			\n				\n			\n			\n				\n			\n			\n				\n			\n			\n				\n			\n			\n				\n			\n			\n				\n			\n			\n				\n			\n			\n				\n			\n			\n				\n			\n			\n				\n			\n			\n				\n			\n			\n				\n			\n			\n				\n			\n			\n				\n			\n		\n\nTERMS & CONDITIONS\nOpen House Times: \n\nSaturday April 8 10am-11:30am\nMonday April 17 10am-11:30 am\nWednesday April 26 1pm-auction time 3pm\n\nRegistration: \n\nOnsite registration begins at 2pm. Online bidders may register with Proxibid.com\n\nDeposit for Real Estate: \n\nA deposit of 10% is required at the auction. This deposit is NOT refundable if the buyer does not carry through with the purchase. Your bidding is not conditional upon financing\, so be sure you have arranged financing if needed and are capable of paying cash at the closing.\n\nConditions: \n\nThis auction will be governed by the contract for the sale of Real Estate (herein called the buy/sell). the following terms are a summary provided for the convenience of the bidder. The buy/sell is available in the bidder’s packet and should be reviewed prior to the auction. All properties sell “AS IS WHERE IS” with no warranties of any type expressed or implied as to the merchantibility\, usability\, fitness for a particular purpose\, or any matter whatsoever type or nature. Any improvements\, which must be made\, are the responsibility of the purchaser. All information advertised or stated was derived from sources believed correct but is not guaranteed. All property dimensions are only approximations. Buyers shall rely entirely on their own information\, judgement and inspection of the property and records. The real estate will be sold free and clear of all the liens. The property will however be sold subject to any easements and building and use restrictions of record. Sale is subject to an undisclosed reserve price. Sells Subject to approval of Barry County Circuit Court Judge. The auction company reserves the right to bid to protect the owner’s investment. Any announcements made at the auction site take precedence over printed material. Real Estate sells subject to secured creditors acceptance or rejection of high bid.\n\nClosing Terms: \n\nBalance of purchase price due at closing within 30 days. The seller will pay taxes and assessments due on or before the auction. Seller shall provide an owners title insurance policy in the amount of the purchase price. Closings will be held at a local title company. Closing fees of $450 will be divided evenly between the buyer and the seller.\n\nBroker’s Co-Op: \n\nA 2% Broker Co-Op will be offered. A Broker Co-Op form must be filled out and submitted 24 hours prior to the auction.\n\nBuyers Premium: \n\n$500\,000-999\,000 is 7%\n$1\,000\,000-1\,500\,000 is 6%\nGreater than 1.5 million is 5%\n\nDeposit: \n\nThe Buyer will need to deposit a total of 10% down of which $15\,000 must be in the form of a cashier’s check made payable to Miedema Auctioneering Inc. In order to receive a bidder number\, the bidder will need to present the $15\,000 cashier’s check to the auction staff.\n\nBuyers Note: \n\nIf you are the successful bidder\, you must go to the closing table to sign all the purchase agreements immediately following the conclusion of the auction. At that time your check will be endorsed as a nonrefundable deposit on the property. Individual purchases are to be considered as singular transactions\, not contingent on any other purchases of properties on the auction. The auction will be conducted at the sole discretion of the auctioneer and any bids may be recognized at their discretion.\n\nNew Data: \n\nNew data\, corrections\, or changes could be made after the printing of this brochure. Please arrive prior to the start of the auction to inspect and consider any new information and changes.\n\nBidders Packet: \n\nComplete Bidder’s packets\, including copies of the buy/sell agreements and more detailed information will be available at the open house or by calling to request a packet be mailed to you. Call Miedema Auctioneering for details at 1-800-LASTBID.\n\nAll written material is subject to change. Announcements made day of sale take precedence over printed material.
URL:https://www.miedemaauctioneering.com/auction-calendar/6-6-acres-home-gull-lake/
LOCATION:15694 Northwood Lane\, 15694 Northwood Lane\, Hickory Corners\, MI\, 49060\, United States
CATEGORIES:Live Real Estate Auction
ATTACH;FMTTYPE=image/jpeg:https://miedemaauctioneering.s3.amazonaws.com/wp-content/uploads/2017/03/07160153/IMG_1753edit.jpg
ORGANIZER;CN="Jordan%20Miedema%20%E2%80%93%20Auction%20Manager":MAILTO:jordan@1800lastbid.com
GEO:42.4255062;-85.4213241
X-APPLE-STRUCTURED-LOCATION;VALUE=URI;X-ADDRESS=15694 Northwood Lane 15694 Northwood Lane Hickory Corners MI 49060 United States;X-APPLE-RADIUS=500;X-TITLE=15694 Northwood Lane:geo:-85.4213241,42.4255062
END:VEVENT
BEGIN:VEVENT
DTSTART;TZID=America/Detroit:20161217T100000
DTEND;TZID=America/Detroit:20161217T170000
DTSTAMP:20260419T224508
CREATED:20160926T202614Z
LAST-MODIFIED:20200207T204644Z
UID:10000036-1481968800-1481994000@www.miedemaauctioneering.com
SUMMARY:DVD Enterprises Equipment Auction
DESCRIPTION:Live & Webcast Auction\nHaving discontinued farming\, we will be selling all farm equipment\, packing and processing equipment\, etc.\nHighlights include: \n\nCase IH MX135 MFWD with loader\nJD 333E Track skid steer\nCase mini excavator\nHydrocooler\nPortable 60 ton Evapco brand\nPixcell grain bean processing tables\nBrillion SS10 seeder\nInjection pumps\nEngines\nTrailers\nTrucks\nAnd Much More!\n\nEQUIPMENT CONSIGNMENTS ACCEPTED – CONTACT JORDAN MIEDEMA AT 616-460-8936 \n\nVIEW AUCTION RESULTS\nRegister to Bid Online\nAuction Catalog\nAuction Flyer\nAuction Brochure\nTERMS & CONDITIONS\n\nAuction Photos: \n\n			\n				\n			\n			\n				\n			\n			\n				\n			\n			\n				\n			\n			\n				\n			\n			\n				\n			\n			\n				\n			\n			\n				\n			\n			\n				\n			\n			\n				\n			\n			\n				\n			\n			\n				\n			\n			\n				\n			\n			\n				\n			\n			\n				\n			\n			\n				\n			\n			\n				\n			\n			\n				\n			\n			\n				\n			\n			\n				\n			\n			\n				\n			\n			\n				\n			\n			\n				\n			\n			\n				\n			\n			\n				\n			\n			\n				\n			\n			\n				\n			\n			\n				\n			\n			\n				\n			\n			\n				\n			\n			\n				\n			\n			\n				\n			\n			\n				\n			\n			\n				\n			\n			\n				\n			\n			\n				\n			\n			\n				\n			\n			\n				\n			\n			\n				\n			\n			\n				\n			\n			\n				\n			\n			\n				\n			\n			\n				\n			\n			\n				\n			\n			\n				\n			\n			\n				\n			\n			\n				\n			\n			\n				\n			\n			\n				\n			\n			\n				\n			\n			\n				\n			\n			\n				\n			\n		\n\n  \nTERMS & CONDITIONS\nRegistration \n\n9am at 45667 M-51\, Decatur\, MI 49045\n\nInspection \n\nFriday\, December 6 from 8am- 5pm\, and Auction Day beginning at 9am\n\nRemoval Times/Failure To Remove \n\nAuction day until 5pm\nOther Appointments Available by arrangement\n\nSales Tax \n\nAll items will be charged 6% Michigan State Sales Tax. Titled vehicles will be charged Michigan State Sales Tax\, unless you provide our office with a copy of a valid dealer’s license (NO EXCEPTIONS). For exemption from sales tax on agricultural items\, buyers will need to sign an agricultural exemption statement.\n\nBuyers of Titled Vehicles \n\nState regulations require that we broker all vehicles sold\, therefore you must sign your paperwork in the auction office. A $95 broker fee will be charged for paperwork. In addition\, a $15 title application fee will be collected for the state of Michigan (Dealers are exempt from the title application fee ONLY). Miedema Auctioneering will then process your title. If you wish to plate your vehicle there will be an additional fee. Proof of insurance will need to be provided for removal.\n\nTerms \n\nAll items sell “AS IS\, WHERE IS” with no warranty. There shall be no guarantees or warranties\, expressed or implied\, statutory or otherwise as to the merchantability or fitness for any particular purpose of any goods offered in this sale.\n\nBuyer’s Premium \n\nOnsite buyers: 3% with a 3% discount on Buyer’s Premium when invoice is paid with cash or check onsite\nProxibid buyers: 6% with a 3% discount on Buyer’s Premium when invoice is paid with cash\, check or wire transfer\n\nPayment \n\nAuction day by cash\, cashier’s check\, Visa\, Mastercard.\n3% Buyer’s Premium is added to the high bid. This 3% is waived if paid by cash or check. Personal checks will be accepted at the auction company’s discretion. Out-of-state checks MUST have a bank letter of credit GUARANTEEING payment to MIEDEMA AUCTIONEERING INC. for this auction and the amount of funds being guaranteed. See guarantee form HERE. All written material is subject to change.\n\nAll written material is subject to change. Announcements made day of sale take precedence over printed material.
URL:https://www.miedemaauctioneering.com/auction-calendar/dvd-enterprises-equipment-auction/
LOCATION:DVD Enterprises\, 45667 M-51\, Decatur\, MI\, 49045\, United States
CATEGORIES:Live and Online Webcast Auction
ATTACH;FMTTYPE=image/jpeg:https://miedemaauctioneering.s3.amazonaws.com/wp-content/uploads/2016/09/14100558/IMG_88071.jpg
ORGANIZER;CN="Jordan%20Miedema%20%E2%80%93%20Auction%20Manager":MAILTO:jordan@1800lastbid.com
GEO:42.1006359;-85.9894035
X-APPLE-STRUCTURED-LOCATION;VALUE=URI;X-ADDRESS=DVD Enterprises 45667 M-51 Decatur MI 49045 United States;X-APPLE-RADIUS=500;X-TITLE=45667 M-51:geo:-85.9894035,42.1006359
END:VEVENT
END:VCALENDAR